BEGIN:VCALENDAR
VERSION:2.0
PRODID:-//Lincoln Park Zoo - ECPv6.15.16.1//NONSGML v1.0//EN
CALSCALE:GREGORIAN
METHOD:PUBLISH
X-WR-CALNAME:Lincoln Park Zoo
X-ORIGINAL-URL:https://go.lpzoo.org
X-WR-CALDESC:Events for Lincoln Park Zoo
REFRESH-INTERVAL;VALUE=DURATION:PT1H
X-Robots-Tag:noindex
X-PUBLISHED-TTL:PT1H
BEGIN:VTIMEZONE
TZID:America/Chicago
BEGIN:DAYLIGHT
TZOFFSETFROM:-0600
TZOFFSETTO:-0500
TZNAME:CDT
DTSTART:20250309T080000
END:DAYLIGHT
BEGIN:STANDARD
TZOFFSETFROM:-0500
TZOFFSETTO:-0600
TZNAME:CST
DTSTART:20251102T070000
END:STANDARD
BEGIN:DAYLIGHT
TZOFFSETFROM:-0600
TZOFFSETTO:-0500
TZNAME:CDT
DTSTART:20260308T080000
END:DAYLIGHT
BEGIN:STANDARD
TZOFFSETFROM:-0500
TZOFFSETTO:-0600
TZNAME:CST
DTSTART:20261101T070000
END:STANDARD
BEGIN:DAYLIGHT
TZOFFSETFROM:-0600
TZOFFSETTO:-0500
TZNAME:CDT
DTSTART:20270314T080000
END:DAYLIGHT
BEGIN:STANDARD
TZOFFSETFROM:-0500
TZOFFSETTO:-0600
TZNAME:CST
DTSTART:20271107T070000
END:STANDARD
END:VTIMEZONE
BEGIN:VEVENT
DTSTART;TZID=America/Chicago:20260525T110000
DTEND;TZID=America/Chicago:20260525T110000
DTSTAMP:20260419T134628
CREATED:20260417T010356Z
LAST-MODIFIED:20260417T010356Z
UID:10041514-1779706800-1779706800@go.lpzoo.org
SUMMARY:Feed the Chickens
DESCRIPTION:
URL:https://go.lpzoo.org/event/feed-the-chickens/2026-05-25/
END:VEVENT
BEGIN:VEVENT
DTSTART;TZID=America/Chicago:20260526T110000
DTEND;TZID=America/Chicago:20260526T110000
DTSTAMP:20260419T134628
CREATED:20260417T010356Z
LAST-MODIFIED:20260417T010356Z
UID:10041515-1779793200-1779793200@go.lpzoo.org
SUMMARY:Feed the Chickens
DESCRIPTION:
URL:https://go.lpzoo.org/event/feed-the-chickens/2026-05-26/
END:VEVENT
BEGIN:VEVENT
DTSTART;TZID=America/Chicago:20260527T110000
DTEND;TZID=America/Chicago:20260527T110000
DTSTAMP:20260419T134628
CREATED:20260417T010356Z
LAST-MODIFIED:20260417T010356Z
UID:10041516-1779879600-1779879600@go.lpzoo.org
SUMMARY:Feed the Chickens
DESCRIPTION:
URL:https://go.lpzoo.org/event/feed-the-chickens/2026-05-27/
END:VEVENT
BEGIN:VEVENT
DTSTART;TZID=America/Chicago:20260528T110000
DTEND;TZID=America/Chicago:20260528T110000
DTSTAMP:20260419T134628
CREATED:20260417T010356Z
LAST-MODIFIED:20260417T010356Z
UID:10041517-1779966000-1779966000@go.lpzoo.org
SUMMARY:Feed the Chickens
DESCRIPTION:
URL:https://go.lpzoo.org/event/feed-the-chickens/2026-05-28/
END:VEVENT
BEGIN:VEVENT
DTSTART;TZID=America/Chicago:20260529T110000
DTEND;TZID=America/Chicago:20260529T110000
DTSTAMP:20260419T134628
CREATED:20260417T010356Z
LAST-MODIFIED:20260417T010356Z
UID:10041518-1780052400-1780052400@go.lpzoo.org
SUMMARY:Feed the Chickens
DESCRIPTION:
URL:https://go.lpzoo.org/event/feed-the-chickens/2026-05-29/
END:VEVENT
BEGIN:VEVENT
DTSTART;TZID=America/Chicago:20260530T110000
DTEND;TZID=America/Chicago:20260530T110000
DTSTAMP:20260419T134628
CREATED:20260417T010356Z
LAST-MODIFIED:20260417T010356Z
UID:10041519-1780138800-1780138800@go.lpzoo.org
SUMMARY:Feed the Chickens
DESCRIPTION:
URL:https://go.lpzoo.org/event/feed-the-chickens/2026-05-30/
END:VEVENT
BEGIN:VEVENT
DTSTART;TZID=America/Chicago:20260531T110000
DTEND;TZID=America/Chicago:20260531T110000
DTSTAMP:20260419T134628
CREATED:20260417T010356Z
LAST-MODIFIED:20260417T010356Z
UID:10041520-1780225200-1780225200@go.lpzoo.org
SUMMARY:Feed the Chickens
DESCRIPTION:
URL:https://go.lpzoo.org/event/feed-the-chickens/2026-05-31/
END:VEVENT
BEGIN:VEVENT
DTSTART;TZID=America/Chicago:20260601T110000
DTEND;TZID=America/Chicago:20260601T110000
DTSTAMP:20260419T134628
CREATED:20260417T010356Z
LAST-MODIFIED:20260417T010356Z
UID:10041521-1780311600-1780311600@go.lpzoo.org
SUMMARY:Feed the Chickens
DESCRIPTION:
URL:https://go.lpzoo.org/event/feed-the-chickens/2026-06-01/
END:VEVENT
BEGIN:VEVENT
DTSTART;TZID=America/Chicago:20260602T110000
DTEND;TZID=America/Chicago:20260602T110000
DTSTAMP:20260419T134628
CREATED:20260417T010356Z
LAST-MODIFIED:20260417T010356Z
UID:10041522-1780398000-1780398000@go.lpzoo.org
SUMMARY:Feed the Chickens
DESCRIPTION:
URL:https://go.lpzoo.org/event/feed-the-chickens/2026-06-02/
END:VEVENT
BEGIN:VEVENT
DTSTART;TZID=America/Chicago:20260603T110000
DTEND;TZID=America/Chicago:20260603T110000
DTSTAMP:20260419T134628
CREATED:20260417T010356Z
LAST-MODIFIED:20260417T010356Z
UID:10041523-1780484400-1780484400@go.lpzoo.org
SUMMARY:Feed the Chickens
DESCRIPTION:
URL:https://go.lpzoo.org/event/feed-the-chickens/2026-06-03/
END:VEVENT
BEGIN:VEVENT
DTSTART;TZID=America/Chicago:20260604T110000
DTEND;TZID=America/Chicago:20260604T110000
DTSTAMP:20260419T134628
CREATED:20260417T010356Z
LAST-MODIFIED:20260417T010356Z
UID:10041524-1780570800-1780570800@go.lpzoo.org
SUMMARY:Feed the Chickens
DESCRIPTION:
URL:https://go.lpzoo.org/event/feed-the-chickens/2026-06-04/
END:VEVENT
BEGIN:VEVENT
DTSTART;TZID=America/Chicago:20260605T110000
DTEND;TZID=America/Chicago:20260605T110000
DTSTAMP:20260419T134628
CREATED:20260417T010356Z
LAST-MODIFIED:20260417T010356Z
UID:10041525-1780657200-1780657200@go.lpzoo.org
SUMMARY:Feed the Chickens
DESCRIPTION:
URL:https://go.lpzoo.org/event/feed-the-chickens/2026-06-05/
END:VEVENT
BEGIN:VEVENT
DTSTART;TZID=America/Chicago:20260606T110000
DTEND;TZID=America/Chicago:20260606T110000
DTSTAMP:20260419T134628
CREATED:20260417T010356Z
LAST-MODIFIED:20260417T010356Z
UID:10041526-1780743600-1780743600@go.lpzoo.org
SUMMARY:Feed the Chickens
DESCRIPTION:
URL:https://go.lpzoo.org/event/feed-the-chickens/2026-06-06/
END:VEVENT
BEGIN:VEVENT
DTSTART;TZID=America/Chicago:20260607T110000
DTEND;TZID=America/Chicago:20260607T110000
DTSTAMP:20260419T134628
CREATED:20260417T010356Z
LAST-MODIFIED:20260417T010356Z
UID:10041527-1780830000-1780830000@go.lpzoo.org
SUMMARY:Feed the Chickens
DESCRIPTION:
URL:https://go.lpzoo.org/event/feed-the-chickens/2026-06-07/
END:VEVENT
BEGIN:VEVENT
DTSTART;TZID=America/Chicago:20260608T110000
DTEND;TZID=America/Chicago:20260608T110000
DTSTAMP:20260419T134628
CREATED:20260417T010356Z
LAST-MODIFIED:20260417T010356Z
UID:10041528-1780916400-1780916400@go.lpzoo.org
SUMMARY:Feed the Chickens
DESCRIPTION:
URL:https://go.lpzoo.org/event/feed-the-chickens/2026-06-08/
END:VEVENT
BEGIN:VEVENT
DTSTART;TZID=America/Chicago:20260609T110000
DTEND;TZID=America/Chicago:20260609T110000
DTSTAMP:20260419T134628
CREATED:20260417T010356Z
LAST-MODIFIED:20260417T010356Z
UID:10041529-1781002800-1781002800@go.lpzoo.org
SUMMARY:Feed the Chickens
DESCRIPTION:
URL:https://go.lpzoo.org/event/feed-the-chickens/2026-06-09/
END:VEVENT
BEGIN:VEVENT
DTSTART;TZID=America/Chicago:20260610T110000
DTEND;TZID=America/Chicago:20260610T110000
DTSTAMP:20260419T134628
CREATED:20260417T010356Z
LAST-MODIFIED:20260417T010356Z
UID:10041530-1781089200-1781089200@go.lpzoo.org
SUMMARY:Feed the Chickens
DESCRIPTION:
URL:https://go.lpzoo.org/event/feed-the-chickens/2026-06-10/
END:VEVENT
BEGIN:VEVENT
DTSTART;TZID=America/Chicago:20260611T110000
DTEND;TZID=America/Chicago:20260611T110000
DTSTAMP:20260419T134628
CREATED:20260417T010356Z
LAST-MODIFIED:20260417T010356Z
UID:10041531-1781175600-1781175600@go.lpzoo.org
SUMMARY:Feed the Chickens
DESCRIPTION:
URL:https://go.lpzoo.org/event/feed-the-chickens/2026-06-11/
END:VEVENT
BEGIN:VEVENT
DTSTART;TZID=America/Chicago:20260612T110000
DTEND;TZID=America/Chicago:20260612T110000
DTSTAMP:20260419T134628
CREATED:20260417T010356Z
LAST-MODIFIED:20260417T010356Z
UID:10041532-1781262000-1781262000@go.lpzoo.org
SUMMARY:Feed the Chickens
DESCRIPTION:
URL:https://go.lpzoo.org/event/feed-the-chickens/2026-06-12/
END:VEVENT
BEGIN:VEVENT
DTSTART;TZID=America/Chicago:20260613T110000
DTEND;TZID=America/Chicago:20260613T110000
DTSTAMP:20260419T134628
CREATED:20260417T010356Z
LAST-MODIFIED:20260417T010356Z
UID:10041533-1781348400-1781348400@go.lpzoo.org
SUMMARY:Feed the Chickens
DESCRIPTION:
URL:https://go.lpzoo.org/event/feed-the-chickens/2026-06-13/
END:VEVENT
BEGIN:VEVENT
DTSTART;TZID=America/Chicago:20260614T110000
DTEND;TZID=America/Chicago:20260614T110000
DTSTAMP:20260419T134628
CREATED:20260417T010356Z
LAST-MODIFIED:20260417T010356Z
UID:10041534-1781434800-1781434800@go.lpzoo.org
SUMMARY:Feed the Chickens
DESCRIPTION:
URL:https://go.lpzoo.org/event/feed-the-chickens/2026-06-14/
END:VEVENT
BEGIN:VEVENT
DTSTART;TZID=America/Chicago:20260615T110000
DTEND;TZID=America/Chicago:20260615T110000
DTSTAMP:20260419T134628
CREATED:20260417T010356Z
LAST-MODIFIED:20260417T010356Z
UID:10041535-1781521200-1781521200@go.lpzoo.org
SUMMARY:Feed the Chickens
DESCRIPTION:
URL:https://go.lpzoo.org/event/feed-the-chickens/2026-06-15/
END:VEVENT
BEGIN:VEVENT
DTSTART;TZID=America/Chicago:20260616T110000
DTEND;TZID=America/Chicago:20260616T110000
DTSTAMP:20260419T134628
CREATED:20260417T010356Z
LAST-MODIFIED:20260417T010356Z
UID:10041536-1781607600-1781607600@go.lpzoo.org
SUMMARY:Feed the Chickens
DESCRIPTION:
URL:https://go.lpzoo.org/event/feed-the-chickens/2026-06-16/
END:VEVENT
BEGIN:VEVENT
DTSTART;TZID=America/Chicago:20260617T110000
DTEND;TZID=America/Chicago:20260617T110000
DTSTAMP:20260419T134628
CREATED:20260417T010356Z
LAST-MODIFIED:20260417T010356Z
UID:10041537-1781694000-1781694000@go.lpzoo.org
SUMMARY:Feed the Chickens
DESCRIPTION:
URL:https://go.lpzoo.org/event/feed-the-chickens/2026-06-17/
END:VEVENT
BEGIN:VEVENT
DTSTART;TZID=America/Chicago:20260618T110000
DTEND;TZID=America/Chicago:20260618T110000
DTSTAMP:20260419T134628
CREATED:20260417T010356Z
LAST-MODIFIED:20260417T010356Z
UID:10041538-1781780400-1781780400@go.lpzoo.org
SUMMARY:Feed the Chickens
DESCRIPTION:
URL:https://go.lpzoo.org/event/feed-the-chickens/2026-06-18/
END:VEVENT
BEGIN:VEVENT
DTSTART;TZID=America/Chicago:20260619T110000
DTEND;TZID=America/Chicago:20260619T110000
DTSTAMP:20260419T134628
CREATED:20260417T010356Z
LAST-MODIFIED:20260417T010356Z
UID:10041539-1781866800-1781866800@go.lpzoo.org
SUMMARY:Feed the Chickens
DESCRIPTION:
URL:https://go.lpzoo.org/event/feed-the-chickens/2026-06-19/
END:VEVENT
BEGIN:VEVENT
DTSTART;TZID=America/Chicago:20260620T110000
DTEND;TZID=America/Chicago:20260620T110000
DTSTAMP:20260419T134628
CREATED:20260417T010356Z
LAST-MODIFIED:20260417T010356Z
UID:10041540-1781953200-1781953200@go.lpzoo.org
SUMMARY:Feed the Chickens
DESCRIPTION:
URL:https://go.lpzoo.org/event/feed-the-chickens/2026-06-20/
END:VEVENT
BEGIN:VEVENT
DTSTART;TZID=America/Chicago:20260621T110000
DTEND;TZID=America/Chicago:20260621T110000
DTSTAMP:20260419T134628
CREATED:20260417T010356Z
LAST-MODIFIED:20260417T010356Z
UID:10041541-1782039600-1782039600@go.lpzoo.org
SUMMARY:Feed the Chickens
DESCRIPTION:
URL:https://go.lpzoo.org/event/feed-the-chickens/2026-06-21/
END:VEVENT
BEGIN:VEVENT
DTSTART;TZID=America/Chicago:20260622T110000
DTEND;TZID=America/Chicago:20260622T110000
DTSTAMP:20260419T134628
CREATED:20260417T010356Z
LAST-MODIFIED:20260417T010356Z
UID:10041542-1782126000-1782126000@go.lpzoo.org
SUMMARY:Feed the Chickens
DESCRIPTION:
URL:https://go.lpzoo.org/event/feed-the-chickens/2026-06-22/
END:VEVENT
BEGIN:VEVENT
DTSTART;TZID=America/Chicago:20260623T110000
DTEND;TZID=America/Chicago:20260623T110000
DTSTAMP:20260419T134628
CREATED:20260417T010356Z
LAST-MODIFIED:20260417T010356Z
UID:10041543-1782212400-1782212400@go.lpzoo.org
SUMMARY:Feed the Chickens
DESCRIPTION:
URL:https://go.lpzoo.org/event/feed-the-chickens/2026-06-23/
END:VEVENT
END:VCALENDAR