BEGIN:VCALENDAR
VERSION:2.0
PRODID:-//Lincoln Park Zoo - ECPv6.15.16.1//NONSGML v1.0//EN
CALSCALE:GREGORIAN
METHOD:PUBLISH
X-ORIGINAL-URL:https://go.lpzoo.org
X-WR-CALDESC:Events for Lincoln Park Zoo
REFRESH-INTERVAL;VALUE=DURATION:PT1H
X-Robots-Tag:noindex
X-PUBLISHED-TTL:PT1H
BEGIN:VTIMEZONE
TZID:America/Chicago
BEGIN:DAYLIGHT
TZOFFSETFROM:-0600
TZOFFSETTO:-0500
TZNAME:CDT
DTSTART:20250309T080000
END:DAYLIGHT
BEGIN:STANDARD
TZOFFSETFROM:-0500
TZOFFSETTO:-0600
TZNAME:CST
DTSTART:20251102T070000
END:STANDARD
BEGIN:DAYLIGHT
TZOFFSETFROM:-0600
TZOFFSETTO:-0500
TZNAME:CDT
DTSTART:20260308T080000
END:DAYLIGHT
BEGIN:STANDARD
TZOFFSETFROM:-0500
TZOFFSETTO:-0600
TZNAME:CST
DTSTART:20261101T070000
END:STANDARD
BEGIN:DAYLIGHT
TZOFFSETFROM:-0600
TZOFFSETTO:-0500
TZNAME:CDT
DTSTART:20270314T080000
END:DAYLIGHT
BEGIN:STANDARD
TZOFFSETFROM:-0500
TZOFFSETTO:-0600
TZNAME:CST
DTSTART:20271107T070000
END:STANDARD
END:VTIMEZONE
BEGIN:VEVENT
DTSTART;TZID=America/Chicago:20261022T113000
DTEND;TZID=America/Chicago:20261022T234000
DTSTAMP:20260421T002619
CREATED:20250125T035626Z
LAST-MODIFIED:20260126T152259Z
UID:10008506-1792668600-1792712400@go.lpzoo.org
SUMMARY:Seal Training and Feeding
DESCRIPTION:
URL:https://go.lpzoo.org/event/seal-training-and-feeding-2/2026-10-22/
ATTACH;FMTTYPE=image/jpeg:https://go.lpzoo.org/wp-content/uploads/2025/01/grey_seal_s1_800x450.jpg
END:VEVENT
BEGIN:VEVENT
DTSTART;TZID=America/Chicago:20261022T113000
DTEND;TZID=America/Chicago:20261022T233000
DTSTAMP:20260421T002619
CREATED:20260417T010559Z
LAST-MODIFIED:20260417T010928Z
UID:10042135-1792668600-1792711800@go.lpzoo.org
SUMMARY:Feed the Cows
DESCRIPTION:
URL:https://go.lpzoo.org/event/feed-the-cows/2026-10-22/
ATTACH;FMTTYPE=image/jpeg:https://go.lpzoo.org/wp-content/uploads/2025/05/cow-800x450-1.jpg
END:VEVENT
BEGIN:VEVENT
DTSTART;TZID=America/Chicago:20261022T110000
DTEND;TZID=America/Chicago:20261022T110000
DTSTAMP:20260421T002619
CREATED:20260417T010356Z
LAST-MODIFIED:20260417T010356Z
UID:10041664-1792666800-1792666800@go.lpzoo.org
SUMMARY:Feed the Chickens
DESCRIPTION:
URL:https://go.lpzoo.org/event/feed-the-chickens/2026-10-22/
END:VEVENT
BEGIN:VEVENT
DTSTART;TZID=America/Chicago:20261022T100000
DTEND;TZID=America/Chicago:20261022T223000
DTSTAMP:20260421T002619
CREATED:20250501T142454Z
LAST-MODIFIED:20250501T142454Z
UID:10006558-1792663200-1792708200@go.lpzoo.org
SUMMARY:Buildings open
DESCRIPTION:Buildings open
URL:https://go.lpzoo.org/event/gates-buildings-and-farm-in-the-zoo-open-2-2/2026-10-22/
CATEGORIES:Notice
END:VEVENT
BEGIN:VEVENT
DTSTART;TZID=America/Chicago:20261022T100000
DTEND;TZID=America/Chicago:20261022T103000
DTSTAMP:20260421T002619
CREATED:20251105T160455Z
LAST-MODIFIED:20251105T160456Z
UID:10034118-1792663200-1792665000@go.lpzoo.org
SUMMARY:Gates and Farm-in-the-Zoo Open
DESCRIPTION:Gates and Farm-in-the-Zoo Open
URL:https://go.lpzoo.org/event/gates-and-farm-in-the-zoo-open-2/2026-10-22/
CATEGORIES:Notice
END:VEVENT
BEGIN:VEVENT
DTSTART;TZID=America/Chicago:20261021T170000
DTEND;TZID=America/Chicago:20261021T170000
DTSTAMP:20260421T002619
CREATED:20251119T223141Z
LAST-MODIFIED:20260105T155117Z
UID:10038673-1792602000-1792602000@go.lpzoo.org
SUMMARY:Gates close
DESCRIPTION:Gates close
URL:https://go.lpzoo.org/event/gates-close-3/2026-10-21/
CATEGORIES:Notice
END:VEVENT
BEGIN:VEVENT
DTSTART;TZID=America/Chicago:20261021T143000
DTEND;TZID=America/Chicago:20261021T144000
DTSTAMP:20260421T002619
CREATED:20250305T201420Z
LAST-MODIFIED:20260129T214512Z
UID:10012239-1792593000-1792593600@go.lpzoo.org
SUMMARY:Seal Training and Feeding
DESCRIPTION:
URL:https://go.lpzoo.org/event/seal-training-and-feeding/2026-10-21/
ATTACH;FMTTYPE=image/jpeg:https://go.lpzoo.org/wp-content/uploads/2025/01/grey_seal_s1_800x450.jpg
END:VEVENT
BEGIN:VEVENT
DTSTART;TZID=America/Chicago:20261021T140000
DTEND;TZID=America/Chicago:20261021T140000
DTSTAMP:20260421T002619
CREATED:20260417T010815Z
LAST-MODIFIED:20260417T010815Z
UID:10042605-1792591200-1792591200@go.lpzoo.org
SUMMARY:Feed the Cow
DESCRIPTION:
URL:https://go.lpzoo.org/event/feed-the-cow/2026-10-21/
ATTACH;FMTTYPE=image/jpeg:https://go.lpzoo.org/wp-content/uploads/2025/05/cow-800x450-1.jpg
END:VEVENT
BEGIN:VEVENT
DTSTART;TZID=America/Chicago:20261021T140000
DTEND;TZID=America/Chicago:20261021T140000
DTSTAMP:20260421T002619
CREATED:20260417T005447Z
LAST-MODIFIED:20260417T005447Z
UID:10040768-1792591200-1792591200@go.lpzoo.org
SUMMARY:Penguin Feeding
DESCRIPTION:
URL:https://go.lpzoo.org/event/penguin-feeding/2026-10-21/
ATTACH;FMTTYPE=image/jpeg:https://go.lpzoo.org/wp-content/uploads/2024/03/african_penguin_m_800x200.jpg
END:VEVENT
BEGIN:VEVENT
DTSTART;TZID=America/Chicago:20261021T134500
DTEND;TZID=America/Chicago:20261021T134500
DTSTAMP:20260421T002619
CREATED:20260417T010107Z
LAST-MODIFIED:20260417T010107Z
UID:10041468-1792590300-1792590300@go.lpzoo.org
SUMMARY:Giraffe Training
DESCRIPTION:
URL:https://go.lpzoo.org/event/giraffe-training/2026-10-21/
ATTACH;FMTTYPE=image/jpeg:https://go.lpzoo.org/wp-content/uploads/2024/03/giraffe_m_800x200.jpg
END:VEVENT
BEGIN:VEVENT
DTSTART;TZID=America/Chicago:20261021T130000
DTEND;TZID=America/Chicago:20261021T131000
DTSTAMP:20260421T002619
CREATED:20250305T204001Z
LAST-MODIFIED:20260129T214312Z
UID:10014082-1792587600-1792588200@go.lpzoo.org
SUMMARY:Ape Cognition & Care
DESCRIPTION:
URL:https://go.lpzoo.org/event/ape-cognition-care/2026-10-21/
ATTACH;FMTTYPE=image/png:https://go.lpzoo.org/wp-content/uploads/2025/03/Chimp-photo-800x300-1.png
END:VEVENT
BEGIN:VEVENT
DTSTART;TZID=America/Chicago:20261021T114500
DTEND;TZID=America/Chicago:20261021T120000
DTSTAMP:20260421T002619
CREATED:20251103T201241Z
LAST-MODIFIED:20260318T153805Z
UID:10032716-1792583100-1792584000@go.lpzoo.org
SUMMARY:Monkey Cognition 
DESCRIPTION:
URL:https://go.lpzoo.org/event/monkey-cognition-2/2026-10-21/
ATTACH;FMTTYPE=image/jpeg:https://go.lpzoo.org/wp-content/uploads/2025/04/Macacque-800x300-1.jpg
END:VEVENT
BEGIN:VEVENT
DTSTART;TZID=America/Chicago:20261021T113000
DTEND;TZID=America/Chicago:20261021T234000
DTSTAMP:20260421T002619
CREATED:20250125T035626Z
LAST-MODIFIED:20260126T152259Z
UID:10008505-1792582200-1792626000@go.lpzoo.org
SUMMARY:Seal Training and Feeding
DESCRIPTION:
URL:https://go.lpzoo.org/event/seal-training-and-feeding-2/2026-10-21/
ATTACH;FMTTYPE=image/jpeg:https://go.lpzoo.org/wp-content/uploads/2025/01/grey_seal_s1_800x450.jpg
END:VEVENT
BEGIN:VEVENT
DTSTART;TZID=America/Chicago:20261021T113000
DTEND;TZID=America/Chicago:20261021T233000
DTSTAMP:20260421T002619
CREATED:20260417T010559Z
LAST-MODIFIED:20260417T010928Z
UID:10042134-1792582200-1792625400@go.lpzoo.org
SUMMARY:Feed the Cows
DESCRIPTION:
URL:https://go.lpzoo.org/event/feed-the-cows/2026-10-21/
ATTACH;FMTTYPE=image/jpeg:https://go.lpzoo.org/wp-content/uploads/2025/05/cow-800x450-1.jpg
END:VEVENT
BEGIN:VEVENT
DTSTART;TZID=America/Chicago:20261021T110000
DTEND;TZID=America/Chicago:20261021T231000
DTSTAMP:20260421T002619
CREATED:20260417T005654Z
LAST-MODIFIED:20260417T005654Z
UID:10041200-1792580400-1792624200@go.lpzoo.org
SUMMARY:Jamaican Iguana Care
DESCRIPTION:
URL:https://go.lpzoo.org/event/jamaican-iguana-care-2-2/2026-10-21/
ATTACH;FMTTYPE=image/jpeg:https://go.lpzoo.org/wp-content/uploads/2025/01/jamaican_iguana_s1_800x450.jpg
END:VEVENT
BEGIN:VEVENT
DTSTART;TZID=America/Chicago:20261021T110000
DTEND;TZID=America/Chicago:20261021T110000
DTSTAMP:20260421T002619
CREATED:20260417T010356Z
LAST-MODIFIED:20260417T010356Z
UID:10041663-1792580400-1792580400@go.lpzoo.org
SUMMARY:Feed the Chickens
DESCRIPTION:
URL:https://go.lpzoo.org/event/feed-the-chickens/2026-10-21/
END:VEVENT
BEGIN:VEVENT
DTSTART;TZID=America/Chicago:20261021T100000
DTEND;TZID=America/Chicago:20261021T223000
DTSTAMP:20260421T002619
CREATED:20250501T142454Z
LAST-MODIFIED:20250501T142454Z
UID:10006557-1792576800-1792621800@go.lpzoo.org
SUMMARY:Buildings open
DESCRIPTION:Buildings open
URL:https://go.lpzoo.org/event/gates-buildings-and-farm-in-the-zoo-open-2-2/2026-10-21/
CATEGORIES:Notice
END:VEVENT
BEGIN:VEVENT
DTSTART;TZID=America/Chicago:20261021T100000
DTEND;TZID=America/Chicago:20261021T103000
DTSTAMP:20260421T002619
CREATED:20251105T160455Z
LAST-MODIFIED:20251105T160456Z
UID:10034117-1792576800-1792578600@go.lpzoo.org
SUMMARY:Gates and Farm-in-the-Zoo Open
DESCRIPTION:Gates and Farm-in-the-Zoo Open
URL:https://go.lpzoo.org/event/gates-and-farm-in-the-zoo-open-2/2026-10-21/
CATEGORIES:Notice
END:VEVENT
BEGIN:VEVENT
DTSTART;TZID=America/Chicago:20261020T170000
DTEND;TZID=America/Chicago:20261020T170000
DTSTAMP:20260421T002619
CREATED:20251119T223141Z
LAST-MODIFIED:20260105T155117Z
UID:10038672-1792515600-1792515600@go.lpzoo.org
SUMMARY:Gates close
DESCRIPTION:Gates close
URL:https://go.lpzoo.org/event/gates-close-3/2026-10-20/
CATEGORIES:Notice
END:VEVENT
BEGIN:VEVENT
DTSTART;TZID=America/Chicago:20261020T143000
DTEND;TZID=America/Chicago:20261020T144000
DTSTAMP:20260421T002619
CREATED:20250305T201420Z
LAST-MODIFIED:20260129T214512Z
UID:10012238-1792506600-1792507200@go.lpzoo.org
SUMMARY:Seal Training and Feeding
DESCRIPTION:
URL:https://go.lpzoo.org/event/seal-training-and-feeding/2026-10-20/
ATTACH;FMTTYPE=image/jpeg:https://go.lpzoo.org/wp-content/uploads/2025/01/grey_seal_s1_800x450.jpg
END:VEVENT
BEGIN:VEVENT
DTSTART;TZID=America/Chicago:20261020T140000
DTEND;TZID=America/Chicago:20261020T140000
DTSTAMP:20260421T002619
CREATED:20260417T010815Z
LAST-MODIFIED:20260417T010815Z
UID:10042604-1792504800-1792504800@go.lpzoo.org
SUMMARY:Feed the Cow
DESCRIPTION:
URL:https://go.lpzoo.org/event/feed-the-cow/2026-10-20/
ATTACH;FMTTYPE=image/jpeg:https://go.lpzoo.org/wp-content/uploads/2025/05/cow-800x450-1.jpg
END:VEVENT
BEGIN:VEVENT
DTSTART;TZID=America/Chicago:20261020T140000
DTEND;TZID=America/Chicago:20261020T140000
DTSTAMP:20260421T002619
CREATED:20260417T005447Z
LAST-MODIFIED:20260417T005447Z
UID:10040767-1792504800-1792504800@go.lpzoo.org
SUMMARY:Penguin Feeding
DESCRIPTION:
URL:https://go.lpzoo.org/event/penguin-feeding/2026-10-20/
ATTACH;FMTTYPE=image/jpeg:https://go.lpzoo.org/wp-content/uploads/2024/03/african_penguin_m_800x200.jpg
END:VEVENT
BEGIN:VEVENT
DTSTART;TZID=America/Chicago:20261020T130000
DTEND;TZID=America/Chicago:20261020T131000
DTSTAMP:20260421T002619
CREATED:20250305T204001Z
LAST-MODIFIED:20260129T214312Z
UID:10014081-1792501200-1792501800@go.lpzoo.org
SUMMARY:Ape Cognition & Care
DESCRIPTION:
URL:https://go.lpzoo.org/event/ape-cognition-care/2026-10-20/
ATTACH;FMTTYPE=image/png:https://go.lpzoo.org/wp-content/uploads/2025/03/Chimp-photo-800x300-1.png
END:VEVENT
BEGIN:VEVENT
DTSTART;TZID=America/Chicago:20261020T114500
DTEND;TZID=America/Chicago:20261020T120000
DTSTAMP:20260421T002619
CREATED:20251103T201241Z
LAST-MODIFIED:20260318T153805Z
UID:10032715-1792496700-1792497600@go.lpzoo.org
SUMMARY:Monkey Cognition 
DESCRIPTION:
URL:https://go.lpzoo.org/event/monkey-cognition-2/2026-10-20/
ATTACH;FMTTYPE=image/jpeg:https://go.lpzoo.org/wp-content/uploads/2025/04/Macacque-800x300-1.jpg
END:VEVENT
BEGIN:VEVENT
DTSTART;TZID=America/Chicago:20261020T113000
DTEND;TZID=America/Chicago:20261020T234000
DTSTAMP:20260421T002619
CREATED:20250125T035626Z
LAST-MODIFIED:20260126T152259Z
UID:10008504-1792495800-1792539600@go.lpzoo.org
SUMMARY:Seal Training and Feeding
DESCRIPTION:
URL:https://go.lpzoo.org/event/seal-training-and-feeding-2/2026-10-20/
ATTACH;FMTTYPE=image/jpeg:https://go.lpzoo.org/wp-content/uploads/2025/01/grey_seal_s1_800x450.jpg
END:VEVENT
BEGIN:VEVENT
DTSTART;TZID=America/Chicago:20261020T113000
DTEND;TZID=America/Chicago:20261020T233000
DTSTAMP:20260421T002619
CREATED:20260417T010559Z
LAST-MODIFIED:20260417T010928Z
UID:10042133-1792495800-1792539000@go.lpzoo.org
SUMMARY:Feed the Cows
DESCRIPTION:
URL:https://go.lpzoo.org/event/feed-the-cows/2026-10-20/
ATTACH;FMTTYPE=image/jpeg:https://go.lpzoo.org/wp-content/uploads/2025/05/cow-800x450-1.jpg
END:VEVENT
BEGIN:VEVENT
DTSTART;TZID=America/Chicago:20261020T110000
DTEND;TZID=America/Chicago:20261020T110000
DTSTAMP:20260421T002619
CREATED:20260417T010356Z
LAST-MODIFIED:20260417T010356Z
UID:10041662-1792494000-1792494000@go.lpzoo.org
SUMMARY:Feed the Chickens
DESCRIPTION:
URL:https://go.lpzoo.org/event/feed-the-chickens/2026-10-20/
END:VEVENT
BEGIN:VEVENT
DTSTART;TZID=America/Chicago:20261020T100000
DTEND;TZID=America/Chicago:20261020T223000
DTSTAMP:20260421T002619
CREATED:20250501T142454Z
LAST-MODIFIED:20250501T142454Z
UID:10006556-1792490400-1792535400@go.lpzoo.org
SUMMARY:Buildings open
DESCRIPTION:Buildings open
URL:https://go.lpzoo.org/event/gates-buildings-and-farm-in-the-zoo-open-2-2/2026-10-20/
CATEGORIES:Notice
END:VEVENT
BEGIN:VEVENT
DTSTART;TZID=America/Chicago:20261020T100000
DTEND;TZID=America/Chicago:20261020T103000
DTSTAMP:20260421T002619
CREATED:20251105T160455Z
LAST-MODIFIED:20251105T160456Z
UID:10034116-1792490400-1792492200@go.lpzoo.org
SUMMARY:Gates and Farm-in-the-Zoo Open
DESCRIPTION:Gates and Farm-in-the-Zoo Open
URL:https://go.lpzoo.org/event/gates-and-farm-in-the-zoo-open-2/2026-10-20/
CATEGORIES:Notice
END:VEVENT
BEGIN:VEVENT
DTSTART;TZID=America/Chicago:20261019T170000
DTEND;TZID=America/Chicago:20261019T170000
DTSTAMP:20260421T002619
CREATED:20251119T223141Z
LAST-MODIFIED:20260105T155117Z
UID:10038671-1792429200-1792429200@go.lpzoo.org
SUMMARY:Gates close
DESCRIPTION:Gates close
URL:https://go.lpzoo.org/event/gates-close-3/2026-10-19/
CATEGORIES:Notice
END:VEVENT
END:VCALENDAR