BEGIN:VCALENDAR
VERSION:2.0
PRODID:-//Lincoln Park Zoo - ECPv6.15.16.1//NONSGML v1.0//EN
CALSCALE:GREGORIAN
METHOD:PUBLISH
X-WR-CALNAME:Lincoln Park Zoo
X-ORIGINAL-URL:https://go.lpzoo.org
X-WR-CALDESC:Events for Lincoln Park Zoo
REFRESH-INTERVAL;VALUE=DURATION:PT1H
X-Robots-Tag:noindex
X-PUBLISHED-TTL:PT1H
BEGIN:VTIMEZONE
TZID:America/Chicago
BEGIN:DAYLIGHT
TZOFFSETFROM:-0600
TZOFFSETTO:-0500
TZNAME:CDT
DTSTART:20250309T080000
END:DAYLIGHT
BEGIN:STANDARD
TZOFFSETFROM:-0500
TZOFFSETTO:-0600
TZNAME:CST
DTSTART:20251102T070000
END:STANDARD
BEGIN:DAYLIGHT
TZOFFSETFROM:-0600
TZOFFSETTO:-0500
TZNAME:CDT
DTSTART:20260308T080000
END:DAYLIGHT
BEGIN:STANDARD
TZOFFSETFROM:-0500
TZOFFSETTO:-0600
TZNAME:CST
DTSTART:20261101T070000
END:STANDARD
BEGIN:DAYLIGHT
TZOFFSETFROM:-0600
TZOFFSETTO:-0500
TZNAME:CDT
DTSTART:20270314T080000
END:DAYLIGHT
BEGIN:STANDARD
TZOFFSETFROM:-0500
TZOFFSETTO:-0600
TZNAME:CST
DTSTART:20271107T070000
END:STANDARD
END:VTIMEZONE
BEGIN:VEVENT
DTSTART;TZID=America/Chicago:20261010T110000
DTEND;TZID=America/Chicago:20261010T110000
DTSTAMP:20260423T043623
CREATED:20260417T010356Z
LAST-MODIFIED:20260417T010356Z
UID:10041652-1791630000-1791630000@go.lpzoo.org
SUMMARY:Feed the Chickens
DESCRIPTION:
URL:https://go.lpzoo.org/event/feed-the-chickens/2026-10-10/
END:VEVENT
BEGIN:VEVENT
DTSTART;TZID=America/Chicago:20261010T113000
DTEND;TZID=America/Chicago:20261010T233000
DTSTAMP:20260423T043623
CREATED:20260417T010559Z
LAST-MODIFIED:20260417T010928Z
UID:10042123-1791631800-1791675000@go.lpzoo.org
SUMMARY:Feed the Cows
DESCRIPTION:
URL:https://go.lpzoo.org/event/feed-the-cows/2026-10-10/
ATTACH;FMTTYPE=image/jpeg:https://go.lpzoo.org/wp-content/uploads/2025/05/cow-800x450-1.jpg
END:VEVENT
BEGIN:VEVENT
DTSTART;TZID=America/Chicago:20261010T113000
DTEND;TZID=America/Chicago:20261010T234000
DTSTAMP:20260423T043623
CREATED:20250125T035626Z
LAST-MODIFIED:20260126T152259Z
UID:10008494-1791631800-1791675600@go.lpzoo.org
SUMMARY:Seal Training and Feeding
DESCRIPTION:
URL:https://go.lpzoo.org/event/seal-training-and-feeding-2/2026-10-10/
ATTACH;FMTTYPE=image/jpeg:https://go.lpzoo.org/wp-content/uploads/2025/01/grey_seal_s1_800x450.jpg
END:VEVENT
BEGIN:VEVENT
DTSTART;TZID=America/Chicago:20261010T130000
DTEND;TZID=America/Chicago:20261010T131000
DTSTAMP:20260423T043623
CREATED:20250305T204001Z
LAST-MODIFIED:20260129T214312Z
UID:10014071-1791637200-1791637800@go.lpzoo.org
SUMMARY:Ape Cognition & Care
DESCRIPTION:
URL:https://go.lpzoo.org/event/ape-cognition-care/2026-10-10/
ATTACH;FMTTYPE=image/png:https://go.lpzoo.org/wp-content/uploads/2025/03/Chimp-photo-800x300-1.png
END:VEVENT
BEGIN:VEVENT
DTSTART;TZID=America/Chicago:20261010T140000
DTEND;TZID=America/Chicago:20261010T140000
DTSTAMP:20260423T043623
CREATED:20260417T005447Z
LAST-MODIFIED:20260417T005447Z
UID:10040757-1791640800-1791640800@go.lpzoo.org
SUMMARY:Penguin Feeding
DESCRIPTION:
URL:https://go.lpzoo.org/event/penguin-feeding/2026-10-10/
ATTACH;FMTTYPE=image/jpeg:https://go.lpzoo.org/wp-content/uploads/2024/03/african_penguin_m_800x200.jpg
END:VEVENT
BEGIN:VEVENT
DTSTART;TZID=America/Chicago:20261010T140000
DTEND;TZID=America/Chicago:20261010T140000
DTSTAMP:20260423T043623
CREATED:20260417T010815Z
LAST-MODIFIED:20260417T010815Z
UID:10042594-1791640800-1791640800@go.lpzoo.org
SUMMARY:Feed the Cow
DESCRIPTION:
URL:https://go.lpzoo.org/event/feed-the-cow/2026-10-10/
ATTACH;FMTTYPE=image/jpeg:https://go.lpzoo.org/wp-content/uploads/2025/05/cow-800x450-1.jpg
END:VEVENT
BEGIN:VEVENT
DTSTART;TZID=America/Chicago:20261010T143000
DTEND;TZID=America/Chicago:20261010T144000
DTSTAMP:20260423T043623
CREATED:20250305T201420Z
LAST-MODIFIED:20260129T214512Z
UID:10012228-1791642600-1791643200@go.lpzoo.org
SUMMARY:Seal Training and Feeding
DESCRIPTION:
URL:https://go.lpzoo.org/event/seal-training-and-feeding/2026-10-10/
ATTACH;FMTTYPE=image/jpeg:https://go.lpzoo.org/wp-content/uploads/2025/01/grey_seal_s1_800x450.jpg
END:VEVENT
BEGIN:VEVENT
DTSTART;TZID=America/Chicago:20261010T170000
DTEND;TZID=America/Chicago:20261010T170000
DTSTAMP:20260423T043623
CREATED:20251119T223141Z
LAST-MODIFIED:20260105T155117Z
UID:10038662-1791651600-1791651600@go.lpzoo.org
SUMMARY:Gates close
DESCRIPTION:Gates close
URL:https://go.lpzoo.org/event/gates-close-3/2026-10-10/
CATEGORIES:Notice
END:VEVENT
BEGIN:VEVENT
DTSTART;TZID=America/Chicago:20261011T100000
DTEND;TZID=America/Chicago:20261011T103000
DTSTAMP:20260423T043623
CREATED:20251105T160455Z
LAST-MODIFIED:20251105T160456Z
UID:10034107-1791712800-1791714600@go.lpzoo.org
SUMMARY:Gates and Farm-in-the-Zoo Open
DESCRIPTION:Gates and Farm-in-the-Zoo Open
URL:https://go.lpzoo.org/event/gates-and-farm-in-the-zoo-open-2/2026-10-11/
CATEGORIES:Notice
END:VEVENT
BEGIN:VEVENT
DTSTART;TZID=America/Chicago:20261011T100000
DTEND;TZID=America/Chicago:20261011T223000
DTSTAMP:20260423T043623
CREATED:20250501T142454Z
LAST-MODIFIED:20250501T142454Z
UID:10006547-1791712800-1791757800@go.lpzoo.org
SUMMARY:Buildings open
DESCRIPTION:Buildings open
URL:https://go.lpzoo.org/event/gates-buildings-and-farm-in-the-zoo-open-2-2/2026-10-11/
CATEGORIES:Notice
END:VEVENT
BEGIN:VEVENT
DTSTART;TZID=America/Chicago:20261011T110000
DTEND;TZID=America/Chicago:20261011T110000
DTSTAMP:20260423T043623
CREATED:20260417T010356Z
LAST-MODIFIED:20260417T010356Z
UID:10041653-1791716400-1791716400@go.lpzoo.org
SUMMARY:Feed the Chickens
DESCRIPTION:
URL:https://go.lpzoo.org/event/feed-the-chickens/2026-10-11/
END:VEVENT
BEGIN:VEVENT
DTSTART;TZID=America/Chicago:20261011T113000
DTEND;TZID=America/Chicago:20261011T233000
DTSTAMP:20260423T043623
CREATED:20260417T010559Z
LAST-MODIFIED:20260417T010928Z
UID:10042124-1791718200-1791761400@go.lpzoo.org
SUMMARY:Feed the Cows
DESCRIPTION:
URL:https://go.lpzoo.org/event/feed-the-cows/2026-10-11/
ATTACH;FMTTYPE=image/jpeg:https://go.lpzoo.org/wp-content/uploads/2025/05/cow-800x450-1.jpg
END:VEVENT
BEGIN:VEVENT
DTSTART;TZID=America/Chicago:20261011T113000
DTEND;TZID=America/Chicago:20261011T234000
DTSTAMP:20260423T043623
CREATED:20250125T035626Z
LAST-MODIFIED:20260126T152259Z
UID:10008495-1791718200-1791762000@go.lpzoo.org
SUMMARY:Seal Training and Feeding
DESCRIPTION:
URL:https://go.lpzoo.org/event/seal-training-and-feeding-2/2026-10-11/
ATTACH;FMTTYPE=image/jpeg:https://go.lpzoo.org/wp-content/uploads/2025/01/grey_seal_s1_800x450.jpg
END:VEVENT
BEGIN:VEVENT
DTSTART;TZID=America/Chicago:20261011T130000
DTEND;TZID=America/Chicago:20261011T131000
DTSTAMP:20260423T043623
CREATED:20250305T204001Z
LAST-MODIFIED:20260129T214312Z
UID:10014072-1791723600-1791724200@go.lpzoo.org
SUMMARY:Ape Cognition & Care
DESCRIPTION:
URL:https://go.lpzoo.org/event/ape-cognition-care/2026-10-11/
ATTACH;FMTTYPE=image/png:https://go.lpzoo.org/wp-content/uploads/2025/03/Chimp-photo-800x300-1.png
END:VEVENT
BEGIN:VEVENT
DTSTART;TZID=America/Chicago:20261011T140000
DTEND;TZID=America/Chicago:20261011T140000
DTSTAMP:20260423T043623
CREATED:20260417T005447Z
LAST-MODIFIED:20260417T005447Z
UID:10040758-1791727200-1791727200@go.lpzoo.org
SUMMARY:Penguin Feeding
DESCRIPTION:
URL:https://go.lpzoo.org/event/penguin-feeding/2026-10-11/
ATTACH;FMTTYPE=image/jpeg:https://go.lpzoo.org/wp-content/uploads/2024/03/african_penguin_m_800x200.jpg
END:VEVENT
BEGIN:VEVENT
DTSTART;TZID=America/Chicago:20261011T140000
DTEND;TZID=America/Chicago:20261011T140000
DTSTAMP:20260423T043623
CREATED:20260417T010815Z
LAST-MODIFIED:20260417T010815Z
UID:10042595-1791727200-1791727200@go.lpzoo.org
SUMMARY:Feed the Cow
DESCRIPTION:
URL:https://go.lpzoo.org/event/feed-the-cow/2026-10-11/
ATTACH;FMTTYPE=image/jpeg:https://go.lpzoo.org/wp-content/uploads/2025/05/cow-800x450-1.jpg
END:VEVENT
BEGIN:VEVENT
DTSTART;TZID=America/Chicago:20261011T143000
DTEND;TZID=America/Chicago:20261011T144000
DTSTAMP:20260423T043623
CREATED:20250305T201420Z
LAST-MODIFIED:20260129T214512Z
UID:10012229-1791729000-1791729600@go.lpzoo.org
SUMMARY:Seal Training and Feeding
DESCRIPTION:
URL:https://go.lpzoo.org/event/seal-training-and-feeding/2026-10-11/
ATTACH;FMTTYPE=image/jpeg:https://go.lpzoo.org/wp-content/uploads/2025/01/grey_seal_s1_800x450.jpg
END:VEVENT
BEGIN:VEVENT
DTSTART;TZID=America/Chicago:20261011T170000
DTEND;TZID=America/Chicago:20261011T170000
DTSTAMP:20260423T043623
CREATED:20251119T223141Z
LAST-MODIFIED:20260105T155117Z
UID:10038663-1791738000-1791738000@go.lpzoo.org
SUMMARY:Gates close
DESCRIPTION:Gates close
URL:https://go.lpzoo.org/event/gates-close-3/2026-10-11/
CATEGORIES:Notice
END:VEVENT
BEGIN:VEVENT
DTSTART;TZID=America/Chicago:20261012T100000
DTEND;TZID=America/Chicago:20261012T103000
DTSTAMP:20260423T043623
CREATED:20251105T160455Z
LAST-MODIFIED:20251105T160456Z
UID:10034108-1791799200-1791801000@go.lpzoo.org
SUMMARY:Gates and Farm-in-the-Zoo Open
DESCRIPTION:Gates and Farm-in-the-Zoo Open
URL:https://go.lpzoo.org/event/gates-and-farm-in-the-zoo-open-2/2026-10-12/
CATEGORIES:Notice
END:VEVENT
BEGIN:VEVENT
DTSTART;TZID=America/Chicago:20261012T100000
DTEND;TZID=America/Chicago:20261012T223000
DTSTAMP:20260423T043623
CREATED:20250501T142454Z
LAST-MODIFIED:20250501T142454Z
UID:10006548-1791799200-1791844200@go.lpzoo.org
SUMMARY:Buildings open
DESCRIPTION:Buildings open
URL:https://go.lpzoo.org/event/gates-buildings-and-farm-in-the-zoo-open-2-2/2026-10-12/
CATEGORIES:Notice
END:VEVENT
BEGIN:VEVENT
DTSTART;TZID=America/Chicago:20261012T110000
DTEND;TZID=America/Chicago:20261012T110000
DTSTAMP:20260423T043623
CREATED:20260417T010356Z
LAST-MODIFIED:20260417T010356Z
UID:10041654-1791802800-1791802800@go.lpzoo.org
SUMMARY:Feed the Chickens
DESCRIPTION:
URL:https://go.lpzoo.org/event/feed-the-chickens/2026-10-12/
END:VEVENT
BEGIN:VEVENT
DTSTART;TZID=America/Chicago:20261012T110000
DTEND;TZID=America/Chicago:20261012T231000
DTSTAMP:20260423T043623
CREATED:20260417T005654Z
LAST-MODIFIED:20260417T005654Z
UID:10002679-1791802800-1791846600@go.lpzoo.org
SUMMARY:Jamaican Iguana Care
DESCRIPTION:
URL:https://go.lpzoo.org/event/jamaican-iguana-care-2-2/2026-10-12/
ATTACH;FMTTYPE=image/jpeg:https://go.lpzoo.org/wp-content/uploads/2025/01/jamaican_iguana_s1_800x450.jpg
END:VEVENT
BEGIN:VEVENT
DTSTART;TZID=America/Chicago:20261012T113000
DTEND;TZID=America/Chicago:20261012T233000
DTSTAMP:20260423T043623
CREATED:20260417T010559Z
LAST-MODIFIED:20260417T010928Z
UID:10042125-1791804600-1791847800@go.lpzoo.org
SUMMARY:Feed the Cows
DESCRIPTION:
URL:https://go.lpzoo.org/event/feed-the-cows/2026-10-12/
ATTACH;FMTTYPE=image/jpeg:https://go.lpzoo.org/wp-content/uploads/2025/05/cow-800x450-1.jpg
END:VEVENT
BEGIN:VEVENT
DTSTART;TZID=America/Chicago:20261012T113000
DTEND;TZID=America/Chicago:20261012T234000
DTSTAMP:20260423T043623
CREATED:20250125T035626Z
LAST-MODIFIED:20260126T152259Z
UID:10008496-1791804600-1791848400@go.lpzoo.org
SUMMARY:Seal Training and Feeding
DESCRIPTION:
URL:https://go.lpzoo.org/event/seal-training-and-feeding-2/2026-10-12/
ATTACH;FMTTYPE=image/jpeg:https://go.lpzoo.org/wp-content/uploads/2025/01/grey_seal_s1_800x450.jpg
END:VEVENT
BEGIN:VEVENT
DTSTART;TZID=America/Chicago:20261012T114500
DTEND;TZID=America/Chicago:20261012T120000
DTSTAMP:20260423T043623
CREATED:20251103T201241Z
LAST-MODIFIED:20260318T153805Z
UID:10032709-1791805500-1791806400@go.lpzoo.org
SUMMARY:Monkey Cognition 
DESCRIPTION:
URL:https://go.lpzoo.org/event/monkey-cognition-2/2026-10-12/
ATTACH;FMTTYPE=image/jpeg:https://go.lpzoo.org/wp-content/uploads/2025/04/Macacque-800x300-1.jpg
END:VEVENT
BEGIN:VEVENT
DTSTART;TZID=America/Chicago:20261012T130000
DTEND;TZID=America/Chicago:20261012T131000
DTSTAMP:20260423T043623
CREATED:20250305T204001Z
LAST-MODIFIED:20260129T214312Z
UID:10014073-1791810000-1791810600@go.lpzoo.org
SUMMARY:Ape Cognition & Care
DESCRIPTION:
URL:https://go.lpzoo.org/event/ape-cognition-care/2026-10-12/
ATTACH;FMTTYPE=image/png:https://go.lpzoo.org/wp-content/uploads/2025/03/Chimp-photo-800x300-1.png
END:VEVENT
BEGIN:VEVENT
DTSTART;TZID=America/Chicago:20261012T140000
DTEND;TZID=America/Chicago:20261012T140000
DTSTAMP:20260423T043623
CREATED:20260417T005447Z
LAST-MODIFIED:20260417T005447Z
UID:10040759-1791813600-1791813600@go.lpzoo.org
SUMMARY:Penguin Feeding
DESCRIPTION:
URL:https://go.lpzoo.org/event/penguin-feeding/2026-10-12/
ATTACH;FMTTYPE=image/jpeg:https://go.lpzoo.org/wp-content/uploads/2024/03/african_penguin_m_800x200.jpg
END:VEVENT
BEGIN:VEVENT
DTSTART;TZID=America/Chicago:20261012T140000
DTEND;TZID=America/Chicago:20261012T140000
DTSTAMP:20260423T043623
CREATED:20260417T010815Z
LAST-MODIFIED:20260417T010815Z
UID:10042596-1791813600-1791813600@go.lpzoo.org
SUMMARY:Feed the Cow
DESCRIPTION:
URL:https://go.lpzoo.org/event/feed-the-cow/2026-10-12/
ATTACH;FMTTYPE=image/jpeg:https://go.lpzoo.org/wp-content/uploads/2025/05/cow-800x450-1.jpg
END:VEVENT
BEGIN:VEVENT
DTSTART;TZID=America/Chicago:20261012T143000
DTEND;TZID=America/Chicago:20261012T144000
DTSTAMP:20260423T043623
CREATED:20250305T201420Z
LAST-MODIFIED:20260129T214512Z
UID:10012230-1791815400-1791816000@go.lpzoo.org
SUMMARY:Seal Training and Feeding
DESCRIPTION:
URL:https://go.lpzoo.org/event/seal-training-and-feeding/2026-10-12/
ATTACH;FMTTYPE=image/jpeg:https://go.lpzoo.org/wp-content/uploads/2025/01/grey_seal_s1_800x450.jpg
END:VEVENT
BEGIN:VEVENT
DTSTART;TZID=America/Chicago:20261012T170000
DTEND;TZID=America/Chicago:20261012T170000
DTSTAMP:20260423T043623
CREATED:20251119T223141Z
LAST-MODIFIED:20260105T155117Z
UID:10038664-1791824400-1791824400@go.lpzoo.org
SUMMARY:Gates close
DESCRIPTION:Gates close
URL:https://go.lpzoo.org/event/gates-close-3/2026-10-12/
CATEGORIES:Notice
END:VEVENT
END:VCALENDAR