BEGIN:VCALENDAR
VERSION:2.0
PRODID:-//Lincoln Park Zoo - ECPv6.15.16.1//NONSGML v1.0//EN
CALSCALE:GREGORIAN
METHOD:PUBLISH
X-ORIGINAL-URL:https://go.lpzoo.org
X-WR-CALDESC:Events for Lincoln Park Zoo
REFRESH-INTERVAL;VALUE=DURATION:PT1H
X-Robots-Tag:noindex
X-PUBLISHED-TTL:PT1H
BEGIN:VTIMEZONE
TZID:America/Chicago
BEGIN:DAYLIGHT
TZOFFSETFROM:-0600
TZOFFSETTO:-0500
TZNAME:CDT
DTSTART:20250309T080000
END:DAYLIGHT
BEGIN:STANDARD
TZOFFSETFROM:-0500
TZOFFSETTO:-0600
TZNAME:CST
DTSTART:20251102T070000
END:STANDARD
BEGIN:DAYLIGHT
TZOFFSETFROM:-0600
TZOFFSETTO:-0500
TZNAME:CDT
DTSTART:20260308T080000
END:DAYLIGHT
BEGIN:STANDARD
TZOFFSETFROM:-0500
TZOFFSETTO:-0600
TZNAME:CST
DTSTART:20261101T070000
END:STANDARD
BEGIN:DAYLIGHT
TZOFFSETFROM:-0600
TZOFFSETTO:-0500
TZNAME:CDT
DTSTART:20270314T080000
END:DAYLIGHT
BEGIN:STANDARD
TZOFFSETFROM:-0500
TZOFFSETTO:-0600
TZNAME:CST
DTSTART:20271107T070000
END:STANDARD
END:VTIMEZONE
BEGIN:VEVENT
DTSTART;TZID=America/Chicago:20260921T113000
DTEND;TZID=America/Chicago:20260921T233000
DTSTAMP:20260420T212204
CREATED:20260417T010559Z
LAST-MODIFIED:20260417T010928Z
UID:10042104-1789990200-1790033400@go.lpzoo.org
SUMMARY:Feed the Cows
DESCRIPTION:
URL:https://go.lpzoo.org/event/feed-the-cows/2026-09-21/
ATTACH;FMTTYPE=image/jpeg:https://go.lpzoo.org/wp-content/uploads/2025/05/cow-800x450-1.jpg
END:VEVENT
BEGIN:VEVENT
DTSTART;TZID=America/Chicago:20260921T110000
DTEND;TZID=America/Chicago:20260921T231000
DTSTAMP:20260420T212204
CREATED:20260417T005654Z
LAST-MODIFIED:20260417T005654Z
UID:10002667-1789988400-1790032200@go.lpzoo.org
SUMMARY:Jamaican Iguana Care
DESCRIPTION:
URL:https://go.lpzoo.org/event/jamaican-iguana-care-2-2/2026-09-21/
ATTACH;FMTTYPE=image/jpeg:https://go.lpzoo.org/wp-content/uploads/2025/01/jamaican_iguana_s1_800x450.jpg
END:VEVENT
BEGIN:VEVENT
DTSTART;TZID=America/Chicago:20260921T110000
DTEND;TZID=America/Chicago:20260921T110000
DTSTAMP:20260420T212204
CREATED:20260417T010356Z
LAST-MODIFIED:20260417T010356Z
UID:10041633-1789988400-1789988400@go.lpzoo.org
SUMMARY:Feed the Chickens
DESCRIPTION:
URL:https://go.lpzoo.org/event/feed-the-chickens/2026-09-21/
END:VEVENT
BEGIN:VEVENT
DTSTART;TZID=America/Chicago:20260921T100000
DTEND;TZID=America/Chicago:20260921T223000
DTSTAMP:20260420T212204
CREATED:20250501T142454Z
LAST-MODIFIED:20250501T142454Z
UID:10006527-1789984800-1790029800@go.lpzoo.org
SUMMARY:Buildings open
DESCRIPTION:Buildings open
URL:https://go.lpzoo.org/event/gates-buildings-and-farm-in-the-zoo-open-2-2/2026-09-21/
CATEGORIES:Notice
END:VEVENT
BEGIN:VEVENT
DTSTART;TZID=America/Chicago:20260921T100000
DTEND;TZID=America/Chicago:20260921T103000
DTSTAMP:20260420T212204
CREATED:20251105T160455Z
LAST-MODIFIED:20251105T160456Z
UID:10034087-1789984800-1789986600@go.lpzoo.org
SUMMARY:Gates and Farm-in-the-Zoo Open
DESCRIPTION:Gates and Farm-in-the-Zoo Open
URL:https://go.lpzoo.org/event/gates-and-farm-in-the-zoo-open-2/2026-09-21/
CATEGORIES:Notice
END:VEVENT
BEGIN:VEVENT
DTSTART;TZID=America/Chicago:20260920T170000
DTEND;TZID=America/Chicago:20260920T170000
DTSTAMP:20260420T212204
CREATED:20251119T223141Z
LAST-MODIFIED:20260105T155117Z
UID:10038642-1789923600-1789923600@go.lpzoo.org
SUMMARY:Gates close
DESCRIPTION:Gates close
URL:https://go.lpzoo.org/event/gates-close-3/2026-09-20/
CATEGORIES:Notice
END:VEVENT
BEGIN:VEVENT
DTSTART;TZID=America/Chicago:20260920T143000
DTEND;TZID=America/Chicago:20260920T144000
DTSTAMP:20260420T212204
CREATED:20250305T201420Z
LAST-MODIFIED:20260129T214512Z
UID:10012208-1789914600-1789915200@go.lpzoo.org
SUMMARY:Seal Training and Feeding
DESCRIPTION:
URL:https://go.lpzoo.org/event/seal-training-and-feeding/2026-09-20/
ATTACH;FMTTYPE=image/jpeg:https://go.lpzoo.org/wp-content/uploads/2025/01/grey_seal_s1_800x450.jpg
END:VEVENT
BEGIN:VEVENT
DTSTART;TZID=America/Chicago:20260920T140000
DTEND;TZID=America/Chicago:20260920T140000
DTSTAMP:20260420T212204
CREATED:20260417T010815Z
LAST-MODIFIED:20260417T010815Z
UID:10042574-1789912800-1789912800@go.lpzoo.org
SUMMARY:Feed the Cow
DESCRIPTION:
URL:https://go.lpzoo.org/event/feed-the-cow/2026-09-20/
ATTACH;FMTTYPE=image/jpeg:https://go.lpzoo.org/wp-content/uploads/2025/05/cow-800x450-1.jpg
END:VEVENT
BEGIN:VEVENT
DTSTART;TZID=America/Chicago:20260920T140000
DTEND;TZID=America/Chicago:20260920T140000
DTSTAMP:20260420T212204
CREATED:20260417T005447Z
LAST-MODIFIED:20260417T005447Z
UID:10040737-1789912800-1789912800@go.lpzoo.org
SUMMARY:Penguin Feeding
DESCRIPTION:
URL:https://go.lpzoo.org/event/penguin-feeding/2026-09-20/
ATTACH;FMTTYPE=image/jpeg:https://go.lpzoo.org/wp-content/uploads/2024/03/african_penguin_m_800x200.jpg
END:VEVENT
BEGIN:VEVENT
DTSTART;TZID=America/Chicago:20260920T130000
DTEND;TZID=America/Chicago:20260920T131000
DTSTAMP:20260420T212204
CREATED:20250305T204001Z
LAST-MODIFIED:20260129T214312Z
UID:10014051-1789909200-1789909800@go.lpzoo.org
SUMMARY:Ape Cognition & Care
DESCRIPTION:
URL:https://go.lpzoo.org/event/ape-cognition-care/2026-09-20/
ATTACH;FMTTYPE=image/png:https://go.lpzoo.org/wp-content/uploads/2025/03/Chimp-photo-800x300-1.png
END:VEVENT
BEGIN:VEVENT
DTSTART;TZID=America/Chicago:20260920T113000
DTEND;TZID=America/Chicago:20260920T234000
DTSTAMP:20260420T212204
CREATED:20250125T035626Z
LAST-MODIFIED:20260126T152259Z
UID:10008474-1789903800-1789947600@go.lpzoo.org
SUMMARY:Seal Training and Feeding
DESCRIPTION:
URL:https://go.lpzoo.org/event/seal-training-and-feeding-2/2026-09-20/
ATTACH;FMTTYPE=image/jpeg:https://go.lpzoo.org/wp-content/uploads/2025/01/grey_seal_s1_800x450.jpg
END:VEVENT
BEGIN:VEVENT
DTSTART;TZID=America/Chicago:20260920T113000
DTEND;TZID=America/Chicago:20260920T233000
DTSTAMP:20260420T212204
CREATED:20260417T010559Z
LAST-MODIFIED:20260417T010928Z
UID:10042103-1789903800-1789947000@go.lpzoo.org
SUMMARY:Feed the Cows
DESCRIPTION:
URL:https://go.lpzoo.org/event/feed-the-cows/2026-09-20/
ATTACH;FMTTYPE=image/jpeg:https://go.lpzoo.org/wp-content/uploads/2025/05/cow-800x450-1.jpg
END:VEVENT
BEGIN:VEVENT
DTSTART;TZID=America/Chicago:20260920T110000
DTEND;TZID=America/Chicago:20260920T110000
DTSTAMP:20260420T212204
CREATED:20260417T010356Z
LAST-MODIFIED:20260417T010356Z
UID:10041632-1789902000-1789902000@go.lpzoo.org
SUMMARY:Feed the Chickens
DESCRIPTION:
URL:https://go.lpzoo.org/event/feed-the-chickens/2026-09-20/
END:VEVENT
BEGIN:VEVENT
DTSTART;TZID=America/Chicago:20260920T100000
DTEND;TZID=America/Chicago:20260920T223000
DTSTAMP:20260420T212204
CREATED:20250501T142454Z
LAST-MODIFIED:20250501T142454Z
UID:10006526-1789898400-1789943400@go.lpzoo.org
SUMMARY:Buildings open
DESCRIPTION:Buildings open
URL:https://go.lpzoo.org/event/gates-buildings-and-farm-in-the-zoo-open-2-2/2026-09-20/
CATEGORIES:Notice
END:VEVENT
BEGIN:VEVENT
DTSTART;TZID=America/Chicago:20260920T100000
DTEND;TZID=America/Chicago:20260920T103000
DTSTAMP:20260420T212204
CREATED:20251105T160455Z
LAST-MODIFIED:20251105T160456Z
UID:10034086-1789898400-1789900200@go.lpzoo.org
SUMMARY:Gates and Farm-in-the-Zoo Open
DESCRIPTION:Gates and Farm-in-the-Zoo Open
URL:https://go.lpzoo.org/event/gates-and-farm-in-the-zoo-open-2/2026-09-20/
CATEGORIES:Notice
END:VEVENT
BEGIN:VEVENT
DTSTART;TZID=America/Chicago:20260919T170000
DTEND;TZID=America/Chicago:20260919T170000
DTSTAMP:20260420T212204
CREATED:20251119T223141Z
LAST-MODIFIED:20260105T155117Z
UID:10038641-1789837200-1789837200@go.lpzoo.org
SUMMARY:Gates close
DESCRIPTION:Gates close
URL:https://go.lpzoo.org/event/gates-close-3/2026-09-19/
CATEGORIES:Notice
END:VEVENT
BEGIN:VEVENT
DTSTART;TZID=America/Chicago:20260919T143000
DTEND;TZID=America/Chicago:20260919T144000
DTSTAMP:20260420T212204
CREATED:20250305T201420Z
LAST-MODIFIED:20260129T214512Z
UID:10012207-1789828200-1789828800@go.lpzoo.org
SUMMARY:Seal Training and Feeding
DESCRIPTION:
URL:https://go.lpzoo.org/event/seal-training-and-feeding/2026-09-19/
ATTACH;FMTTYPE=image/jpeg:https://go.lpzoo.org/wp-content/uploads/2025/01/grey_seal_s1_800x450.jpg
END:VEVENT
BEGIN:VEVENT
DTSTART;TZID=America/Chicago:20260919T140000
DTEND;TZID=America/Chicago:20260919T140000
DTSTAMP:20260420T212204
CREATED:20260417T010815Z
LAST-MODIFIED:20260417T010815Z
UID:10042573-1789826400-1789826400@go.lpzoo.org
SUMMARY:Feed the Cow
DESCRIPTION:
URL:https://go.lpzoo.org/event/feed-the-cow/2026-09-19/
ATTACH;FMTTYPE=image/jpeg:https://go.lpzoo.org/wp-content/uploads/2025/05/cow-800x450-1.jpg
END:VEVENT
BEGIN:VEVENT
DTSTART;TZID=America/Chicago:20260919T140000
DTEND;TZID=America/Chicago:20260919T140000
DTSTAMP:20260420T212204
CREATED:20260417T005447Z
LAST-MODIFIED:20260417T005447Z
UID:10040736-1789826400-1789826400@go.lpzoo.org
SUMMARY:Penguin Feeding
DESCRIPTION:
URL:https://go.lpzoo.org/event/penguin-feeding/2026-09-19/
ATTACH;FMTTYPE=image/jpeg:https://go.lpzoo.org/wp-content/uploads/2024/03/african_penguin_m_800x200.jpg
END:VEVENT
BEGIN:VEVENT
DTSTART;TZID=America/Chicago:20260919T130000
DTEND;TZID=America/Chicago:20260919T131000
DTSTAMP:20260420T212204
CREATED:20250305T204001Z
LAST-MODIFIED:20260129T214312Z
UID:10014050-1789822800-1789823400@go.lpzoo.org
SUMMARY:Ape Cognition & Care
DESCRIPTION:
URL:https://go.lpzoo.org/event/ape-cognition-care/2026-09-19/
ATTACH;FMTTYPE=image/png:https://go.lpzoo.org/wp-content/uploads/2025/03/Chimp-photo-800x300-1.png
END:VEVENT
BEGIN:VEVENT
DTSTART;TZID=America/Chicago:20260919T113000
DTEND;TZID=America/Chicago:20260919T234000
DTSTAMP:20260420T212204
CREATED:20250125T035626Z
LAST-MODIFIED:20260126T152259Z
UID:10008473-1789817400-1789861200@go.lpzoo.org
SUMMARY:Seal Training and Feeding
DESCRIPTION:
URL:https://go.lpzoo.org/event/seal-training-and-feeding-2/2026-09-19/
ATTACH;FMTTYPE=image/jpeg:https://go.lpzoo.org/wp-content/uploads/2025/01/grey_seal_s1_800x450.jpg
END:VEVENT
BEGIN:VEVENT
DTSTART;TZID=America/Chicago:20260919T113000
DTEND;TZID=America/Chicago:20260919T233000
DTSTAMP:20260420T212204
CREATED:20260417T010559Z
LAST-MODIFIED:20260417T010928Z
UID:10042102-1789817400-1789860600@go.lpzoo.org
SUMMARY:Feed the Cows
DESCRIPTION:
URL:https://go.lpzoo.org/event/feed-the-cows/2026-09-19/
ATTACH;FMTTYPE=image/jpeg:https://go.lpzoo.org/wp-content/uploads/2025/05/cow-800x450-1.jpg
END:VEVENT
BEGIN:VEVENT
DTSTART;TZID=America/Chicago:20260919T110000
DTEND;TZID=America/Chicago:20260919T110000
DTSTAMP:20260420T212204
CREATED:20260417T010356Z
LAST-MODIFIED:20260417T010356Z
UID:10041631-1789815600-1789815600@go.lpzoo.org
SUMMARY:Feed the Chickens
DESCRIPTION:
URL:https://go.lpzoo.org/event/feed-the-chickens/2026-09-19/
END:VEVENT
BEGIN:VEVENT
DTSTART;TZID=America/Chicago:20260919T100000
DTEND;TZID=America/Chicago:20260919T223000
DTSTAMP:20260420T212204
CREATED:20250501T142454Z
LAST-MODIFIED:20250501T142454Z
UID:10006525-1789812000-1789857000@go.lpzoo.org
SUMMARY:Buildings open
DESCRIPTION:Buildings open
URL:https://go.lpzoo.org/event/gates-buildings-and-farm-in-the-zoo-open-2-2/2026-09-19/
CATEGORIES:Notice
END:VEVENT
BEGIN:VEVENT
DTSTART;TZID=America/Chicago:20260919T100000
DTEND;TZID=America/Chicago:20260919T103000
DTSTAMP:20260420T212204
CREATED:20251105T160455Z
LAST-MODIFIED:20251105T160456Z
UID:10034085-1789812000-1789813800@go.lpzoo.org
SUMMARY:Gates and Farm-in-the-Zoo Open
DESCRIPTION:Gates and Farm-in-the-Zoo Open
URL:https://go.lpzoo.org/event/gates-and-farm-in-the-zoo-open-2/2026-09-19/
CATEGORIES:Notice
END:VEVENT
BEGIN:VEVENT
DTSTART;TZID=America/Chicago:20260918T170000
DTEND;TZID=America/Chicago:20260918T170000
DTSTAMP:20260420T212204
CREATED:20251119T223141Z
LAST-MODIFIED:20260105T155117Z
UID:10038640-1789750800-1789750800@go.lpzoo.org
SUMMARY:Gates close
DESCRIPTION:Gates close
URL:https://go.lpzoo.org/event/gates-close-3/2026-09-18/
CATEGORIES:Notice
END:VEVENT
BEGIN:VEVENT
DTSTART;TZID=America/Chicago:20260918T143000
DTEND;TZID=America/Chicago:20260918T144000
DTSTAMP:20260420T212204
CREATED:20250305T201420Z
LAST-MODIFIED:20260129T214512Z
UID:10012206-1789741800-1789742400@go.lpzoo.org
SUMMARY:Seal Training and Feeding
DESCRIPTION:
URL:https://go.lpzoo.org/event/seal-training-and-feeding/2026-09-18/
ATTACH;FMTTYPE=image/jpeg:https://go.lpzoo.org/wp-content/uploads/2025/01/grey_seal_s1_800x450.jpg
END:VEVENT
BEGIN:VEVENT
DTSTART;TZID=America/Chicago:20260918T140000
DTEND;TZID=America/Chicago:20260918T140000
DTSTAMP:20260420T212204
CREATED:20260417T010815Z
LAST-MODIFIED:20260417T010815Z
UID:10042572-1789740000-1789740000@go.lpzoo.org
SUMMARY:Feed the Cow
DESCRIPTION:
URL:https://go.lpzoo.org/event/feed-the-cow/2026-09-18/
ATTACH;FMTTYPE=image/jpeg:https://go.lpzoo.org/wp-content/uploads/2025/05/cow-800x450-1.jpg
END:VEVENT
BEGIN:VEVENT
DTSTART;TZID=America/Chicago:20260918T140000
DTEND;TZID=America/Chicago:20260918T140000
DTSTAMP:20260420T212204
CREATED:20260417T005447Z
LAST-MODIFIED:20260417T005447Z
UID:10040735-1789740000-1789740000@go.lpzoo.org
SUMMARY:Penguin Feeding
DESCRIPTION:
URL:https://go.lpzoo.org/event/penguin-feeding/2026-09-18/
ATTACH;FMTTYPE=image/jpeg:https://go.lpzoo.org/wp-content/uploads/2024/03/african_penguin_m_800x200.jpg
END:VEVENT
BEGIN:VEVENT
DTSTART;TZID=America/Chicago:20260918T130000
DTEND;TZID=America/Chicago:20260918T131000
DTSTAMP:20260420T212204
CREATED:20250305T204001Z
LAST-MODIFIED:20260129T214312Z
UID:10014049-1789736400-1789737000@go.lpzoo.org
SUMMARY:Ape Cognition & Care
DESCRIPTION:
URL:https://go.lpzoo.org/event/ape-cognition-care/2026-09-18/
ATTACH;FMTTYPE=image/png:https://go.lpzoo.org/wp-content/uploads/2025/03/Chimp-photo-800x300-1.png
END:VEVENT
END:VCALENDAR