BEGIN:VCALENDAR
VERSION:2.0
PRODID:-//Lincoln Park Zoo - ECPv6.15.16.1//NONSGML v1.0//EN
CALSCALE:GREGORIAN
METHOD:PUBLISH
X-WR-CALNAME:Lincoln Park Zoo
X-ORIGINAL-URL:https://go.lpzoo.org
X-WR-CALDESC:Events for Lincoln Park Zoo
REFRESH-INTERVAL;VALUE=DURATION:PT1H
X-Robots-Tag:noindex
X-PUBLISHED-TTL:PT1H
BEGIN:VTIMEZONE
TZID:America/Chicago
BEGIN:DAYLIGHT
TZOFFSETFROM:-0600
TZOFFSETTO:-0500
TZNAME:CDT
DTSTART:20250309T080000
END:DAYLIGHT
BEGIN:STANDARD
TZOFFSETFROM:-0500
TZOFFSETTO:-0600
TZNAME:CST
DTSTART:20251102T070000
END:STANDARD
BEGIN:DAYLIGHT
TZOFFSETFROM:-0600
TZOFFSETTO:-0500
TZNAME:CDT
DTSTART:20260308T080000
END:DAYLIGHT
BEGIN:STANDARD
TZOFFSETFROM:-0500
TZOFFSETTO:-0600
TZNAME:CST
DTSTART:20261101T070000
END:STANDARD
BEGIN:DAYLIGHT
TZOFFSETFROM:-0600
TZOFFSETTO:-0500
TZNAME:CDT
DTSTART:20270314T080000
END:DAYLIGHT
BEGIN:STANDARD
TZOFFSETFROM:-0500
TZOFFSETTO:-0600
TZNAME:CST
DTSTART:20271107T070000
END:STANDARD
END:VTIMEZONE
BEGIN:VEVENT
DTSTART;TZID=America/Chicago:20260923T100000
DTEND;TZID=America/Chicago:20260923T103000
DTSTAMP:20260420T211607
CREATED:20251105T160455Z
LAST-MODIFIED:20251105T160456Z
UID:10034089-1790157600-1790159400@go.lpzoo.org
SUMMARY:Gates and Farm-in-the-Zoo Open
DESCRIPTION:Gates and Farm-in-the-Zoo Open
URL:https://go.lpzoo.org/event/gates-and-farm-in-the-zoo-open-2/2026-09-23/
CATEGORIES:Notice
END:VEVENT
BEGIN:VEVENT
DTSTART;TZID=America/Chicago:20260923T100000
DTEND;TZID=America/Chicago:20260923T223000
DTSTAMP:20260420T211607
CREATED:20250501T142454Z
LAST-MODIFIED:20250501T142454Z
UID:10006529-1790157600-1790202600@go.lpzoo.org
SUMMARY:Buildings open
DESCRIPTION:Buildings open
URL:https://go.lpzoo.org/event/gates-buildings-and-farm-in-the-zoo-open-2-2/2026-09-23/
CATEGORIES:Notice
END:VEVENT
BEGIN:VEVENT
DTSTART;TZID=America/Chicago:20260923T110000
DTEND;TZID=America/Chicago:20260923T110000
DTSTAMP:20260420T211607
CREATED:20260417T010356Z
LAST-MODIFIED:20260417T010356Z
UID:10041635-1790161200-1790161200@go.lpzoo.org
SUMMARY:Feed the Chickens
DESCRIPTION:
URL:https://go.lpzoo.org/event/feed-the-chickens/2026-09-23/
END:VEVENT
BEGIN:VEVENT
DTSTART;TZID=America/Chicago:20260923T110000
DTEND;TZID=America/Chicago:20260923T231000
DTSTAMP:20260420T211607
CREATED:20260417T005654Z
LAST-MODIFIED:20260417T005654Z
UID:10041196-1790161200-1790205000@go.lpzoo.org
SUMMARY:Jamaican Iguana Care
DESCRIPTION:
URL:https://go.lpzoo.org/event/jamaican-iguana-care-2-2/2026-09-23/
ATTACH;FMTTYPE=image/jpeg:https://go.lpzoo.org/wp-content/uploads/2025/01/jamaican_iguana_s1_800x450.jpg
END:VEVENT
BEGIN:VEVENT
DTSTART;TZID=America/Chicago:20260923T113000
DTEND;TZID=America/Chicago:20260923T233000
DTSTAMP:20260420T211607
CREATED:20260417T010559Z
LAST-MODIFIED:20260417T010928Z
UID:10042106-1790163000-1790206200@go.lpzoo.org
SUMMARY:Feed the Cows
DESCRIPTION:
URL:https://go.lpzoo.org/event/feed-the-cows/2026-09-23/
ATTACH;FMTTYPE=image/jpeg:https://go.lpzoo.org/wp-content/uploads/2025/05/cow-800x450-1.jpg
END:VEVENT
BEGIN:VEVENT
DTSTART;TZID=America/Chicago:20260923T113000
DTEND;TZID=America/Chicago:20260923T234000
DTSTAMP:20260420T211607
CREATED:20250125T035626Z
LAST-MODIFIED:20260126T152259Z
UID:10008477-1790163000-1790206800@go.lpzoo.org
SUMMARY:Seal Training and Feeding
DESCRIPTION:
URL:https://go.lpzoo.org/event/seal-training-and-feeding-2/2026-09-23/
ATTACH;FMTTYPE=image/jpeg:https://go.lpzoo.org/wp-content/uploads/2025/01/grey_seal_s1_800x450.jpg
END:VEVENT
BEGIN:VEVENT
DTSTART;TZID=America/Chicago:20260923T114500
DTEND;TZID=America/Chicago:20260923T120000
DTSTAMP:20260420T211607
CREATED:20251103T201241Z
LAST-MODIFIED:20260318T153805Z
UID:10032696-1790163900-1790164800@go.lpzoo.org
SUMMARY:Monkey Cognition 
DESCRIPTION:
URL:https://go.lpzoo.org/event/monkey-cognition-2/2026-09-23/
ATTACH;FMTTYPE=image/jpeg:https://go.lpzoo.org/wp-content/uploads/2025/04/Macacque-800x300-1.jpg
END:VEVENT
BEGIN:VEVENT
DTSTART;TZID=America/Chicago:20260923T130000
DTEND;TZID=America/Chicago:20260923T131000
DTSTAMP:20260420T211607
CREATED:20250305T204001Z
LAST-MODIFIED:20260129T214312Z
UID:10014054-1790168400-1790169000@go.lpzoo.org
SUMMARY:Ape Cognition & Care
DESCRIPTION:
URL:https://go.lpzoo.org/event/ape-cognition-care/2026-09-23/
ATTACH;FMTTYPE=image/png:https://go.lpzoo.org/wp-content/uploads/2025/03/Chimp-photo-800x300-1.png
END:VEVENT
BEGIN:VEVENT
DTSTART;TZID=America/Chicago:20260923T134500
DTEND;TZID=America/Chicago:20260923T134500
DTSTAMP:20260420T211607
CREATED:20260417T010107Z
LAST-MODIFIED:20260417T010107Z
UID:10041464-1790171100-1790171100@go.lpzoo.org
SUMMARY:Giraffe Training
DESCRIPTION:
URL:https://go.lpzoo.org/event/giraffe-training/2026-09-23/
ATTACH;FMTTYPE=image/jpeg:https://go.lpzoo.org/wp-content/uploads/2024/03/giraffe_m_800x200.jpg
END:VEVENT
BEGIN:VEVENT
DTSTART;TZID=America/Chicago:20260923T140000
DTEND;TZID=America/Chicago:20260923T140000
DTSTAMP:20260420T211607
CREATED:20260417T005447Z
LAST-MODIFIED:20260417T005447Z
UID:10040740-1790172000-1790172000@go.lpzoo.org
SUMMARY:Penguin Feeding
DESCRIPTION:
URL:https://go.lpzoo.org/event/penguin-feeding/2026-09-23/
ATTACH;FMTTYPE=image/jpeg:https://go.lpzoo.org/wp-content/uploads/2024/03/african_penguin_m_800x200.jpg
END:VEVENT
BEGIN:VEVENT
DTSTART;TZID=America/Chicago:20260923T140000
DTEND;TZID=America/Chicago:20260923T140000
DTSTAMP:20260420T211607
CREATED:20260417T010815Z
LAST-MODIFIED:20260417T010815Z
UID:10042577-1790172000-1790172000@go.lpzoo.org
SUMMARY:Feed the Cow
DESCRIPTION:
URL:https://go.lpzoo.org/event/feed-the-cow/2026-09-23/
ATTACH;FMTTYPE=image/jpeg:https://go.lpzoo.org/wp-content/uploads/2025/05/cow-800x450-1.jpg
END:VEVENT
BEGIN:VEVENT
DTSTART;TZID=America/Chicago:20260923T143000
DTEND;TZID=America/Chicago:20260923T144000
DTSTAMP:20260420T211607
CREATED:20250305T201420Z
LAST-MODIFIED:20260129T214512Z
UID:10012211-1790173800-1790174400@go.lpzoo.org
SUMMARY:Seal Training and Feeding
DESCRIPTION:
URL:https://go.lpzoo.org/event/seal-training-and-feeding/2026-09-23/
ATTACH;FMTTYPE=image/jpeg:https://go.lpzoo.org/wp-content/uploads/2025/01/grey_seal_s1_800x450.jpg
END:VEVENT
BEGIN:VEVENT
DTSTART;TZID=America/Chicago:20260923T170000
DTEND;TZID=America/Chicago:20260923T170000
DTSTAMP:20260420T211607
CREATED:20251119T223141Z
LAST-MODIFIED:20260105T155117Z
UID:10038645-1790182800-1790182800@go.lpzoo.org
SUMMARY:Gates close
DESCRIPTION:Gates close
URL:https://go.lpzoo.org/event/gates-close-3/2026-09-23/
CATEGORIES:Notice
END:VEVENT
BEGIN:VEVENT
DTSTART;TZID=America/Chicago:20260924T100000
DTEND;TZID=America/Chicago:20260924T103000
DTSTAMP:20260420T211607
CREATED:20251105T160455Z
LAST-MODIFIED:20251105T160456Z
UID:10034090-1790244000-1790245800@go.lpzoo.org
SUMMARY:Gates and Farm-in-the-Zoo Open
DESCRIPTION:Gates and Farm-in-the-Zoo Open
URL:https://go.lpzoo.org/event/gates-and-farm-in-the-zoo-open-2/2026-09-24/
CATEGORIES:Notice
END:VEVENT
BEGIN:VEVENT
DTSTART;TZID=America/Chicago:20260924T100000
DTEND;TZID=America/Chicago:20260924T223000
DTSTAMP:20260420T211607
CREATED:20250501T142454Z
LAST-MODIFIED:20250501T142454Z
UID:10006530-1790244000-1790289000@go.lpzoo.org
SUMMARY:Buildings open
DESCRIPTION:Buildings open
URL:https://go.lpzoo.org/event/gates-buildings-and-farm-in-the-zoo-open-2-2/2026-09-24/
CATEGORIES:Notice
END:VEVENT
BEGIN:VEVENT
DTSTART;TZID=America/Chicago:20260924T110000
DTEND;TZID=America/Chicago:20260924T110000
DTSTAMP:20260420T211607
CREATED:20260417T010356Z
LAST-MODIFIED:20260417T010356Z
UID:10041636-1790247600-1790247600@go.lpzoo.org
SUMMARY:Feed the Chickens
DESCRIPTION:
URL:https://go.lpzoo.org/event/feed-the-chickens/2026-09-24/
END:VEVENT
BEGIN:VEVENT
DTSTART;TZID=America/Chicago:20260924T113000
DTEND;TZID=America/Chicago:20260924T233000
DTSTAMP:20260420T211607
CREATED:20260417T010559Z
LAST-MODIFIED:20260417T010928Z
UID:10042107-1790249400-1790292600@go.lpzoo.org
SUMMARY:Feed the Cows
DESCRIPTION:
URL:https://go.lpzoo.org/event/feed-the-cows/2026-09-24/
ATTACH;FMTTYPE=image/jpeg:https://go.lpzoo.org/wp-content/uploads/2025/05/cow-800x450-1.jpg
END:VEVENT
BEGIN:VEVENT
DTSTART;TZID=America/Chicago:20260924T113000
DTEND;TZID=America/Chicago:20260924T234000
DTSTAMP:20260420T211607
CREATED:20250125T035626Z
LAST-MODIFIED:20260126T152259Z
UID:10008478-1790249400-1790293200@go.lpzoo.org
SUMMARY:Seal Training and Feeding
DESCRIPTION:
URL:https://go.lpzoo.org/event/seal-training-and-feeding-2/2026-09-24/
ATTACH;FMTTYPE=image/jpeg:https://go.lpzoo.org/wp-content/uploads/2025/01/grey_seal_s1_800x450.jpg
END:VEVENT
BEGIN:VEVENT
DTSTART;TZID=America/Chicago:20260924T114500
DTEND;TZID=America/Chicago:20260924T120000
DTSTAMP:20260420T211607
CREATED:20251103T201241Z
LAST-MODIFIED:20260318T153805Z
UID:10032697-1790250300-1790251200@go.lpzoo.org
SUMMARY:Monkey Cognition 
DESCRIPTION:
URL:https://go.lpzoo.org/event/monkey-cognition-2/2026-09-24/
ATTACH;FMTTYPE=image/jpeg:https://go.lpzoo.org/wp-content/uploads/2025/04/Macacque-800x300-1.jpg
END:VEVENT
BEGIN:VEVENT
DTSTART;TZID=America/Chicago:20260924T130000
DTEND;TZID=America/Chicago:20260924T131000
DTSTAMP:20260420T211607
CREATED:20250305T204001Z
LAST-MODIFIED:20260129T214312Z
UID:10014055-1790254800-1790255400@go.lpzoo.org
SUMMARY:Ape Cognition & Care
DESCRIPTION:
URL:https://go.lpzoo.org/event/ape-cognition-care/2026-09-24/
ATTACH;FMTTYPE=image/png:https://go.lpzoo.org/wp-content/uploads/2025/03/Chimp-photo-800x300-1.png
END:VEVENT
BEGIN:VEVENT
DTSTART;TZID=America/Chicago:20260924T140000
DTEND;TZID=America/Chicago:20260924T140000
DTSTAMP:20260420T211607
CREATED:20260417T005447Z
LAST-MODIFIED:20260417T005447Z
UID:10040741-1790258400-1790258400@go.lpzoo.org
SUMMARY:Penguin Feeding
DESCRIPTION:
URL:https://go.lpzoo.org/event/penguin-feeding/2026-09-24/
ATTACH;FMTTYPE=image/jpeg:https://go.lpzoo.org/wp-content/uploads/2024/03/african_penguin_m_800x200.jpg
END:VEVENT
BEGIN:VEVENT
DTSTART;TZID=America/Chicago:20260924T140000
DTEND;TZID=America/Chicago:20260924T140000
DTSTAMP:20260420T211607
CREATED:20260417T010815Z
LAST-MODIFIED:20260417T010815Z
UID:10042578-1790258400-1790258400@go.lpzoo.org
SUMMARY:Feed the Cow
DESCRIPTION:
URL:https://go.lpzoo.org/event/feed-the-cow/2026-09-24/
ATTACH;FMTTYPE=image/jpeg:https://go.lpzoo.org/wp-content/uploads/2025/05/cow-800x450-1.jpg
END:VEVENT
BEGIN:VEVENT
DTSTART;TZID=America/Chicago:20260924T143000
DTEND;TZID=America/Chicago:20260924T144000
DTSTAMP:20260420T211607
CREATED:20250305T201420Z
LAST-MODIFIED:20260129T214512Z
UID:10012212-1790260200-1790260800@go.lpzoo.org
SUMMARY:Seal Training and Feeding
DESCRIPTION:
URL:https://go.lpzoo.org/event/seal-training-and-feeding/2026-09-24/
ATTACH;FMTTYPE=image/jpeg:https://go.lpzoo.org/wp-content/uploads/2025/01/grey_seal_s1_800x450.jpg
END:VEVENT
BEGIN:VEVENT
DTSTART;TZID=America/Chicago:20260924T170000
DTEND;TZID=America/Chicago:20260924T170000
DTSTAMP:20260420T211607
CREATED:20251119T223141Z
LAST-MODIFIED:20260105T155117Z
UID:10038646-1790269200-1790269200@go.lpzoo.org
SUMMARY:Gates close
DESCRIPTION:Gates close
URL:https://go.lpzoo.org/event/gates-close-3/2026-09-24/
CATEGORIES:Notice
END:VEVENT
BEGIN:VEVENT
DTSTART;TZID=America/Chicago:20260925T100000
DTEND;TZID=America/Chicago:20260925T103000
DTSTAMP:20260420T211607
CREATED:20251105T160455Z
LAST-MODIFIED:20251105T160456Z
UID:10034091-1790330400-1790332200@go.lpzoo.org
SUMMARY:Gates and Farm-in-the-Zoo Open
DESCRIPTION:Gates and Farm-in-the-Zoo Open
URL:https://go.lpzoo.org/event/gates-and-farm-in-the-zoo-open-2/2026-09-25/
CATEGORIES:Notice
END:VEVENT
BEGIN:VEVENT
DTSTART;TZID=America/Chicago:20260925T100000
DTEND;TZID=America/Chicago:20260925T223000
DTSTAMP:20260420T211607
CREATED:20250501T142454Z
LAST-MODIFIED:20250501T142454Z
UID:10006531-1790330400-1790375400@go.lpzoo.org
SUMMARY:Buildings open
DESCRIPTION:Buildings open
URL:https://go.lpzoo.org/event/gates-buildings-and-farm-in-the-zoo-open-2-2/2026-09-25/
CATEGORIES:Notice
END:VEVENT
BEGIN:VEVENT
DTSTART;TZID=America/Chicago:20260925T110000
DTEND;TZID=America/Chicago:20260925T110000
DTSTAMP:20260420T211607
CREATED:20260417T010356Z
LAST-MODIFIED:20260417T010356Z
UID:10041637-1790334000-1790334000@go.lpzoo.org
SUMMARY:Feed the Chickens
DESCRIPTION:
URL:https://go.lpzoo.org/event/feed-the-chickens/2026-09-25/
END:VEVENT
BEGIN:VEVENT
DTSTART;TZID=America/Chicago:20260925T113000
DTEND;TZID=America/Chicago:20260925T233000
DTSTAMP:20260420T211607
CREATED:20260417T010559Z
LAST-MODIFIED:20260417T010928Z
UID:10042108-1790335800-1790379000@go.lpzoo.org
SUMMARY:Feed the Cows
DESCRIPTION:
URL:https://go.lpzoo.org/event/feed-the-cows/2026-09-25/
ATTACH;FMTTYPE=image/jpeg:https://go.lpzoo.org/wp-content/uploads/2025/05/cow-800x450-1.jpg
END:VEVENT
BEGIN:VEVENT
DTSTART;TZID=America/Chicago:20260925T113000
DTEND;TZID=America/Chicago:20260925T234000
DTSTAMP:20260420T211607
CREATED:20250125T035626Z
LAST-MODIFIED:20260126T152259Z
UID:10008479-1790335800-1790379600@go.lpzoo.org
SUMMARY:Seal Training and Feeding
DESCRIPTION:
URL:https://go.lpzoo.org/event/seal-training-and-feeding-2/2026-09-25/
ATTACH;FMTTYPE=image/jpeg:https://go.lpzoo.org/wp-content/uploads/2025/01/grey_seal_s1_800x450.jpg
END:VEVENT
BEGIN:VEVENT
DTSTART;TZID=America/Chicago:20260925T114500
DTEND;TZID=America/Chicago:20260925T120000
DTSTAMP:20260420T211607
CREATED:20251103T201241Z
LAST-MODIFIED:20260318T153805Z
UID:10032698-1790336700-1790337600@go.lpzoo.org
SUMMARY:Monkey Cognition 
DESCRIPTION:
URL:https://go.lpzoo.org/event/monkey-cognition-2/2026-09-25/
ATTACH;FMTTYPE=image/jpeg:https://go.lpzoo.org/wp-content/uploads/2025/04/Macacque-800x300-1.jpg
END:VEVENT
END:VCALENDAR