BEGIN:VCALENDAR
VERSION:2.0
PRODID:-//Lincoln Park Zoo - ECPv6.15.16.1//NONSGML v1.0//EN
CALSCALE:GREGORIAN
METHOD:PUBLISH
X-WR-CALNAME:Lincoln Park Zoo
X-ORIGINAL-URL:https://go.lpzoo.org
X-WR-CALDESC:Events for Lincoln Park Zoo
REFRESH-INTERVAL;VALUE=DURATION:PT1H
X-Robots-Tag:noindex
X-PUBLISHED-TTL:PT1H
BEGIN:VTIMEZONE
TZID:America/Chicago
BEGIN:DAYLIGHT
TZOFFSETFROM:-0600
TZOFFSETTO:-0500
TZNAME:CDT
DTSTART:20250309T080000
END:DAYLIGHT
BEGIN:STANDARD
TZOFFSETFROM:-0500
TZOFFSETTO:-0600
TZNAME:CST
DTSTART:20251102T070000
END:STANDARD
BEGIN:DAYLIGHT
TZOFFSETFROM:-0600
TZOFFSETTO:-0500
TZNAME:CDT
DTSTART:20260308T080000
END:DAYLIGHT
BEGIN:STANDARD
TZOFFSETFROM:-0500
TZOFFSETTO:-0600
TZNAME:CST
DTSTART:20261101T070000
END:STANDARD
BEGIN:DAYLIGHT
TZOFFSETFROM:-0600
TZOFFSETTO:-0500
TZNAME:CDT
DTSTART:20270314T080000
END:DAYLIGHT
BEGIN:STANDARD
TZOFFSETFROM:-0500
TZOFFSETTO:-0600
TZNAME:CST
DTSTART:20271107T070000
END:STANDARD
END:VTIMEZONE
BEGIN:VEVENT
DTSTART;TZID=America/Chicago:20260905T100000
DTEND;TZID=America/Chicago:20260905T103000
DTSTAMP:20260420T091041
CREATED:20251105T160455Z
LAST-MODIFIED:20251105T160456Z
UID:10034071-1788602400-1788604200@go.lpzoo.org
SUMMARY:Gates and Farm-in-the-Zoo Open
DESCRIPTION:Gates and Farm-in-the-Zoo Open
URL:https://go.lpzoo.org/event/gates-and-farm-in-the-zoo-open-2/2026-09-05/
CATEGORIES:Notice
END:VEVENT
BEGIN:VEVENT
DTSTART;TZID=America/Chicago:20260905T100000
DTEND;TZID=America/Chicago:20260905T223000
DTSTAMP:20260420T091041
CREATED:20250501T142454Z
LAST-MODIFIED:20250501T142454Z
UID:10006511-1788602400-1788647400@go.lpzoo.org
SUMMARY:Buildings open
DESCRIPTION:Buildings open
URL:https://go.lpzoo.org/event/gates-buildings-and-farm-in-the-zoo-open-2-2/2026-09-05/
CATEGORIES:Notice
END:VEVENT
BEGIN:VEVENT
DTSTART;TZID=America/Chicago:20260905T110000
DTEND;TZID=America/Chicago:20260905T110000
DTSTAMP:20260420T091041
CREATED:20260417T010356Z
LAST-MODIFIED:20260417T010356Z
UID:10041617-1788606000-1788606000@go.lpzoo.org
SUMMARY:Feed the Chickens
DESCRIPTION:
URL:https://go.lpzoo.org/event/feed-the-chickens/2026-09-05/
END:VEVENT
BEGIN:VEVENT
DTSTART;TZID=America/Chicago:20260905T113000
DTEND;TZID=America/Chicago:20260905T233000
DTSTAMP:20260420T091041
CREATED:20260417T010559Z
LAST-MODIFIED:20260417T010928Z
UID:10042088-1788607800-1788651000@go.lpzoo.org
SUMMARY:Feed the Cows
DESCRIPTION:
URL:https://go.lpzoo.org/event/feed-the-cows/2026-09-05/
ATTACH;FMTTYPE=image/jpeg:https://go.lpzoo.org/wp-content/uploads/2025/05/cow-800x450-1.jpg
END:VEVENT
BEGIN:VEVENT
DTSTART;TZID=America/Chicago:20260905T113000
DTEND;TZID=America/Chicago:20260905T234000
DTSTAMP:20260420T091041
CREATED:20250125T035626Z
LAST-MODIFIED:20260126T152259Z
UID:10008459-1788607800-1788651600@go.lpzoo.org
SUMMARY:Seal Training and Feeding
DESCRIPTION:
URL:https://go.lpzoo.org/event/seal-training-and-feeding-2/2026-09-05/
ATTACH;FMTTYPE=image/jpeg:https://go.lpzoo.org/wp-content/uploads/2025/01/grey_seal_s1_800x450.jpg
END:VEVENT
BEGIN:VEVENT
DTSTART;TZID=America/Chicago:20260905T130000
DTEND;TZID=America/Chicago:20260905T131000
DTSTAMP:20260420T091041
CREATED:20250305T204001Z
LAST-MODIFIED:20260129T214312Z
UID:10014036-1788613200-1788613800@go.lpzoo.org
SUMMARY:Ape Cognition & Care
DESCRIPTION:
URL:https://go.lpzoo.org/event/ape-cognition-care/2026-09-05/
ATTACH;FMTTYPE=image/png:https://go.lpzoo.org/wp-content/uploads/2025/03/Chimp-photo-800x300-1.png
END:VEVENT
BEGIN:VEVENT
DTSTART;TZID=America/Chicago:20260905T140000
DTEND;TZID=America/Chicago:20260905T140000
DTSTAMP:20260420T091041
CREATED:20260417T005447Z
LAST-MODIFIED:20260417T005447Z
UID:10040722-1788616800-1788616800@go.lpzoo.org
SUMMARY:Penguin Feeding
DESCRIPTION:
URL:https://go.lpzoo.org/event/penguin-feeding/2026-09-05/
ATTACH;FMTTYPE=image/jpeg:https://go.lpzoo.org/wp-content/uploads/2024/03/african_penguin_m_800x200.jpg
END:VEVENT
BEGIN:VEVENT
DTSTART;TZID=America/Chicago:20260905T140000
DTEND;TZID=America/Chicago:20260905T140000
DTSTAMP:20260420T091041
CREATED:20260417T010815Z
LAST-MODIFIED:20260417T010815Z
UID:10042559-1788616800-1788616800@go.lpzoo.org
SUMMARY:Feed the Cow
DESCRIPTION:
URL:https://go.lpzoo.org/event/feed-the-cow/2026-09-05/
ATTACH;FMTTYPE=image/jpeg:https://go.lpzoo.org/wp-content/uploads/2025/05/cow-800x450-1.jpg
END:VEVENT
BEGIN:VEVENT
DTSTART;TZID=America/Chicago:20260905T143000
DTEND;TZID=America/Chicago:20260905T144000
DTSTAMP:20260420T091041
CREATED:20250305T201420Z
LAST-MODIFIED:20260129T214512Z
UID:10012193-1788618600-1788619200@go.lpzoo.org
SUMMARY:Seal Training and Feeding
DESCRIPTION:
URL:https://go.lpzoo.org/event/seal-training-and-feeding/2026-09-05/
ATTACH;FMTTYPE=image/jpeg:https://go.lpzoo.org/wp-content/uploads/2025/01/grey_seal_s1_800x450.jpg
END:VEVENT
BEGIN:VEVENT
DTSTART;TZID=America/Chicago:20260905T170000
DTEND;TZID=America/Chicago:20260905T170000
DTSTAMP:20260420T091041
CREATED:20251119T223141Z
LAST-MODIFIED:20260105T155117Z
UID:10038627-1788627600-1788627600@go.lpzoo.org
SUMMARY:Gates close
DESCRIPTION:Gates close
URL:https://go.lpzoo.org/event/gates-close-3/2026-09-05/
CATEGORIES:Notice
END:VEVENT
BEGIN:VEVENT
DTSTART;TZID=America/Chicago:20260906T100000
DTEND;TZID=America/Chicago:20260906T103000
DTSTAMP:20260420T091041
CREATED:20251105T160455Z
LAST-MODIFIED:20251105T160456Z
UID:10034072-1788688800-1788690600@go.lpzoo.org
SUMMARY:Gates and Farm-in-the-Zoo Open
DESCRIPTION:Gates and Farm-in-the-Zoo Open
URL:https://go.lpzoo.org/event/gates-and-farm-in-the-zoo-open-2/2026-09-06/
CATEGORIES:Notice
END:VEVENT
BEGIN:VEVENT
DTSTART;TZID=America/Chicago:20260906T100000
DTEND;TZID=America/Chicago:20260906T223000
DTSTAMP:20260420T091041
CREATED:20250501T142454Z
LAST-MODIFIED:20250501T142454Z
UID:10006512-1788688800-1788733800@go.lpzoo.org
SUMMARY:Buildings open
DESCRIPTION:Buildings open
URL:https://go.lpzoo.org/event/gates-buildings-and-farm-in-the-zoo-open-2-2/2026-09-06/
CATEGORIES:Notice
END:VEVENT
BEGIN:VEVENT
DTSTART;TZID=America/Chicago:20260906T110000
DTEND;TZID=America/Chicago:20260906T110000
DTSTAMP:20260420T091041
CREATED:20260417T010356Z
LAST-MODIFIED:20260417T010356Z
UID:10041618-1788692400-1788692400@go.lpzoo.org
SUMMARY:Feed the Chickens
DESCRIPTION:
URL:https://go.lpzoo.org/event/feed-the-chickens/2026-09-06/
END:VEVENT
BEGIN:VEVENT
DTSTART;TZID=America/Chicago:20260906T113000
DTEND;TZID=America/Chicago:20260906T233000
DTSTAMP:20260420T091041
CREATED:20260417T010559Z
LAST-MODIFIED:20260417T010928Z
UID:10042089-1788694200-1788737400@go.lpzoo.org
SUMMARY:Feed the Cows
DESCRIPTION:
URL:https://go.lpzoo.org/event/feed-the-cows/2026-09-06/
ATTACH;FMTTYPE=image/jpeg:https://go.lpzoo.org/wp-content/uploads/2025/05/cow-800x450-1.jpg
END:VEVENT
BEGIN:VEVENT
DTSTART;TZID=America/Chicago:20260906T113000
DTEND;TZID=America/Chicago:20260906T234000
DTSTAMP:20260420T091041
CREATED:20250125T035626Z
LAST-MODIFIED:20260126T152259Z
UID:10008460-1788694200-1788738000@go.lpzoo.org
SUMMARY:Seal Training and Feeding
DESCRIPTION:
URL:https://go.lpzoo.org/event/seal-training-and-feeding-2/2026-09-06/
ATTACH;FMTTYPE=image/jpeg:https://go.lpzoo.org/wp-content/uploads/2025/01/grey_seal_s1_800x450.jpg
END:VEVENT
BEGIN:VEVENT
DTSTART;TZID=America/Chicago:20260906T130000
DTEND;TZID=America/Chicago:20260906T131000
DTSTAMP:20260420T091041
CREATED:20250305T204001Z
LAST-MODIFIED:20260129T214312Z
UID:10014037-1788699600-1788700200@go.lpzoo.org
SUMMARY:Ape Cognition & Care
DESCRIPTION:
URL:https://go.lpzoo.org/event/ape-cognition-care/2026-09-06/
ATTACH;FMTTYPE=image/png:https://go.lpzoo.org/wp-content/uploads/2025/03/Chimp-photo-800x300-1.png
END:VEVENT
BEGIN:VEVENT
DTSTART;TZID=America/Chicago:20260906T140000
DTEND;TZID=America/Chicago:20260906T140000
DTSTAMP:20260420T091041
CREATED:20260417T005447Z
LAST-MODIFIED:20260417T005447Z
UID:10040723-1788703200-1788703200@go.lpzoo.org
SUMMARY:Penguin Feeding
DESCRIPTION:
URL:https://go.lpzoo.org/event/penguin-feeding/2026-09-06/
ATTACH;FMTTYPE=image/jpeg:https://go.lpzoo.org/wp-content/uploads/2024/03/african_penguin_m_800x200.jpg
END:VEVENT
BEGIN:VEVENT
DTSTART;TZID=America/Chicago:20260906T140000
DTEND;TZID=America/Chicago:20260906T140000
DTSTAMP:20260420T091041
CREATED:20260417T010815Z
LAST-MODIFIED:20260417T010815Z
UID:10042560-1788703200-1788703200@go.lpzoo.org
SUMMARY:Feed the Cow
DESCRIPTION:
URL:https://go.lpzoo.org/event/feed-the-cow/2026-09-06/
ATTACH;FMTTYPE=image/jpeg:https://go.lpzoo.org/wp-content/uploads/2025/05/cow-800x450-1.jpg
END:VEVENT
BEGIN:VEVENT
DTSTART;TZID=America/Chicago:20260906T143000
DTEND;TZID=America/Chicago:20260906T144000
DTSTAMP:20260420T091041
CREATED:20250305T201420Z
LAST-MODIFIED:20260129T214512Z
UID:10012194-1788705000-1788705600@go.lpzoo.org
SUMMARY:Seal Training and Feeding
DESCRIPTION:
URL:https://go.lpzoo.org/event/seal-training-and-feeding/2026-09-06/
ATTACH;FMTTYPE=image/jpeg:https://go.lpzoo.org/wp-content/uploads/2025/01/grey_seal_s1_800x450.jpg
END:VEVENT
BEGIN:VEVENT
DTSTART;TZID=America/Chicago:20260906T170000
DTEND;TZID=America/Chicago:20260906T170000
DTSTAMP:20260420T091041
CREATED:20251119T223141Z
LAST-MODIFIED:20260105T155117Z
UID:10038628-1788714000-1788714000@go.lpzoo.org
SUMMARY:Gates close
DESCRIPTION:Gates close
URL:https://go.lpzoo.org/event/gates-close-3/2026-09-06/
CATEGORIES:Notice
END:VEVENT
BEGIN:VEVENT
DTSTART;TZID=America/Chicago:20260907T100000
DTEND;TZID=America/Chicago:20260907T103000
DTSTAMP:20260420T091041
CREATED:20251105T160455Z
LAST-MODIFIED:20251105T160456Z
UID:10034073-1788775200-1788777000@go.lpzoo.org
SUMMARY:Gates and Farm-in-the-Zoo Open
DESCRIPTION:Gates and Farm-in-the-Zoo Open
URL:https://go.lpzoo.org/event/gates-and-farm-in-the-zoo-open-2/2026-09-07/
CATEGORIES:Notice
END:VEVENT
BEGIN:VEVENT
DTSTART;TZID=America/Chicago:20260907T100000
DTEND;TZID=America/Chicago:20260907T223000
DTSTAMP:20260420T091041
CREATED:20250501T142454Z
LAST-MODIFIED:20250501T142454Z
UID:10006513-1788775200-1788820200@go.lpzoo.org
SUMMARY:Buildings open
DESCRIPTION:Buildings open
URL:https://go.lpzoo.org/event/gates-buildings-and-farm-in-the-zoo-open-2-2/2026-09-07/
CATEGORIES:Notice
END:VEVENT
BEGIN:VEVENT
DTSTART;TZID=America/Chicago:20260907T110000
DTEND;TZID=America/Chicago:20260907T110000
DTSTAMP:20260420T091041
CREATED:20260417T010356Z
LAST-MODIFIED:20260417T010356Z
UID:10041619-1788778800-1788778800@go.lpzoo.org
SUMMARY:Feed the Chickens
DESCRIPTION:
URL:https://go.lpzoo.org/event/feed-the-chickens/2026-09-07/
END:VEVENT
BEGIN:VEVENT
DTSTART;TZID=America/Chicago:20260907T110000
DTEND;TZID=America/Chicago:20260907T231000
DTSTAMP:20260420T091041
CREATED:20260417T005654Z
LAST-MODIFIED:20260417T005654Z
UID:10002659-1788778800-1788822600@go.lpzoo.org
SUMMARY:Jamaican Iguana Care
DESCRIPTION:
URL:https://go.lpzoo.org/event/jamaican-iguana-care-2-2/2026-09-07/
ATTACH;FMTTYPE=image/jpeg:https://go.lpzoo.org/wp-content/uploads/2025/01/jamaican_iguana_s1_800x450.jpg
END:VEVENT
BEGIN:VEVENT
DTSTART;TZID=America/Chicago:20260907T113000
DTEND;TZID=America/Chicago:20260907T233000
DTSTAMP:20260420T091041
CREATED:20260417T010559Z
LAST-MODIFIED:20260417T010928Z
UID:10042090-1788780600-1788823800@go.lpzoo.org
SUMMARY:Feed the Cows
DESCRIPTION:
URL:https://go.lpzoo.org/event/feed-the-cows/2026-09-07/
ATTACH;FMTTYPE=image/jpeg:https://go.lpzoo.org/wp-content/uploads/2025/05/cow-800x450-1.jpg
END:VEVENT
BEGIN:VEVENT
DTSTART;TZID=America/Chicago:20260907T113000
DTEND;TZID=America/Chicago:20260907T234000
DTSTAMP:20260420T091041
CREATED:20250125T035626Z
LAST-MODIFIED:20260126T152259Z
UID:10008461-1788780600-1788824400@go.lpzoo.org
SUMMARY:Seal Training and Feeding
DESCRIPTION:
URL:https://go.lpzoo.org/event/seal-training-and-feeding-2/2026-09-07/
ATTACH;FMTTYPE=image/jpeg:https://go.lpzoo.org/wp-content/uploads/2025/01/grey_seal_s1_800x450.jpg
END:VEVENT
BEGIN:VEVENT
DTSTART;TZID=America/Chicago:20260907T114500
DTEND;TZID=America/Chicago:20260907T120000
DTSTAMP:20260420T091041
CREATED:20251103T201241Z
LAST-MODIFIED:20260318T153805Z
UID:10032684-1788781500-1788782400@go.lpzoo.org
SUMMARY:Monkey Cognition 
DESCRIPTION:
URL:https://go.lpzoo.org/event/monkey-cognition-2/2026-09-07/
ATTACH;FMTTYPE=image/jpeg:https://go.lpzoo.org/wp-content/uploads/2025/04/Macacque-800x300-1.jpg
END:VEVENT
BEGIN:VEVENT
DTSTART;TZID=America/Chicago:20260907T130000
DTEND;TZID=America/Chicago:20260907T131000
DTSTAMP:20260420T091041
CREATED:20250305T204001Z
LAST-MODIFIED:20260129T214312Z
UID:10014038-1788786000-1788786600@go.lpzoo.org
SUMMARY:Ape Cognition & Care
DESCRIPTION:
URL:https://go.lpzoo.org/event/ape-cognition-care/2026-09-07/
ATTACH;FMTTYPE=image/png:https://go.lpzoo.org/wp-content/uploads/2025/03/Chimp-photo-800x300-1.png
END:VEVENT
BEGIN:VEVENT
DTSTART;TZID=America/Chicago:20260907T140000
DTEND;TZID=America/Chicago:20260907T140000
DTSTAMP:20260420T091041
CREATED:20260417T005447Z
LAST-MODIFIED:20260417T005447Z
UID:10040724-1788789600-1788789600@go.lpzoo.org
SUMMARY:Penguin Feeding
DESCRIPTION:
URL:https://go.lpzoo.org/event/penguin-feeding/2026-09-07/
ATTACH;FMTTYPE=image/jpeg:https://go.lpzoo.org/wp-content/uploads/2024/03/african_penguin_m_800x200.jpg
END:VEVENT
BEGIN:VEVENT
DTSTART;TZID=America/Chicago:20260907T140000
DTEND;TZID=America/Chicago:20260907T140000
DTSTAMP:20260420T091041
CREATED:20260417T010815Z
LAST-MODIFIED:20260417T010815Z
UID:10042561-1788789600-1788789600@go.lpzoo.org
SUMMARY:Feed the Cow
DESCRIPTION:
URL:https://go.lpzoo.org/event/feed-the-cow/2026-09-07/
ATTACH;FMTTYPE=image/jpeg:https://go.lpzoo.org/wp-content/uploads/2025/05/cow-800x450-1.jpg
END:VEVENT
END:VCALENDAR