BEGIN:VCALENDAR
VERSION:2.0
PRODID:-//Lincoln Park Zoo - ECPv6.15.16.1//NONSGML v1.0//EN
CALSCALE:GREGORIAN
METHOD:PUBLISH
X-ORIGINAL-URL:https://go.lpzoo.org
X-WR-CALDESC:Events for Lincoln Park Zoo
REFRESH-INTERVAL;VALUE=DURATION:PT1H
X-Robots-Tag:noindex
X-PUBLISHED-TTL:PT1H
BEGIN:VTIMEZONE
TZID:America/Chicago
BEGIN:DAYLIGHT
TZOFFSETFROM:-0600
TZOFFSETTO:-0500
TZNAME:CDT
DTSTART:20250309T080000
END:DAYLIGHT
BEGIN:STANDARD
TZOFFSETFROM:-0500
TZOFFSETTO:-0600
TZNAME:CST
DTSTART:20251102T070000
END:STANDARD
BEGIN:DAYLIGHT
TZOFFSETFROM:-0600
TZOFFSETTO:-0500
TZNAME:CDT
DTSTART:20260308T080000
END:DAYLIGHT
BEGIN:STANDARD
TZOFFSETFROM:-0500
TZOFFSETTO:-0600
TZNAME:CST
DTSTART:20261101T070000
END:STANDARD
BEGIN:DAYLIGHT
TZOFFSETFROM:-0600
TZOFFSETTO:-0500
TZNAME:CDT
DTSTART:20270314T080000
END:DAYLIGHT
BEGIN:STANDARD
TZOFFSETFROM:-0500
TZOFFSETTO:-0600
TZNAME:CST
DTSTART:20271107T070000
END:STANDARD
END:VTIMEZONE
BEGIN:VEVENT
DTSTART;TZID=America/Chicago:20260827T170000
DTEND;TZID=America/Chicago:20260827T170000
DTSTAMP:20260419T151514
CREATED:20251119T223141Z
LAST-MODIFIED:20260105T155117Z
UID:10038618-1787850000-1787850000@go.lpzoo.org
SUMMARY:Gates close
DESCRIPTION:Gates close
URL:https://go.lpzoo.org/event/gates-close-3/2026-08-27/
CATEGORIES:Notice
END:VEVENT
BEGIN:VEVENT
DTSTART;TZID=America/Chicago:20260827T143000
DTEND;TZID=America/Chicago:20260827T144000
DTSTAMP:20260419T151514
CREATED:20250305T201420Z
LAST-MODIFIED:20260129T214512Z
UID:10012184-1787841000-1787841600@go.lpzoo.org
SUMMARY:Seal Training and Feeding
DESCRIPTION:
URL:https://go.lpzoo.org/event/seal-training-and-feeding/2026-08-27/
ATTACH;FMTTYPE=image/jpeg:https://go.lpzoo.org/wp-content/uploads/2025/01/grey_seal_s1_800x450.jpg
END:VEVENT
BEGIN:VEVENT
DTSTART;TZID=America/Chicago:20260827T140000
DTEND;TZID=America/Chicago:20260827T140000
DTSTAMP:20260419T151514
CREATED:20260417T010815Z
LAST-MODIFIED:20260417T010815Z
UID:10042550-1787839200-1787839200@go.lpzoo.org
SUMMARY:Feed the Cow
DESCRIPTION:
URL:https://go.lpzoo.org/event/feed-the-cow/2026-08-27/
ATTACH;FMTTYPE=image/jpeg:https://go.lpzoo.org/wp-content/uploads/2025/05/cow-800x450-1.jpg
END:VEVENT
BEGIN:VEVENT
DTSTART;TZID=America/Chicago:20260827T140000
DTEND;TZID=America/Chicago:20260827T140000
DTSTAMP:20260419T151514
CREATED:20260417T005447Z
LAST-MODIFIED:20260417T005447Z
UID:10040713-1787839200-1787839200@go.lpzoo.org
SUMMARY:Penguin Feeding
DESCRIPTION:
URL:https://go.lpzoo.org/event/penguin-feeding/2026-08-27/
ATTACH;FMTTYPE=image/jpeg:https://go.lpzoo.org/wp-content/uploads/2024/03/african_penguin_m_800x200.jpg
END:VEVENT
BEGIN:VEVENT
DTSTART;TZID=America/Chicago:20260827T130000
DTEND;TZID=America/Chicago:20260827T131000
DTSTAMP:20260419T151514
CREATED:20250305T204001Z
LAST-MODIFIED:20260129T214312Z
UID:10014027-1787835600-1787836200@go.lpzoo.org
SUMMARY:Ape Cognition & Care
DESCRIPTION:
URL:https://go.lpzoo.org/event/ape-cognition-care/2026-08-27/
ATTACH;FMTTYPE=image/png:https://go.lpzoo.org/wp-content/uploads/2025/03/Chimp-photo-800x300-1.png
END:VEVENT
BEGIN:VEVENT
DTSTART;TZID=America/Chicago:20260827T114500
DTEND;TZID=America/Chicago:20260827T120000
DTSTAMP:20260419T151514
CREATED:20251103T201241Z
LAST-MODIFIED:20260318T153805Z
UID:10032677-1787831100-1787832000@go.lpzoo.org
SUMMARY:Monkey Cognition 
DESCRIPTION:
URL:https://go.lpzoo.org/event/monkey-cognition-2/2026-08-27/
ATTACH;FMTTYPE=image/jpeg:https://go.lpzoo.org/wp-content/uploads/2025/04/Macacque-800x300-1.jpg
END:VEVENT
BEGIN:VEVENT
DTSTART;TZID=America/Chicago:20260827T113000
DTEND;TZID=America/Chicago:20260827T234000
DTSTAMP:20260419T151514
CREATED:20250125T035626Z
LAST-MODIFIED:20260126T152259Z
UID:10008450-1787830200-1787874000@go.lpzoo.org
SUMMARY:Seal Training and Feeding
DESCRIPTION:
URL:https://go.lpzoo.org/event/seal-training-and-feeding-2/2026-08-27/
ATTACH;FMTTYPE=image/jpeg:https://go.lpzoo.org/wp-content/uploads/2025/01/grey_seal_s1_800x450.jpg
END:VEVENT
BEGIN:VEVENT
DTSTART;TZID=America/Chicago:20260827T113000
DTEND;TZID=America/Chicago:20260827T233000
DTSTAMP:20260419T151514
CREATED:20260417T010559Z
LAST-MODIFIED:20260417T010928Z
UID:10042079-1787830200-1787873400@go.lpzoo.org
SUMMARY:Feed the Cows
DESCRIPTION:
URL:https://go.lpzoo.org/event/feed-the-cows/2026-08-27/
ATTACH;FMTTYPE=image/jpeg:https://go.lpzoo.org/wp-content/uploads/2025/05/cow-800x450-1.jpg
END:VEVENT
BEGIN:VEVENT
DTSTART;TZID=America/Chicago:20260827T110000
DTEND;TZID=America/Chicago:20260827T110000
DTSTAMP:20260419T151514
CREATED:20260417T010356Z
LAST-MODIFIED:20260417T010356Z
UID:10041608-1787828400-1787828400@go.lpzoo.org
SUMMARY:Feed the Chickens
DESCRIPTION:
URL:https://go.lpzoo.org/event/feed-the-chickens/2026-08-27/
END:VEVENT
BEGIN:VEVENT
DTSTART;TZID=America/Chicago:20260827T100000
DTEND;TZID=America/Chicago:20260827T223000
DTSTAMP:20260419T151514
CREATED:20250501T142454Z
LAST-MODIFIED:20250501T142454Z
UID:10006502-1787824800-1787869800@go.lpzoo.org
SUMMARY:Buildings open
DESCRIPTION:Buildings open
URL:https://go.lpzoo.org/event/gates-buildings-and-farm-in-the-zoo-open-2-2/2026-08-27/
CATEGORIES:Notice
END:VEVENT
BEGIN:VEVENT
DTSTART;TZID=America/Chicago:20260827T100000
DTEND;TZID=America/Chicago:20260827T103000
DTSTAMP:20260419T151514
CREATED:20251105T160455Z
LAST-MODIFIED:20251105T160456Z
UID:10034062-1787824800-1787826600@go.lpzoo.org
SUMMARY:Gates and Farm-in-the-Zoo Open
DESCRIPTION:Gates and Farm-in-the-Zoo Open
URL:https://go.lpzoo.org/event/gates-and-farm-in-the-zoo-open-2/2026-08-27/
CATEGORIES:Notice
END:VEVENT
BEGIN:VEVENT
DTSTART;TZID=America/Chicago:20260826T170000
DTEND;TZID=America/Chicago:20260826T170000
DTSTAMP:20260419T151514
CREATED:20251119T223141Z
LAST-MODIFIED:20260105T155117Z
UID:10038617-1787763600-1787763600@go.lpzoo.org
SUMMARY:Gates close
DESCRIPTION:Gates close
URL:https://go.lpzoo.org/event/gates-close-3/2026-08-26/
CATEGORIES:Notice
END:VEVENT
BEGIN:VEVENT
DTSTART;TZID=America/Chicago:20260826T143000
DTEND;TZID=America/Chicago:20260826T144000
DTSTAMP:20260419T151514
CREATED:20250305T201420Z
LAST-MODIFIED:20260129T214512Z
UID:10012183-1787754600-1787755200@go.lpzoo.org
SUMMARY:Seal Training and Feeding
DESCRIPTION:
URL:https://go.lpzoo.org/event/seal-training-and-feeding/2026-08-26/
ATTACH;FMTTYPE=image/jpeg:https://go.lpzoo.org/wp-content/uploads/2025/01/grey_seal_s1_800x450.jpg
END:VEVENT
BEGIN:VEVENT
DTSTART;TZID=America/Chicago:20260826T140000
DTEND;TZID=America/Chicago:20260826T140000
DTSTAMP:20260419T151514
CREATED:20260417T010815Z
LAST-MODIFIED:20260417T010815Z
UID:10042549-1787752800-1787752800@go.lpzoo.org
SUMMARY:Feed the Cow
DESCRIPTION:
URL:https://go.lpzoo.org/event/feed-the-cow/2026-08-26/
ATTACH;FMTTYPE=image/jpeg:https://go.lpzoo.org/wp-content/uploads/2025/05/cow-800x450-1.jpg
END:VEVENT
BEGIN:VEVENT
DTSTART;TZID=America/Chicago:20260826T140000
DTEND;TZID=America/Chicago:20260826T140000
DTSTAMP:20260419T151514
CREATED:20260417T005447Z
LAST-MODIFIED:20260417T005447Z
UID:10040712-1787752800-1787752800@go.lpzoo.org
SUMMARY:Penguin Feeding
DESCRIPTION:
URL:https://go.lpzoo.org/event/penguin-feeding/2026-08-26/
ATTACH;FMTTYPE=image/jpeg:https://go.lpzoo.org/wp-content/uploads/2024/03/african_penguin_m_800x200.jpg
END:VEVENT
BEGIN:VEVENT
DTSTART;TZID=America/Chicago:20260826T134500
DTEND;TZID=America/Chicago:20260826T134500
DTSTAMP:20260419T151514
CREATED:20260417T010107Z
LAST-MODIFIED:20260417T010107Z
UID:10041460-1787751900-1787751900@go.lpzoo.org
SUMMARY:Giraffe Training
DESCRIPTION:
URL:https://go.lpzoo.org/event/giraffe-training/2026-08-26/
ATTACH;FMTTYPE=image/jpeg:https://go.lpzoo.org/wp-content/uploads/2024/03/giraffe_m_800x200.jpg
END:VEVENT
BEGIN:VEVENT
DTSTART;TZID=America/Chicago:20260826T130000
DTEND;TZID=America/Chicago:20260826T131000
DTSTAMP:20260419T151514
CREATED:20250305T204001Z
LAST-MODIFIED:20260129T214312Z
UID:10014026-1787749200-1787749800@go.lpzoo.org
SUMMARY:Ape Cognition & Care
DESCRIPTION:
URL:https://go.lpzoo.org/event/ape-cognition-care/2026-08-26/
ATTACH;FMTTYPE=image/png:https://go.lpzoo.org/wp-content/uploads/2025/03/Chimp-photo-800x300-1.png
END:VEVENT
BEGIN:VEVENT
DTSTART;TZID=America/Chicago:20260826T114500
DTEND;TZID=America/Chicago:20260826T120000
DTSTAMP:20260419T151514
CREATED:20251103T201241Z
LAST-MODIFIED:20260318T153805Z
UID:10032676-1787744700-1787745600@go.lpzoo.org
SUMMARY:Monkey Cognition 
DESCRIPTION:
URL:https://go.lpzoo.org/event/monkey-cognition-2/2026-08-26/
ATTACH;FMTTYPE=image/jpeg:https://go.lpzoo.org/wp-content/uploads/2025/04/Macacque-800x300-1.jpg
END:VEVENT
BEGIN:VEVENT
DTSTART;TZID=America/Chicago:20260826T113000
DTEND;TZID=America/Chicago:20260826T234000
DTSTAMP:20260419T151514
CREATED:20250125T035626Z
LAST-MODIFIED:20260126T152259Z
UID:10008449-1787743800-1787787600@go.lpzoo.org
SUMMARY:Seal Training and Feeding
DESCRIPTION:
URL:https://go.lpzoo.org/event/seal-training-and-feeding-2/2026-08-26/
ATTACH;FMTTYPE=image/jpeg:https://go.lpzoo.org/wp-content/uploads/2025/01/grey_seal_s1_800x450.jpg
END:VEVENT
BEGIN:VEVENT
DTSTART;TZID=America/Chicago:20260826T113000
DTEND;TZID=America/Chicago:20260826T233000
DTSTAMP:20260419T151514
CREATED:20260417T010559Z
LAST-MODIFIED:20260417T010928Z
UID:10042078-1787743800-1787787000@go.lpzoo.org
SUMMARY:Feed the Cows
DESCRIPTION:
URL:https://go.lpzoo.org/event/feed-the-cows/2026-08-26/
ATTACH;FMTTYPE=image/jpeg:https://go.lpzoo.org/wp-content/uploads/2025/05/cow-800x450-1.jpg
END:VEVENT
BEGIN:VEVENT
DTSTART;TZID=America/Chicago:20260826T110000
DTEND;TZID=America/Chicago:20260826T231000
DTSTAMP:20260419T151514
CREATED:20260417T005654Z
LAST-MODIFIED:20260417T005654Z
UID:10041192-1787742000-1787785800@go.lpzoo.org
SUMMARY:Jamaican Iguana Care
DESCRIPTION:
URL:https://go.lpzoo.org/event/jamaican-iguana-care-2-2/2026-08-26/
ATTACH;FMTTYPE=image/jpeg:https://go.lpzoo.org/wp-content/uploads/2025/01/jamaican_iguana_s1_800x450.jpg
END:VEVENT
BEGIN:VEVENT
DTSTART;TZID=America/Chicago:20260826T110000
DTEND;TZID=America/Chicago:20260826T110000
DTSTAMP:20260419T151514
CREATED:20260417T010356Z
LAST-MODIFIED:20260417T010356Z
UID:10041607-1787742000-1787742000@go.lpzoo.org
SUMMARY:Feed the Chickens
DESCRIPTION:
URL:https://go.lpzoo.org/event/feed-the-chickens/2026-08-26/
END:VEVENT
BEGIN:VEVENT
DTSTART;TZID=America/Chicago:20260826T100000
DTEND;TZID=America/Chicago:20260826T223000
DTSTAMP:20260419T151514
CREATED:20250501T142454Z
LAST-MODIFIED:20250501T142454Z
UID:10006501-1787738400-1787783400@go.lpzoo.org
SUMMARY:Buildings open
DESCRIPTION:Buildings open
URL:https://go.lpzoo.org/event/gates-buildings-and-farm-in-the-zoo-open-2-2/2026-08-26/
CATEGORIES:Notice
END:VEVENT
BEGIN:VEVENT
DTSTART;TZID=America/Chicago:20260826T100000
DTEND;TZID=America/Chicago:20260826T103000
DTSTAMP:20260419T151514
CREATED:20251105T160455Z
LAST-MODIFIED:20251105T160456Z
UID:10034061-1787738400-1787740200@go.lpzoo.org
SUMMARY:Gates and Farm-in-the-Zoo Open
DESCRIPTION:Gates and Farm-in-the-Zoo Open
URL:https://go.lpzoo.org/event/gates-and-farm-in-the-zoo-open-2/2026-08-26/
CATEGORIES:Notice
END:VEVENT
BEGIN:VEVENT
DTSTART;TZID=America/Chicago:20260825T170000
DTEND;TZID=America/Chicago:20260825T170000
DTSTAMP:20260419T151514
CREATED:20251119T223141Z
LAST-MODIFIED:20260105T155117Z
UID:10038616-1787677200-1787677200@go.lpzoo.org
SUMMARY:Gates close
DESCRIPTION:Gates close
URL:https://go.lpzoo.org/event/gates-close-3/2026-08-25/
CATEGORIES:Notice
END:VEVENT
BEGIN:VEVENT
DTSTART;TZID=America/Chicago:20260825T143000
DTEND;TZID=America/Chicago:20260825T144000
DTSTAMP:20260419T151514
CREATED:20250305T201420Z
LAST-MODIFIED:20260129T214512Z
UID:10012182-1787668200-1787668800@go.lpzoo.org
SUMMARY:Seal Training and Feeding
DESCRIPTION:
URL:https://go.lpzoo.org/event/seal-training-and-feeding/2026-08-25/
ATTACH;FMTTYPE=image/jpeg:https://go.lpzoo.org/wp-content/uploads/2025/01/grey_seal_s1_800x450.jpg
END:VEVENT
BEGIN:VEVENT
DTSTART;TZID=America/Chicago:20260825T140000
DTEND;TZID=America/Chicago:20260825T140000
DTSTAMP:20260419T151514
CREATED:20260417T010815Z
LAST-MODIFIED:20260417T010815Z
UID:10042548-1787666400-1787666400@go.lpzoo.org
SUMMARY:Feed the Cow
DESCRIPTION:
URL:https://go.lpzoo.org/event/feed-the-cow/2026-08-25/
ATTACH;FMTTYPE=image/jpeg:https://go.lpzoo.org/wp-content/uploads/2025/05/cow-800x450-1.jpg
END:VEVENT
BEGIN:VEVENT
DTSTART;TZID=America/Chicago:20260825T140000
DTEND;TZID=America/Chicago:20260825T140000
DTSTAMP:20260419T151514
CREATED:20260417T005447Z
LAST-MODIFIED:20260417T005447Z
UID:10040711-1787666400-1787666400@go.lpzoo.org
SUMMARY:Penguin Feeding
DESCRIPTION:
URL:https://go.lpzoo.org/event/penguin-feeding/2026-08-25/
ATTACH;FMTTYPE=image/jpeg:https://go.lpzoo.org/wp-content/uploads/2024/03/african_penguin_m_800x200.jpg
END:VEVENT
BEGIN:VEVENT
DTSTART;TZID=America/Chicago:20260825T130000
DTEND;TZID=America/Chicago:20260825T131000
DTSTAMP:20260419T151514
CREATED:20250305T204001Z
LAST-MODIFIED:20260129T214312Z
UID:10014025-1787662800-1787663400@go.lpzoo.org
SUMMARY:Ape Cognition & Care
DESCRIPTION:
URL:https://go.lpzoo.org/event/ape-cognition-care/2026-08-25/
ATTACH;FMTTYPE=image/png:https://go.lpzoo.org/wp-content/uploads/2025/03/Chimp-photo-800x300-1.png
END:VEVENT
BEGIN:VEVENT
DTSTART;TZID=America/Chicago:20260825T114500
DTEND;TZID=America/Chicago:20260825T120000
DTSTAMP:20260419T151514
CREATED:20251103T201241Z
LAST-MODIFIED:20260318T153805Z
UID:10032675-1787658300-1787659200@go.lpzoo.org
SUMMARY:Monkey Cognition 
DESCRIPTION:
URL:https://go.lpzoo.org/event/monkey-cognition-2/2026-08-25/
ATTACH;FMTTYPE=image/jpeg:https://go.lpzoo.org/wp-content/uploads/2025/04/Macacque-800x300-1.jpg
END:VEVENT
END:VCALENDAR