BEGIN:VCALENDAR
VERSION:2.0
PRODID:-//Lincoln Park Zoo - ECPv6.15.16.1//NONSGML v1.0//EN
CALSCALE:GREGORIAN
METHOD:PUBLISH
X-WR-CALNAME:Lincoln Park Zoo
X-ORIGINAL-URL:https://go.lpzoo.org
X-WR-CALDESC:Events for Lincoln Park Zoo
REFRESH-INTERVAL;VALUE=DURATION:PT1H
X-Robots-Tag:noindex
X-PUBLISHED-TTL:PT1H
BEGIN:VTIMEZONE
TZID:America/Chicago
BEGIN:DAYLIGHT
TZOFFSETFROM:-0600
TZOFFSETTO:-0500
TZNAME:CDT
DTSTART:20250309T080000
END:DAYLIGHT
BEGIN:STANDARD
TZOFFSETFROM:-0500
TZOFFSETTO:-0600
TZNAME:CST
DTSTART:20251102T070000
END:STANDARD
BEGIN:DAYLIGHT
TZOFFSETFROM:-0600
TZOFFSETTO:-0500
TZNAME:CDT
DTSTART:20260308T080000
END:DAYLIGHT
BEGIN:STANDARD
TZOFFSETFROM:-0500
TZOFFSETTO:-0600
TZNAME:CST
DTSTART:20261101T070000
END:STANDARD
BEGIN:DAYLIGHT
TZOFFSETFROM:-0600
TZOFFSETTO:-0500
TZNAME:CDT
DTSTART:20270314T080000
END:DAYLIGHT
BEGIN:STANDARD
TZOFFSETFROM:-0500
TZOFFSETTO:-0600
TZNAME:CST
DTSTART:20271107T070000
END:STANDARD
END:VTIMEZONE
BEGIN:VEVENT
DTSTART;TZID=America/Chicago:20260823T170000
DTEND;TZID=America/Chicago:20260823T170000
DTSTAMP:20260419T190209
CREATED:20251119T223141Z
LAST-MODIFIED:20260105T155117Z
UID:10038614-1787504400-1787504400@go.lpzoo.org
SUMMARY:Gates close
DESCRIPTION:Gates close
URL:https://go.lpzoo.org/event/gates-close-3/2026-08-23/
CATEGORIES:Notice
END:VEVENT
BEGIN:VEVENT
DTSTART;TZID=America/Chicago:20260823T143000
DTEND;TZID=America/Chicago:20260823T144000
DTSTAMP:20260419T190209
CREATED:20250305T201420Z
LAST-MODIFIED:20260129T214512Z
UID:10012180-1787495400-1787496000@go.lpzoo.org
SUMMARY:Seal Training and Feeding
DESCRIPTION:
URL:https://go.lpzoo.org/event/seal-training-and-feeding/2026-08-23/
ATTACH;FMTTYPE=image/jpeg:https://go.lpzoo.org/wp-content/uploads/2025/01/grey_seal_s1_800x450.jpg
END:VEVENT
BEGIN:VEVENT
DTSTART;TZID=America/Chicago:20260823T140000
DTEND;TZID=America/Chicago:20260823T140000
DTSTAMP:20260419T190209
CREATED:20260417T010815Z
LAST-MODIFIED:20260417T010815Z
UID:10042546-1787493600-1787493600@go.lpzoo.org
SUMMARY:Feed the Cow
DESCRIPTION:
URL:https://go.lpzoo.org/event/feed-the-cow/2026-08-23/
ATTACH;FMTTYPE=image/jpeg:https://go.lpzoo.org/wp-content/uploads/2025/05/cow-800x450-1.jpg
END:VEVENT
BEGIN:VEVENT
DTSTART;TZID=America/Chicago:20260823T140000
DTEND;TZID=America/Chicago:20260823T140000
DTSTAMP:20260419T190209
CREATED:20260417T005447Z
LAST-MODIFIED:20260417T005447Z
UID:10040709-1787493600-1787493600@go.lpzoo.org
SUMMARY:Penguin Feeding
DESCRIPTION:
URL:https://go.lpzoo.org/event/penguin-feeding/2026-08-23/
ATTACH;FMTTYPE=image/jpeg:https://go.lpzoo.org/wp-content/uploads/2024/03/african_penguin_m_800x200.jpg
END:VEVENT
BEGIN:VEVENT
DTSTART;TZID=America/Chicago:20260823T130000
DTEND;TZID=America/Chicago:20260823T131000
DTSTAMP:20260419T190209
CREATED:20250305T204001Z
LAST-MODIFIED:20260129T214312Z
UID:10014023-1787490000-1787490600@go.lpzoo.org
SUMMARY:Ape Cognition & Care
DESCRIPTION:
URL:https://go.lpzoo.org/event/ape-cognition-care/2026-08-23/
ATTACH;FMTTYPE=image/png:https://go.lpzoo.org/wp-content/uploads/2025/03/Chimp-photo-800x300-1.png
END:VEVENT
BEGIN:VEVENT
DTSTART;TZID=America/Chicago:20260823T113000
DTEND;TZID=America/Chicago:20260823T234000
DTSTAMP:20260419T190209
CREATED:20250125T035626Z
LAST-MODIFIED:20260126T152259Z
UID:10008446-1787484600-1787528400@go.lpzoo.org
SUMMARY:Seal Training and Feeding
DESCRIPTION:
URL:https://go.lpzoo.org/event/seal-training-and-feeding-2/2026-08-23/
ATTACH;FMTTYPE=image/jpeg:https://go.lpzoo.org/wp-content/uploads/2025/01/grey_seal_s1_800x450.jpg
END:VEVENT
BEGIN:VEVENT
DTSTART;TZID=America/Chicago:20260823T113000
DTEND;TZID=America/Chicago:20260823T233000
DTSTAMP:20260419T190209
CREATED:20260417T010559Z
LAST-MODIFIED:20260417T010928Z
UID:10042075-1787484600-1787527800@go.lpzoo.org
SUMMARY:Feed the Cows
DESCRIPTION:
URL:https://go.lpzoo.org/event/feed-the-cows/2026-08-23/
ATTACH;FMTTYPE=image/jpeg:https://go.lpzoo.org/wp-content/uploads/2025/05/cow-800x450-1.jpg
END:VEVENT
BEGIN:VEVENT
DTSTART;TZID=America/Chicago:20260823T110000
DTEND;TZID=America/Chicago:20260823T110000
DTSTAMP:20260419T190209
CREATED:20260417T010356Z
LAST-MODIFIED:20260417T010356Z
UID:10041604-1787482800-1787482800@go.lpzoo.org
SUMMARY:Feed the Chickens
DESCRIPTION:
URL:https://go.lpzoo.org/event/feed-the-chickens/2026-08-23/
END:VEVENT
BEGIN:VEVENT
DTSTART;TZID=America/Chicago:20260823T100000
DTEND;TZID=America/Chicago:20260823T223000
DTSTAMP:20260419T190209
CREATED:20250501T142454Z
LAST-MODIFIED:20250501T142454Z
UID:10006498-1787479200-1787524200@go.lpzoo.org
SUMMARY:Buildings open
DESCRIPTION:Buildings open
URL:https://go.lpzoo.org/event/gates-buildings-and-farm-in-the-zoo-open-2-2/2026-08-23/
CATEGORIES:Notice
END:VEVENT
BEGIN:VEVENT
DTSTART;TZID=America/Chicago:20260823T100000
DTEND;TZID=America/Chicago:20260823T103000
DTSTAMP:20260419T190209
CREATED:20251105T160455Z
LAST-MODIFIED:20251105T160456Z
UID:10034058-1787479200-1787481000@go.lpzoo.org
SUMMARY:Gates and Farm-in-the-Zoo Open
DESCRIPTION:Gates and Farm-in-the-Zoo Open
URL:https://go.lpzoo.org/event/gates-and-farm-in-the-zoo-open-2/2026-08-23/
CATEGORIES:Notice
END:VEVENT
BEGIN:VEVENT
DTSTART;TZID=America/Chicago:20260822T170000
DTEND;TZID=America/Chicago:20260822T170000
DTSTAMP:20260419T190209
CREATED:20251119T223141Z
LAST-MODIFIED:20260105T155117Z
UID:10038613-1787418000-1787418000@go.lpzoo.org
SUMMARY:Gates close
DESCRIPTION:Gates close
URL:https://go.lpzoo.org/event/gates-close-3/2026-08-22/
CATEGORIES:Notice
END:VEVENT
BEGIN:VEVENT
DTSTART;TZID=America/Chicago:20260822T143000
DTEND;TZID=America/Chicago:20260822T144000
DTSTAMP:20260419T190209
CREATED:20250305T201420Z
LAST-MODIFIED:20260129T214512Z
UID:10012179-1787409000-1787409600@go.lpzoo.org
SUMMARY:Seal Training and Feeding
DESCRIPTION:
URL:https://go.lpzoo.org/event/seal-training-and-feeding/2026-08-22/
ATTACH;FMTTYPE=image/jpeg:https://go.lpzoo.org/wp-content/uploads/2025/01/grey_seal_s1_800x450.jpg
END:VEVENT
BEGIN:VEVENT
DTSTART;TZID=America/Chicago:20260822T140000
DTEND;TZID=America/Chicago:20260822T140000
DTSTAMP:20260419T190209
CREATED:20260417T010815Z
LAST-MODIFIED:20260417T010815Z
UID:10042545-1787407200-1787407200@go.lpzoo.org
SUMMARY:Feed the Cow
DESCRIPTION:
URL:https://go.lpzoo.org/event/feed-the-cow/2026-08-22/
ATTACH;FMTTYPE=image/jpeg:https://go.lpzoo.org/wp-content/uploads/2025/05/cow-800x450-1.jpg
END:VEVENT
BEGIN:VEVENT
DTSTART;TZID=America/Chicago:20260822T140000
DTEND;TZID=America/Chicago:20260822T140000
DTSTAMP:20260419T190209
CREATED:20260417T005447Z
LAST-MODIFIED:20260417T005447Z
UID:10040708-1787407200-1787407200@go.lpzoo.org
SUMMARY:Penguin Feeding
DESCRIPTION:
URL:https://go.lpzoo.org/event/penguin-feeding/2026-08-22/
ATTACH;FMTTYPE=image/jpeg:https://go.lpzoo.org/wp-content/uploads/2024/03/african_penguin_m_800x200.jpg
END:VEVENT
BEGIN:VEVENT
DTSTART;TZID=America/Chicago:20260822T130000
DTEND;TZID=America/Chicago:20260822T131000
DTSTAMP:20260419T190209
CREATED:20250305T204001Z
LAST-MODIFIED:20260129T214312Z
UID:10014022-1787403600-1787404200@go.lpzoo.org
SUMMARY:Ape Cognition & Care
DESCRIPTION:
URL:https://go.lpzoo.org/event/ape-cognition-care/2026-08-22/
ATTACH;FMTTYPE=image/png:https://go.lpzoo.org/wp-content/uploads/2025/03/Chimp-photo-800x300-1.png
END:VEVENT
BEGIN:VEVENT
DTSTART;TZID=America/Chicago:20260822T113000
DTEND;TZID=America/Chicago:20260822T234000
DTSTAMP:20260419T190209
CREATED:20250125T035626Z
LAST-MODIFIED:20260126T152259Z
UID:10008445-1787398200-1787442000@go.lpzoo.org
SUMMARY:Seal Training and Feeding
DESCRIPTION:
URL:https://go.lpzoo.org/event/seal-training-and-feeding-2/2026-08-22/
ATTACH;FMTTYPE=image/jpeg:https://go.lpzoo.org/wp-content/uploads/2025/01/grey_seal_s1_800x450.jpg
END:VEVENT
BEGIN:VEVENT
DTSTART;TZID=America/Chicago:20260822T113000
DTEND;TZID=America/Chicago:20260822T233000
DTSTAMP:20260419T190209
CREATED:20260417T010559Z
LAST-MODIFIED:20260417T010928Z
UID:10042074-1787398200-1787441400@go.lpzoo.org
SUMMARY:Feed the Cows
DESCRIPTION:
URL:https://go.lpzoo.org/event/feed-the-cows/2026-08-22/
ATTACH;FMTTYPE=image/jpeg:https://go.lpzoo.org/wp-content/uploads/2025/05/cow-800x450-1.jpg
END:VEVENT
BEGIN:VEVENT
DTSTART;TZID=America/Chicago:20260822T110000
DTEND;TZID=America/Chicago:20260822T110000
DTSTAMP:20260419T190209
CREATED:20260417T010356Z
LAST-MODIFIED:20260417T010356Z
UID:10041603-1787396400-1787396400@go.lpzoo.org
SUMMARY:Feed the Chickens
DESCRIPTION:
URL:https://go.lpzoo.org/event/feed-the-chickens/2026-08-22/
END:VEVENT
BEGIN:VEVENT
DTSTART;TZID=America/Chicago:20260822T100000
DTEND;TZID=America/Chicago:20260822T223000
DTSTAMP:20260419T190209
CREATED:20250501T142454Z
LAST-MODIFIED:20250501T142454Z
UID:10006497-1787392800-1787437800@go.lpzoo.org
SUMMARY:Buildings open
DESCRIPTION:Buildings open
URL:https://go.lpzoo.org/event/gates-buildings-and-farm-in-the-zoo-open-2-2/2026-08-22/
CATEGORIES:Notice
END:VEVENT
BEGIN:VEVENT
DTSTART;TZID=America/Chicago:20260822T100000
DTEND;TZID=America/Chicago:20260822T103000
DTSTAMP:20260419T190209
CREATED:20251105T160455Z
LAST-MODIFIED:20251105T160456Z
UID:10034057-1787392800-1787394600@go.lpzoo.org
SUMMARY:Gates and Farm-in-the-Zoo Open
DESCRIPTION:Gates and Farm-in-the-Zoo Open
URL:https://go.lpzoo.org/event/gates-and-farm-in-the-zoo-open-2/2026-08-22/
CATEGORIES:Notice
END:VEVENT
BEGIN:VEVENT
DTSTART;TZID=America/Chicago:20260821T170000
DTEND;TZID=America/Chicago:20260821T170000
DTSTAMP:20260419T190209
CREATED:20251119T223141Z
LAST-MODIFIED:20260105T155117Z
UID:10038612-1787331600-1787331600@go.lpzoo.org
SUMMARY:Gates close
DESCRIPTION:Gates close
URL:https://go.lpzoo.org/event/gates-close-3/2026-08-21/
CATEGORIES:Notice
END:VEVENT
BEGIN:VEVENT
DTSTART;TZID=America/Chicago:20260821T143000
DTEND;TZID=America/Chicago:20260821T144000
DTSTAMP:20260419T190209
CREATED:20250305T201420Z
LAST-MODIFIED:20260129T214512Z
UID:10012178-1787322600-1787323200@go.lpzoo.org
SUMMARY:Seal Training and Feeding
DESCRIPTION:
URL:https://go.lpzoo.org/event/seal-training-and-feeding/2026-08-21/
ATTACH;FMTTYPE=image/jpeg:https://go.lpzoo.org/wp-content/uploads/2025/01/grey_seal_s1_800x450.jpg
END:VEVENT
BEGIN:VEVENT
DTSTART;TZID=America/Chicago:20260821T140000
DTEND;TZID=America/Chicago:20260821T140000
DTSTAMP:20260419T190209
CREATED:20260417T010815Z
LAST-MODIFIED:20260417T010815Z
UID:10042544-1787320800-1787320800@go.lpzoo.org
SUMMARY:Feed the Cow
DESCRIPTION:
URL:https://go.lpzoo.org/event/feed-the-cow/2026-08-21/
ATTACH;FMTTYPE=image/jpeg:https://go.lpzoo.org/wp-content/uploads/2025/05/cow-800x450-1.jpg
END:VEVENT
BEGIN:VEVENT
DTSTART;TZID=America/Chicago:20260821T140000
DTEND;TZID=America/Chicago:20260821T140000
DTSTAMP:20260419T190209
CREATED:20260417T005447Z
LAST-MODIFIED:20260417T005447Z
UID:10040707-1787320800-1787320800@go.lpzoo.org
SUMMARY:Penguin Feeding
DESCRIPTION:
URL:https://go.lpzoo.org/event/penguin-feeding/2026-08-21/
ATTACH;FMTTYPE=image/jpeg:https://go.lpzoo.org/wp-content/uploads/2024/03/african_penguin_m_800x200.jpg
END:VEVENT
BEGIN:VEVENT
DTSTART;TZID=America/Chicago:20260821T130000
DTEND;TZID=America/Chicago:20260821T131000
DTSTAMP:20260419T190209
CREATED:20250305T204001Z
LAST-MODIFIED:20260129T214312Z
UID:10014021-1787317200-1787317800@go.lpzoo.org
SUMMARY:Ape Cognition & Care
DESCRIPTION:
URL:https://go.lpzoo.org/event/ape-cognition-care/2026-08-21/
ATTACH;FMTTYPE=image/png:https://go.lpzoo.org/wp-content/uploads/2025/03/Chimp-photo-800x300-1.png
END:VEVENT
BEGIN:VEVENT
DTSTART;TZID=America/Chicago:20260821T114500
DTEND;TZID=America/Chicago:20260821T120000
DTSTAMP:20260419T190209
CREATED:20251103T201241Z
LAST-MODIFIED:20260318T153805Z
UID:10032673-1787312700-1787313600@go.lpzoo.org
SUMMARY:Monkey Cognition 
DESCRIPTION:
URL:https://go.lpzoo.org/event/monkey-cognition-2/2026-08-21/
ATTACH;FMTTYPE=image/jpeg:https://go.lpzoo.org/wp-content/uploads/2025/04/Macacque-800x300-1.jpg
END:VEVENT
BEGIN:VEVENT
DTSTART;TZID=America/Chicago:20260821T113000
DTEND;TZID=America/Chicago:20260821T234000
DTSTAMP:20260419T190209
CREATED:20250125T035626Z
LAST-MODIFIED:20260126T152259Z
UID:10008444-1787311800-1787355600@go.lpzoo.org
SUMMARY:Seal Training and Feeding
DESCRIPTION:
URL:https://go.lpzoo.org/event/seal-training-and-feeding-2/2026-08-21/
ATTACH;FMTTYPE=image/jpeg:https://go.lpzoo.org/wp-content/uploads/2025/01/grey_seal_s1_800x450.jpg
END:VEVENT
BEGIN:VEVENT
DTSTART;TZID=America/Chicago:20260821T113000
DTEND;TZID=America/Chicago:20260821T233000
DTSTAMP:20260419T190209
CREATED:20260417T010559Z
LAST-MODIFIED:20260417T010928Z
UID:10042073-1787311800-1787355000@go.lpzoo.org
SUMMARY:Feed the Cows
DESCRIPTION:
URL:https://go.lpzoo.org/event/feed-the-cows/2026-08-21/
ATTACH;FMTTYPE=image/jpeg:https://go.lpzoo.org/wp-content/uploads/2025/05/cow-800x450-1.jpg
END:VEVENT
BEGIN:VEVENT
DTSTART;TZID=America/Chicago:20260821T110000
DTEND;TZID=America/Chicago:20260821T110000
DTSTAMP:20260419T190209
CREATED:20260417T010356Z
LAST-MODIFIED:20260417T010356Z
UID:10041602-1787310000-1787310000@go.lpzoo.org
SUMMARY:Feed the Chickens
DESCRIPTION:
URL:https://go.lpzoo.org/event/feed-the-chickens/2026-08-21/
END:VEVENT
BEGIN:VEVENT
DTSTART;TZID=America/Chicago:20260821T100000
DTEND;TZID=America/Chicago:20260821T223000
DTSTAMP:20260419T190209
CREATED:20250501T142454Z
LAST-MODIFIED:20250501T142454Z
UID:10006496-1787306400-1787351400@go.lpzoo.org
SUMMARY:Buildings open
DESCRIPTION:Buildings open
URL:https://go.lpzoo.org/event/gates-buildings-and-farm-in-the-zoo-open-2-2/2026-08-21/
CATEGORIES:Notice
END:VEVENT
END:VCALENDAR