BEGIN:VCALENDAR
VERSION:2.0
PRODID:-//Lincoln Park Zoo - ECPv6.15.16.1//NONSGML v1.0//EN
CALSCALE:GREGORIAN
METHOD:PUBLISH
X-ORIGINAL-URL:https://go.lpzoo.org
X-WR-CALDESC:Events for Lincoln Park Zoo
REFRESH-INTERVAL;VALUE=DURATION:PT1H
X-Robots-Tag:noindex
X-PUBLISHED-TTL:PT1H
BEGIN:VTIMEZONE
TZID:America/Chicago
BEGIN:DAYLIGHT
TZOFFSETFROM:-0600
TZOFFSETTO:-0500
TZNAME:CDT
DTSTART:20250309T080000
END:DAYLIGHT
BEGIN:STANDARD
TZOFFSETFROM:-0500
TZOFFSETTO:-0600
TZNAME:CST
DTSTART:20251102T070000
END:STANDARD
BEGIN:DAYLIGHT
TZOFFSETFROM:-0600
TZOFFSETTO:-0500
TZNAME:CDT
DTSTART:20260308T080000
END:DAYLIGHT
BEGIN:STANDARD
TZOFFSETFROM:-0500
TZOFFSETTO:-0600
TZNAME:CST
DTSTART:20261101T070000
END:STANDARD
BEGIN:DAYLIGHT
TZOFFSETFROM:-0600
TZOFFSETTO:-0500
TZNAME:CDT
DTSTART:20270314T080000
END:DAYLIGHT
BEGIN:STANDARD
TZOFFSETFROM:-0500
TZOFFSETTO:-0600
TZNAME:CST
DTSTART:20271107T070000
END:STANDARD
END:VTIMEZONE
BEGIN:VEVENT
DTSTART;TZID=America/Chicago:20260814T130000
DTEND;TZID=America/Chicago:20260814T131000
DTSTAMP:20260424T030347
CREATED:20250305T204001Z
LAST-MODIFIED:20260423T143520Z
UID:10014014-1786712400-1786713000@go.lpzoo.org
SUMMARY:Ape Cognition & Care
DESCRIPTION:
URL:https://go.lpzoo.org/event/ape-cognition-care/2026-08-14/
ATTACH;FMTTYPE=image/png:https://go.lpzoo.org/wp-content/uploads/2025/03/Chimp-photo-800x300-1.png
END:VEVENT
BEGIN:VEVENT
DTSTART;TZID=America/Chicago:20260814T140000
DTEND;TZID=America/Chicago:20260814T140000
DTSTAMP:20260424T030347
CREATED:20260417T005447Z
LAST-MODIFIED:20260417T005447Z
UID:10040700-1786716000-1786716000@go.lpzoo.org
SUMMARY:Penguin Feeding
DESCRIPTION:
URL:https://go.lpzoo.org/event/penguin-feeding/2026-08-14/
ATTACH;FMTTYPE=image/jpeg:https://go.lpzoo.org/wp-content/uploads/2024/03/african_penguin_m_800x200.jpg
END:VEVENT
BEGIN:VEVENT
DTSTART;TZID=America/Chicago:20260814T140000
DTEND;TZID=America/Chicago:20260814T140000
DTSTAMP:20260424T030347
CREATED:20260417T010815Z
LAST-MODIFIED:20260417T010815Z
UID:10042537-1786716000-1786716000@go.lpzoo.org
SUMMARY:Feed the Cow
DESCRIPTION:
URL:https://go.lpzoo.org/event/feed-the-cow/2026-08-14/
ATTACH;FMTTYPE=image/jpeg:https://go.lpzoo.org/wp-content/uploads/2025/05/cow-800x450-1.jpg
END:VEVENT
BEGIN:VEVENT
DTSTART;TZID=America/Chicago:20260814T143000
DTEND;TZID=America/Chicago:20260814T144000
DTSTAMP:20260424T030347
CREATED:20250305T201420Z
LAST-MODIFIED:20260129T214512Z
UID:10012171-1786717800-1786718400@go.lpzoo.org
SUMMARY:Seal Training and Feeding
DESCRIPTION:
URL:https://go.lpzoo.org/event/seal-training-and-feeding/2026-08-14/
ATTACH;FMTTYPE=image/jpeg:https://go.lpzoo.org/wp-content/uploads/2025/01/grey_seal_s1_800x450.jpg
END:VEVENT
BEGIN:VEVENT
DTSTART;TZID=America/Chicago:20260814T170000
DTEND;TZID=America/Chicago:20260814T170000
DTSTAMP:20260424T030347
CREATED:20251119T223141Z
LAST-MODIFIED:20260105T155117Z
UID:10038605-1786726800-1786726800@go.lpzoo.org
SUMMARY:Gates close
DESCRIPTION:Gates close
URL:https://go.lpzoo.org/event/gates-close-3/2026-08-14/
CATEGORIES:Notice
END:VEVENT
BEGIN:VEVENT
DTSTART;TZID=America/Chicago:20260815T100000
DTEND;TZID=America/Chicago:20260815T103000
DTSTAMP:20260424T030347
CREATED:20251105T160455Z
LAST-MODIFIED:20251105T160456Z
UID:10034050-1786788000-1786789800@go.lpzoo.org
SUMMARY:Gates and Farm-in-the-Zoo Open
DESCRIPTION:Gates and Farm-in-the-Zoo Open
URL:https://go.lpzoo.org/event/gates-and-farm-in-the-zoo-open-2/2026-08-15/
CATEGORIES:Notice
END:VEVENT
BEGIN:VEVENT
DTSTART;TZID=America/Chicago:20260815T100000
DTEND;TZID=America/Chicago:20260815T223000
DTSTAMP:20260424T030347
CREATED:20250501T142454Z
LAST-MODIFIED:20250501T142454Z
UID:10006490-1786788000-1786833000@go.lpzoo.org
SUMMARY:Buildings open
DESCRIPTION:Buildings open
URL:https://go.lpzoo.org/event/gates-buildings-and-farm-in-the-zoo-open-2-2/2026-08-15/
CATEGORIES:Notice
END:VEVENT
BEGIN:VEVENT
DTSTART;TZID=America/Chicago:20260815T110000
DTEND;TZID=America/Chicago:20260815T110000
DTSTAMP:20260424T030347
CREATED:20260417T010356Z
LAST-MODIFIED:20260417T010356Z
UID:10041596-1786791600-1786791600@go.lpzoo.org
SUMMARY:Feed the Chickens
DESCRIPTION:
URL:https://go.lpzoo.org/event/feed-the-chickens/2026-08-15/
END:VEVENT
BEGIN:VEVENT
DTSTART;TZID=America/Chicago:20260815T113000
DTEND;TZID=America/Chicago:20260815T233000
DTSTAMP:20260424T030347
CREATED:20260417T010559Z
LAST-MODIFIED:20260417T010928Z
UID:10042067-1786793400-1786836600@go.lpzoo.org
SUMMARY:Feed the Cows
DESCRIPTION:
URL:https://go.lpzoo.org/event/feed-the-cows/2026-08-15/
ATTACH;FMTTYPE=image/jpeg:https://go.lpzoo.org/wp-content/uploads/2025/05/cow-800x450-1.jpg
END:VEVENT
BEGIN:VEVENT
DTSTART;TZID=America/Chicago:20260815T113000
DTEND;TZID=America/Chicago:20260815T234000
DTSTAMP:20260424T030347
CREATED:20250125T035626Z
LAST-MODIFIED:20260126T152259Z
UID:10008438-1786793400-1786837200@go.lpzoo.org
SUMMARY:Seal Training and Feeding
DESCRIPTION:
URL:https://go.lpzoo.org/event/seal-training-and-feeding-2/2026-08-15/
ATTACH;FMTTYPE=image/jpeg:https://go.lpzoo.org/wp-content/uploads/2025/01/grey_seal_s1_800x450.jpg
END:VEVENT
BEGIN:VEVENT
DTSTART;TZID=America/Chicago:20260815T130000
DTEND;TZID=America/Chicago:20260815T131000
DTSTAMP:20260424T030347
CREATED:20250305T204001Z
LAST-MODIFIED:20260423T143520Z
UID:10014015-1786798800-1786799400@go.lpzoo.org
SUMMARY:Ape Cognition & Care
DESCRIPTION:
URL:https://go.lpzoo.org/event/ape-cognition-care/2026-08-15/
ATTACH;FMTTYPE=image/png:https://go.lpzoo.org/wp-content/uploads/2025/03/Chimp-photo-800x300-1.png
END:VEVENT
BEGIN:VEVENT
DTSTART;TZID=America/Chicago:20260815T140000
DTEND;TZID=America/Chicago:20260815T140000
DTSTAMP:20260424T030347
CREATED:20260417T005447Z
LAST-MODIFIED:20260417T005447Z
UID:10040701-1786802400-1786802400@go.lpzoo.org
SUMMARY:Penguin Feeding
DESCRIPTION:
URL:https://go.lpzoo.org/event/penguin-feeding/2026-08-15/
ATTACH;FMTTYPE=image/jpeg:https://go.lpzoo.org/wp-content/uploads/2024/03/african_penguin_m_800x200.jpg
END:VEVENT
BEGIN:VEVENT
DTSTART;TZID=America/Chicago:20260815T140000
DTEND;TZID=America/Chicago:20260815T140000
DTSTAMP:20260424T030347
CREATED:20260417T010815Z
LAST-MODIFIED:20260417T010815Z
UID:10042538-1786802400-1786802400@go.lpzoo.org
SUMMARY:Feed the Cow
DESCRIPTION:
URL:https://go.lpzoo.org/event/feed-the-cow/2026-08-15/
ATTACH;FMTTYPE=image/jpeg:https://go.lpzoo.org/wp-content/uploads/2025/05/cow-800x450-1.jpg
END:VEVENT
BEGIN:VEVENT
DTSTART;TZID=America/Chicago:20260815T143000
DTEND;TZID=America/Chicago:20260815T144000
DTSTAMP:20260424T030347
CREATED:20250305T201420Z
LAST-MODIFIED:20260129T214512Z
UID:10012172-1786804200-1786804800@go.lpzoo.org
SUMMARY:Seal Training and Feeding
DESCRIPTION:
URL:https://go.lpzoo.org/event/seal-training-and-feeding/2026-08-15/
ATTACH;FMTTYPE=image/jpeg:https://go.lpzoo.org/wp-content/uploads/2025/01/grey_seal_s1_800x450.jpg
END:VEVENT
BEGIN:VEVENT
DTSTART;TZID=America/Chicago:20260815T170000
DTEND;TZID=America/Chicago:20260815T170000
DTSTAMP:20260424T030347
CREATED:20251119T223141Z
LAST-MODIFIED:20260105T155117Z
UID:10038606-1786813200-1786813200@go.lpzoo.org
SUMMARY:Gates close
DESCRIPTION:Gates close
URL:https://go.lpzoo.org/event/gates-close-3/2026-08-15/
CATEGORIES:Notice
END:VEVENT
BEGIN:VEVENT
DTSTART;TZID=America/Chicago:20260816T100000
DTEND;TZID=America/Chicago:20260816T103000
DTSTAMP:20260424T030347
CREATED:20251105T160455Z
LAST-MODIFIED:20251105T160456Z
UID:10034051-1786874400-1786876200@go.lpzoo.org
SUMMARY:Gates and Farm-in-the-Zoo Open
DESCRIPTION:Gates and Farm-in-the-Zoo Open
URL:https://go.lpzoo.org/event/gates-and-farm-in-the-zoo-open-2/2026-08-16/
CATEGORIES:Notice
END:VEVENT
BEGIN:VEVENT
DTSTART;TZID=America/Chicago:20260816T100000
DTEND;TZID=America/Chicago:20260816T223000
DTSTAMP:20260424T030347
CREATED:20250501T142454Z
LAST-MODIFIED:20250501T142454Z
UID:10006491-1786874400-1786919400@go.lpzoo.org
SUMMARY:Buildings open
DESCRIPTION:Buildings open
URL:https://go.lpzoo.org/event/gates-buildings-and-farm-in-the-zoo-open-2-2/2026-08-16/
CATEGORIES:Notice
END:VEVENT
BEGIN:VEVENT
DTSTART;TZID=America/Chicago:20260816T110000
DTEND;TZID=America/Chicago:20260816T110000
DTSTAMP:20260424T030347
CREATED:20260417T010356Z
LAST-MODIFIED:20260417T010356Z
UID:10041597-1786878000-1786878000@go.lpzoo.org
SUMMARY:Feed the Chickens
DESCRIPTION:
URL:https://go.lpzoo.org/event/feed-the-chickens/2026-08-16/
END:VEVENT
BEGIN:VEVENT
DTSTART;TZID=America/Chicago:20260816T113000
DTEND;TZID=America/Chicago:20260816T233000
DTSTAMP:20260424T030347
CREATED:20260417T010559Z
LAST-MODIFIED:20260417T010928Z
UID:10042068-1786879800-1786923000@go.lpzoo.org
SUMMARY:Feed the Cows
DESCRIPTION:
URL:https://go.lpzoo.org/event/feed-the-cows/2026-08-16/
ATTACH;FMTTYPE=image/jpeg:https://go.lpzoo.org/wp-content/uploads/2025/05/cow-800x450-1.jpg
END:VEVENT
BEGIN:VEVENT
DTSTART;TZID=America/Chicago:20260816T113000
DTEND;TZID=America/Chicago:20260816T234000
DTSTAMP:20260424T030347
CREATED:20250125T035626Z
LAST-MODIFIED:20260126T152259Z
UID:10008439-1786879800-1786923600@go.lpzoo.org
SUMMARY:Seal Training and Feeding
DESCRIPTION:
URL:https://go.lpzoo.org/event/seal-training-and-feeding-2/2026-08-16/
ATTACH;FMTTYPE=image/jpeg:https://go.lpzoo.org/wp-content/uploads/2025/01/grey_seal_s1_800x450.jpg
END:VEVENT
BEGIN:VEVENT
DTSTART;TZID=America/Chicago:20260816T130000
DTEND;TZID=America/Chicago:20260816T131000
DTSTAMP:20260424T030347
CREATED:20250305T204001Z
LAST-MODIFIED:20260423T143520Z
UID:10014016-1786885200-1786885800@go.lpzoo.org
SUMMARY:Ape Cognition & Care
DESCRIPTION:
URL:https://go.lpzoo.org/event/ape-cognition-care/2026-08-16/
ATTACH;FMTTYPE=image/png:https://go.lpzoo.org/wp-content/uploads/2025/03/Chimp-photo-800x300-1.png
END:VEVENT
BEGIN:VEVENT
DTSTART;TZID=America/Chicago:20260816T140000
DTEND;TZID=America/Chicago:20260816T140000
DTSTAMP:20260424T030347
CREATED:20260417T005447Z
LAST-MODIFIED:20260417T005447Z
UID:10040702-1786888800-1786888800@go.lpzoo.org
SUMMARY:Penguin Feeding
DESCRIPTION:
URL:https://go.lpzoo.org/event/penguin-feeding/2026-08-16/
ATTACH;FMTTYPE=image/jpeg:https://go.lpzoo.org/wp-content/uploads/2024/03/african_penguin_m_800x200.jpg
END:VEVENT
BEGIN:VEVENT
DTSTART;TZID=America/Chicago:20260816T140000
DTEND;TZID=America/Chicago:20260816T140000
DTSTAMP:20260424T030347
CREATED:20260417T010815Z
LAST-MODIFIED:20260417T010815Z
UID:10042539-1786888800-1786888800@go.lpzoo.org
SUMMARY:Feed the Cow
DESCRIPTION:
URL:https://go.lpzoo.org/event/feed-the-cow/2026-08-16/
ATTACH;FMTTYPE=image/jpeg:https://go.lpzoo.org/wp-content/uploads/2025/05/cow-800x450-1.jpg
END:VEVENT
BEGIN:VEVENT
DTSTART;TZID=America/Chicago:20260816T143000
DTEND;TZID=America/Chicago:20260816T144000
DTSTAMP:20260424T030347
CREATED:20250305T201420Z
LAST-MODIFIED:20260129T214512Z
UID:10012173-1786890600-1786891200@go.lpzoo.org
SUMMARY:Seal Training and Feeding
DESCRIPTION:
URL:https://go.lpzoo.org/event/seal-training-and-feeding/2026-08-16/
ATTACH;FMTTYPE=image/jpeg:https://go.lpzoo.org/wp-content/uploads/2025/01/grey_seal_s1_800x450.jpg
END:VEVENT
BEGIN:VEVENT
DTSTART;TZID=America/Chicago:20260816T170000
DTEND;TZID=America/Chicago:20260816T170000
DTSTAMP:20260424T030347
CREATED:20251119T223141Z
LAST-MODIFIED:20260105T155117Z
UID:10038607-1786899600-1786899600@go.lpzoo.org
SUMMARY:Gates close
DESCRIPTION:Gates close
URL:https://go.lpzoo.org/event/gates-close-3/2026-08-16/
CATEGORIES:Notice
END:VEVENT
BEGIN:VEVENT
DTSTART;TZID=America/Chicago:20260817T100000
DTEND;TZID=America/Chicago:20260817T103000
DTSTAMP:20260424T030347
CREATED:20251105T160455Z
LAST-MODIFIED:20251105T160456Z
UID:10034052-1786960800-1786962600@go.lpzoo.org
SUMMARY:Gates and Farm-in-the-Zoo Open
DESCRIPTION:Gates and Farm-in-the-Zoo Open
URL:https://go.lpzoo.org/event/gates-and-farm-in-the-zoo-open-2/2026-08-17/
CATEGORIES:Notice
END:VEVENT
BEGIN:VEVENT
DTSTART;TZID=America/Chicago:20260817T100000
DTEND;TZID=America/Chicago:20260817T223000
DTSTAMP:20260424T030347
CREATED:20250501T142454Z
LAST-MODIFIED:20250501T142454Z
UID:10006492-1786960800-1787005800@go.lpzoo.org
SUMMARY:Buildings open
DESCRIPTION:Buildings open
URL:https://go.lpzoo.org/event/gates-buildings-and-farm-in-the-zoo-open-2-2/2026-08-17/
CATEGORIES:Notice
END:VEVENT
BEGIN:VEVENT
DTSTART;TZID=America/Chicago:20260817T110000
DTEND;TZID=America/Chicago:20260817T110000
DTSTAMP:20260424T030347
CREATED:20260417T010356Z
LAST-MODIFIED:20260417T010356Z
UID:10041598-1786964400-1786964400@go.lpzoo.org
SUMMARY:Feed the Chickens
DESCRIPTION:
URL:https://go.lpzoo.org/event/feed-the-chickens/2026-08-17/
END:VEVENT
BEGIN:VEVENT
DTSTART;TZID=America/Chicago:20260817T110000
DTEND;TZID=America/Chicago:20260817T231000
DTSTAMP:20260424T030347
CREATED:20260417T005654Z
LAST-MODIFIED:20260417T005654Z
UID:10002647-1786964400-1787008200@go.lpzoo.org
SUMMARY:Jamaican Iguana Care
DESCRIPTION:
URL:https://go.lpzoo.org/event/jamaican-iguana-care-2-2/2026-08-17/
ATTACH;FMTTYPE=image/jpeg:https://go.lpzoo.org/wp-content/uploads/2025/01/jamaican_iguana_s1_800x450.jpg
END:VEVENT
BEGIN:VEVENT
DTSTART;TZID=America/Chicago:20260817T113000
DTEND;TZID=America/Chicago:20260817T233000
DTSTAMP:20260424T030347
CREATED:20260417T010559Z
LAST-MODIFIED:20260417T010928Z
UID:10042069-1786966200-1787009400@go.lpzoo.org
SUMMARY:Feed the Cows
DESCRIPTION:
URL:https://go.lpzoo.org/event/feed-the-cows/2026-08-17/
ATTACH;FMTTYPE=image/jpeg:https://go.lpzoo.org/wp-content/uploads/2025/05/cow-800x450-1.jpg
END:VEVENT
END:VCALENDAR