BEGIN:VCALENDAR
VERSION:2.0
PRODID:-//Lincoln Park Zoo - ECPv6.15.16.1//NONSGML v1.0//EN
CALSCALE:GREGORIAN
METHOD:PUBLISH
X-WR-CALNAME:Lincoln Park Zoo
X-ORIGINAL-URL:https://go.lpzoo.org
X-WR-CALDESC:Events for Lincoln Park Zoo
REFRESH-INTERVAL;VALUE=DURATION:PT1H
X-Robots-Tag:noindex
X-PUBLISHED-TTL:PT1H
BEGIN:VTIMEZONE
TZID:America/Chicago
BEGIN:DAYLIGHT
TZOFFSETFROM:-0600
TZOFFSETTO:-0500
TZNAME:CDT
DTSTART:20250309T080000
END:DAYLIGHT
BEGIN:STANDARD
TZOFFSETFROM:-0500
TZOFFSETTO:-0600
TZNAME:CST
DTSTART:20251102T070000
END:STANDARD
BEGIN:DAYLIGHT
TZOFFSETFROM:-0600
TZOFFSETTO:-0500
TZNAME:CDT
DTSTART:20260308T080000
END:DAYLIGHT
BEGIN:STANDARD
TZOFFSETFROM:-0500
TZOFFSETTO:-0600
TZNAME:CST
DTSTART:20261101T070000
END:STANDARD
BEGIN:DAYLIGHT
TZOFFSETFROM:-0600
TZOFFSETTO:-0500
TZNAME:CDT
DTSTART:20270314T080000
END:DAYLIGHT
BEGIN:STANDARD
TZOFFSETFROM:-0500
TZOFFSETTO:-0600
TZNAME:CST
DTSTART:20271107T070000
END:STANDARD
END:VTIMEZONE
BEGIN:VEVENT
DTSTART;TZID=America/Chicago:20260721T100000
DTEND;TZID=America/Chicago:20260721T103000
DTSTAMP:20260419T174417
CREATED:20251105T160455Z
LAST-MODIFIED:20251105T160456Z
UID:10034025-1784628000-1784629800@go.lpzoo.org
SUMMARY:Gates and Farm-in-the-Zoo Open
DESCRIPTION:Gates and Farm-in-the-Zoo Open
URL:https://go.lpzoo.org/event/gates-and-farm-in-the-zoo-open-2/2026-07-21/
CATEGORIES:Notice
END:VEVENT
BEGIN:VEVENT
DTSTART;TZID=America/Chicago:20260721T100000
DTEND;TZID=America/Chicago:20260721T223000
DTSTAMP:20260419T174417
CREATED:20250501T142454Z
LAST-MODIFIED:20250501T142454Z
UID:10006465-1784628000-1784673000@go.lpzoo.org
SUMMARY:Buildings open
DESCRIPTION:Buildings open
URL:https://go.lpzoo.org/event/gates-buildings-and-farm-in-the-zoo-open-2-2/2026-07-21/
CATEGORIES:Notice
END:VEVENT
BEGIN:VEVENT
DTSTART;TZID=America/Chicago:20260721T110000
DTEND;TZID=America/Chicago:20260721T110000
DTSTAMP:20260419T174417
CREATED:20260417T010356Z
LAST-MODIFIED:20260417T010356Z
UID:10041571-1784631600-1784631600@go.lpzoo.org
SUMMARY:Feed the Chickens
DESCRIPTION:
URL:https://go.lpzoo.org/event/feed-the-chickens/2026-07-21/
END:VEVENT
BEGIN:VEVENT
DTSTART;TZID=America/Chicago:20260721T113000
DTEND;TZID=America/Chicago:20260721T233000
DTSTAMP:20260419T174417
CREATED:20260417T010559Z
LAST-MODIFIED:20260417T010928Z
UID:10042042-1784633400-1784676600@go.lpzoo.org
SUMMARY:Feed the Cows
DESCRIPTION:
URL:https://go.lpzoo.org/event/feed-the-cows/2026-07-21/
ATTACH;FMTTYPE=image/jpeg:https://go.lpzoo.org/wp-content/uploads/2025/05/cow-800x450-1.jpg
END:VEVENT
BEGIN:VEVENT
DTSTART;TZID=America/Chicago:20260721T113000
DTEND;TZID=America/Chicago:20260721T234000
DTSTAMP:20260419T174417
CREATED:20250125T035626Z
LAST-MODIFIED:20260126T152259Z
UID:10008413-1784633400-1784677200@go.lpzoo.org
SUMMARY:Seal Training and Feeding
DESCRIPTION:
URL:https://go.lpzoo.org/event/seal-training-and-feeding-2/2026-07-21/
ATTACH;FMTTYPE=image/jpeg:https://go.lpzoo.org/wp-content/uploads/2025/01/grey_seal_s1_800x450.jpg
END:VEVENT
BEGIN:VEVENT
DTSTART;TZID=America/Chicago:20260721T114500
DTEND;TZID=America/Chicago:20260721T120000
DTSTAMP:20260419T174417
CREATED:20251103T201241Z
LAST-MODIFIED:20260318T153805Z
UID:10032650-1784634300-1784635200@go.lpzoo.org
SUMMARY:Monkey Cognition 
DESCRIPTION:
URL:https://go.lpzoo.org/event/monkey-cognition-2/2026-07-21/
ATTACH;FMTTYPE=image/jpeg:https://go.lpzoo.org/wp-content/uploads/2025/04/Macacque-800x300-1.jpg
END:VEVENT
BEGIN:VEVENT
DTSTART;TZID=America/Chicago:20260721T130000
DTEND;TZID=America/Chicago:20260721T131000
DTSTAMP:20260419T174417
CREATED:20250305T204001Z
LAST-MODIFIED:20260129T214312Z
UID:10013990-1784638800-1784639400@go.lpzoo.org
SUMMARY:Ape Cognition & Care
DESCRIPTION:
URL:https://go.lpzoo.org/event/ape-cognition-care/2026-07-21/
ATTACH;FMTTYPE=image/png:https://go.lpzoo.org/wp-content/uploads/2025/03/Chimp-photo-800x300-1.png
END:VEVENT
BEGIN:VEVENT
DTSTART;TZID=America/Chicago:20260721T140000
DTEND;TZID=America/Chicago:20260721T140000
DTSTAMP:20260419T174417
CREATED:20260417T005447Z
LAST-MODIFIED:20260417T005447Z
UID:10040676-1784642400-1784642400@go.lpzoo.org
SUMMARY:Penguin Feeding
DESCRIPTION:
URL:https://go.lpzoo.org/event/penguin-feeding/2026-07-21/
ATTACH;FMTTYPE=image/jpeg:https://go.lpzoo.org/wp-content/uploads/2024/03/african_penguin_m_800x200.jpg
END:VEVENT
BEGIN:VEVENT
DTSTART;TZID=America/Chicago:20260721T140000
DTEND;TZID=America/Chicago:20260721T140000
DTSTAMP:20260419T174417
CREATED:20260417T010815Z
LAST-MODIFIED:20260417T010815Z
UID:10042513-1784642400-1784642400@go.lpzoo.org
SUMMARY:Feed the Cow
DESCRIPTION:
URL:https://go.lpzoo.org/event/feed-the-cow/2026-07-21/
ATTACH;FMTTYPE=image/jpeg:https://go.lpzoo.org/wp-content/uploads/2025/05/cow-800x450-1.jpg
END:VEVENT
BEGIN:VEVENT
DTSTART;TZID=America/Chicago:20260721T143000
DTEND;TZID=America/Chicago:20260721T144000
DTSTAMP:20260419T174417
CREATED:20250305T201420Z
LAST-MODIFIED:20260129T214512Z
UID:10012147-1784644200-1784644800@go.lpzoo.org
SUMMARY:Seal Training and Feeding
DESCRIPTION:
URL:https://go.lpzoo.org/event/seal-training-and-feeding/2026-07-21/
ATTACH;FMTTYPE=image/jpeg:https://go.lpzoo.org/wp-content/uploads/2025/01/grey_seal_s1_800x450.jpg
END:VEVENT
BEGIN:VEVENT
DTSTART;TZID=America/Chicago:20260721T170000
DTEND;TZID=America/Chicago:20260721T170000
DTSTAMP:20260419T174417
CREATED:20251119T223141Z
LAST-MODIFIED:20260105T155117Z
UID:10038581-1784653200-1784653200@go.lpzoo.org
SUMMARY:Gates close
DESCRIPTION:Gates close
URL:https://go.lpzoo.org/event/gates-close-3/2026-07-21/
CATEGORIES:Notice
END:VEVENT
BEGIN:VEVENT
DTSTART;TZID=America/Chicago:20260722T100000
DTEND;TZID=America/Chicago:20260722T103000
DTSTAMP:20260419T174417
CREATED:20251105T160455Z
LAST-MODIFIED:20251105T160456Z
UID:10034026-1784714400-1784716200@go.lpzoo.org
SUMMARY:Gates and Farm-in-the-Zoo Open
DESCRIPTION:Gates and Farm-in-the-Zoo Open
URL:https://go.lpzoo.org/event/gates-and-farm-in-the-zoo-open-2/2026-07-22/
CATEGORIES:Notice
END:VEVENT
BEGIN:VEVENT
DTSTART;TZID=America/Chicago:20260722T100000
DTEND;TZID=America/Chicago:20260722T223000
DTSTAMP:20260419T174417
CREATED:20250501T142454Z
LAST-MODIFIED:20250501T142454Z
UID:10006466-1784714400-1784759400@go.lpzoo.org
SUMMARY:Buildings open
DESCRIPTION:Buildings open
URL:https://go.lpzoo.org/event/gates-buildings-and-farm-in-the-zoo-open-2-2/2026-07-22/
CATEGORIES:Notice
END:VEVENT
BEGIN:VEVENT
DTSTART;TZID=America/Chicago:20260722T100000
DTEND;TZID=America/Chicago:20261028T120000
DTSTAMP:20260419T174417
CREATED:20260331T190656Z
LAST-MODIFIED:20260331T190656Z
UID:10026442-1784714400-1793188800@go.lpzoo.org
SUMMARY:Play! At the Farm-in-the-Zoo
DESCRIPTION:Children under 5 can explore nature at the Farm-in-the-Zoo.
URL:https://go.lpzoo.org/event/play-at-the-farm-in-the-zoo-2/2026-07-22/
ATTACH;FMTTYPE=image/png:https://go.lpzoo.org/wp-content/uploads/2024/06/Farm-in-the-zoo-Play-800x300-1.png
END:VEVENT
BEGIN:VEVENT
DTSTART;TZID=America/Chicago:20260722T110000
DTEND;TZID=America/Chicago:20260722T110000
DTSTAMP:20260419T174417
CREATED:20260417T010356Z
LAST-MODIFIED:20260417T010356Z
UID:10041572-1784718000-1784718000@go.lpzoo.org
SUMMARY:Feed the Chickens
DESCRIPTION:
URL:https://go.lpzoo.org/event/feed-the-chickens/2026-07-22/
END:VEVENT
BEGIN:VEVENT
DTSTART;TZID=America/Chicago:20260722T110000
DTEND;TZID=America/Chicago:20260722T231000
DTSTAMP:20260419T174417
CREATED:20260417T005654Z
LAST-MODIFIED:20260417T005654Z
UID:10041187-1784718000-1784761800@go.lpzoo.org
SUMMARY:Jamaican Iguana Care
DESCRIPTION:
URL:https://go.lpzoo.org/event/jamaican-iguana-care-2-2/2026-07-22/
ATTACH;FMTTYPE=image/jpeg:https://go.lpzoo.org/wp-content/uploads/2025/01/jamaican_iguana_s1_800x450.jpg
END:VEVENT
BEGIN:VEVENT
DTSTART;TZID=America/Chicago:20260722T113000
DTEND;TZID=America/Chicago:20260722T233000
DTSTAMP:20260419T174417
CREATED:20260417T010559Z
LAST-MODIFIED:20260417T010928Z
UID:10042043-1784719800-1784763000@go.lpzoo.org
SUMMARY:Feed the Cows
DESCRIPTION:
URL:https://go.lpzoo.org/event/feed-the-cows/2026-07-22/
ATTACH;FMTTYPE=image/jpeg:https://go.lpzoo.org/wp-content/uploads/2025/05/cow-800x450-1.jpg
END:VEVENT
BEGIN:VEVENT
DTSTART;TZID=America/Chicago:20260722T113000
DTEND;TZID=America/Chicago:20260722T234000
DTSTAMP:20260419T174417
CREATED:20250125T035626Z
LAST-MODIFIED:20260126T152259Z
UID:10008414-1784719800-1784763600@go.lpzoo.org
SUMMARY:Seal Training and Feeding
DESCRIPTION:
URL:https://go.lpzoo.org/event/seal-training-and-feeding-2/2026-07-22/
ATTACH;FMTTYPE=image/jpeg:https://go.lpzoo.org/wp-content/uploads/2025/01/grey_seal_s1_800x450.jpg
END:VEVENT
BEGIN:VEVENT
DTSTART;TZID=America/Chicago:20260722T114500
DTEND;TZID=America/Chicago:20260722T120000
DTSTAMP:20260419T174417
CREATED:20251103T201241Z
LAST-MODIFIED:20260318T153805Z
UID:10032651-1784720700-1784721600@go.lpzoo.org
SUMMARY:Monkey Cognition 
DESCRIPTION:
URL:https://go.lpzoo.org/event/monkey-cognition-2/2026-07-22/
ATTACH;FMTTYPE=image/jpeg:https://go.lpzoo.org/wp-content/uploads/2025/04/Macacque-800x300-1.jpg
END:VEVENT
BEGIN:VEVENT
DTSTART;TZID=America/Chicago:20260722T130000
DTEND;TZID=America/Chicago:20260722T131000
DTSTAMP:20260419T174417
CREATED:20250305T204001Z
LAST-MODIFIED:20260129T214312Z
UID:10013991-1784725200-1784725800@go.lpzoo.org
SUMMARY:Ape Cognition & Care
DESCRIPTION:
URL:https://go.lpzoo.org/event/ape-cognition-care/2026-07-22/
ATTACH;FMTTYPE=image/png:https://go.lpzoo.org/wp-content/uploads/2025/03/Chimp-photo-800x300-1.png
END:VEVENT
BEGIN:VEVENT
DTSTART;TZID=America/Chicago:20260722T134500
DTEND;TZID=America/Chicago:20260722T134500
DTSTAMP:20260419T174417
CREATED:20260417T010107Z
LAST-MODIFIED:20260417T010107Z
UID:10041455-1784727900-1784727900@go.lpzoo.org
SUMMARY:Giraffe Training
DESCRIPTION:
URL:https://go.lpzoo.org/event/giraffe-training/2026-07-22/
ATTACH;FMTTYPE=image/jpeg:https://go.lpzoo.org/wp-content/uploads/2024/03/giraffe_m_800x200.jpg
END:VEVENT
BEGIN:VEVENT
DTSTART;TZID=America/Chicago:20260722T140000
DTEND;TZID=America/Chicago:20260722T140000
DTSTAMP:20260419T174417
CREATED:20260417T005447Z
LAST-MODIFIED:20260417T005447Z
UID:10040677-1784728800-1784728800@go.lpzoo.org
SUMMARY:Penguin Feeding
DESCRIPTION:
URL:https://go.lpzoo.org/event/penguin-feeding/2026-07-22/
ATTACH;FMTTYPE=image/jpeg:https://go.lpzoo.org/wp-content/uploads/2024/03/african_penguin_m_800x200.jpg
END:VEVENT
BEGIN:VEVENT
DTSTART;TZID=America/Chicago:20260722T140000
DTEND;TZID=America/Chicago:20260722T140000
DTSTAMP:20260419T174417
CREATED:20260417T010815Z
LAST-MODIFIED:20260417T010815Z
UID:10042514-1784728800-1784728800@go.lpzoo.org
SUMMARY:Feed the Cow
DESCRIPTION:
URL:https://go.lpzoo.org/event/feed-the-cow/2026-07-22/
ATTACH;FMTTYPE=image/jpeg:https://go.lpzoo.org/wp-content/uploads/2025/05/cow-800x450-1.jpg
END:VEVENT
BEGIN:VEVENT
DTSTART;TZID=America/Chicago:20260722T143000
DTEND;TZID=America/Chicago:20260722T144000
DTSTAMP:20260419T174417
CREATED:20250305T201420Z
LAST-MODIFIED:20260129T214512Z
UID:10012148-1784730600-1784731200@go.lpzoo.org
SUMMARY:Seal Training and Feeding
DESCRIPTION:
URL:https://go.lpzoo.org/event/seal-training-and-feeding/2026-07-22/
ATTACH;FMTTYPE=image/jpeg:https://go.lpzoo.org/wp-content/uploads/2025/01/grey_seal_s1_800x450.jpg
END:VEVENT
BEGIN:VEVENT
DTSTART;TZID=America/Chicago:20260722T170000
DTEND;TZID=America/Chicago:20260722T170000
DTSTAMP:20260419T174417
CREATED:20251119T223141Z
LAST-MODIFIED:20260105T155117Z
UID:10038582-1784739600-1784739600@go.lpzoo.org
SUMMARY:Gates close
DESCRIPTION:Gates close
URL:https://go.lpzoo.org/event/gates-close-3/2026-07-22/
CATEGORIES:Notice
END:VEVENT
BEGIN:VEVENT
DTSTART;TZID=America/Chicago:20260723T100000
DTEND;TZID=America/Chicago:20260723T103000
DTSTAMP:20260419T174417
CREATED:20251105T160455Z
LAST-MODIFIED:20251105T160456Z
UID:10034027-1784800800-1784802600@go.lpzoo.org
SUMMARY:Gates and Farm-in-the-Zoo Open
DESCRIPTION:Gates and Farm-in-the-Zoo Open
URL:https://go.lpzoo.org/event/gates-and-farm-in-the-zoo-open-2/2026-07-23/
CATEGORIES:Notice
END:VEVENT
BEGIN:VEVENT
DTSTART;TZID=America/Chicago:20260723T100000
DTEND;TZID=America/Chicago:20260723T223000
DTSTAMP:20260419T174417
CREATED:20250501T142454Z
LAST-MODIFIED:20250501T142454Z
UID:10006467-1784800800-1784845800@go.lpzoo.org
SUMMARY:Buildings open
DESCRIPTION:Buildings open
URL:https://go.lpzoo.org/event/gates-buildings-and-farm-in-the-zoo-open-2-2/2026-07-23/
CATEGORIES:Notice
END:VEVENT
BEGIN:VEVENT
DTSTART;TZID=America/Chicago:20260723T110000
DTEND;TZID=America/Chicago:20260723T110000
DTSTAMP:20260419T174417
CREATED:20260417T010356Z
LAST-MODIFIED:20260417T010356Z
UID:10041573-1784804400-1784804400@go.lpzoo.org
SUMMARY:Feed the Chickens
DESCRIPTION:
URL:https://go.lpzoo.org/event/feed-the-chickens/2026-07-23/
END:VEVENT
BEGIN:VEVENT
DTSTART;TZID=America/Chicago:20260723T113000
DTEND;TZID=America/Chicago:20260723T233000
DTSTAMP:20260419T174417
CREATED:20260417T010559Z
LAST-MODIFIED:20260417T010928Z
UID:10042044-1784806200-1784849400@go.lpzoo.org
SUMMARY:Feed the Cows
DESCRIPTION:
URL:https://go.lpzoo.org/event/feed-the-cows/2026-07-23/
ATTACH;FMTTYPE=image/jpeg:https://go.lpzoo.org/wp-content/uploads/2025/05/cow-800x450-1.jpg
END:VEVENT
BEGIN:VEVENT
DTSTART;TZID=America/Chicago:20260723T113000
DTEND;TZID=America/Chicago:20260723T234000
DTSTAMP:20260419T174417
CREATED:20250125T035626Z
LAST-MODIFIED:20260126T152259Z
UID:10008415-1784806200-1784850000@go.lpzoo.org
SUMMARY:Seal Training and Feeding
DESCRIPTION:
URL:https://go.lpzoo.org/event/seal-training-and-feeding-2/2026-07-23/
ATTACH;FMTTYPE=image/jpeg:https://go.lpzoo.org/wp-content/uploads/2025/01/grey_seal_s1_800x450.jpg
END:VEVENT
END:VCALENDAR