BEGIN:VCALENDAR
VERSION:2.0
PRODID:-//Lincoln Park Zoo - ECPv6.15.16.1//NONSGML v1.0//EN
CALSCALE:GREGORIAN
METHOD:PUBLISH
X-WR-CALNAME:Lincoln Park Zoo
X-ORIGINAL-URL:https://go.lpzoo.org
X-WR-CALDESC:Events for Lincoln Park Zoo
REFRESH-INTERVAL;VALUE=DURATION:PT1H
X-Robots-Tag:noindex
X-PUBLISHED-TTL:PT1H
BEGIN:VTIMEZONE
TZID:America/Chicago
BEGIN:DAYLIGHT
TZOFFSETFROM:-0600
TZOFFSETTO:-0500
TZNAME:CDT
DTSTART:20250309T080000
END:DAYLIGHT
BEGIN:STANDARD
TZOFFSETFROM:-0500
TZOFFSETTO:-0600
TZNAME:CST
DTSTART:20251102T070000
END:STANDARD
BEGIN:DAYLIGHT
TZOFFSETFROM:-0600
TZOFFSETTO:-0500
TZNAME:CDT
DTSTART:20260308T080000
END:DAYLIGHT
BEGIN:STANDARD
TZOFFSETFROM:-0500
TZOFFSETTO:-0600
TZNAME:CST
DTSTART:20261101T070000
END:STANDARD
BEGIN:DAYLIGHT
TZOFFSETFROM:-0600
TZOFFSETTO:-0500
TZNAME:CDT
DTSTART:20270314T080000
END:DAYLIGHT
BEGIN:STANDARD
TZOFFSETFROM:-0500
TZOFFSETTO:-0600
TZNAME:CST
DTSTART:20271107T070000
END:STANDARD
END:VTIMEZONE
BEGIN:VEVENT
DTSTART;TZID=America/Chicago:20260607T113000
DTEND;TZID=America/Chicago:20260607T233000
DTSTAMP:20260419T204913
CREATED:20260417T010559Z
LAST-MODIFIED:20260417T010928Z
UID:10041998-1780831800-1780875000@go.lpzoo.org
SUMMARY:Feed the Cows
DESCRIPTION:
URL:https://go.lpzoo.org/event/feed-the-cows/2026-06-07/
ATTACH;FMTTYPE=image/jpeg:https://go.lpzoo.org/wp-content/uploads/2025/05/cow-800x450-1.jpg
END:VEVENT
BEGIN:VEVENT
DTSTART;TZID=America/Chicago:20260607T110000
DTEND;TZID=America/Chicago:20260607T110000
DTSTAMP:20260419T204913
CREATED:20260417T010356Z
LAST-MODIFIED:20260417T010356Z
UID:10041527-1780830000-1780830000@go.lpzoo.org
SUMMARY:Feed the Chickens
DESCRIPTION:
URL:https://go.lpzoo.org/event/feed-the-chickens/2026-06-07/
END:VEVENT
BEGIN:VEVENT
DTSTART;TZID=America/Chicago:20260607T100000
DTEND;TZID=America/Chicago:20260607T223000
DTSTAMP:20260419T204913
CREATED:20250501T142454Z
LAST-MODIFIED:20250501T142454Z
UID:10006421-1780826400-1780871400@go.lpzoo.org
SUMMARY:Buildings open
DESCRIPTION:Buildings open
URL:https://go.lpzoo.org/event/gates-buildings-and-farm-in-the-zoo-open-2-2/2026-06-07/
CATEGORIES:Notice
END:VEVENT
BEGIN:VEVENT
DTSTART;TZID=America/Chicago:20260607T100000
DTEND;TZID=America/Chicago:20260607T103000
DTSTAMP:20260419T204913
CREATED:20251105T160455Z
LAST-MODIFIED:20251105T160456Z
UID:10033981-1780826400-1780828200@go.lpzoo.org
SUMMARY:Gates and Farm-in-the-Zoo Open
DESCRIPTION:Gates and Farm-in-the-Zoo Open
URL:https://go.lpzoo.org/event/gates-and-farm-in-the-zoo-open-2/2026-06-07/
CATEGORIES:Notice
END:VEVENT
BEGIN:VEVENT
DTSTART;TZID=America/Chicago:20260606T170000
DTEND;TZID=America/Chicago:20260606T170000
DTSTAMP:20260419T204913
CREATED:20251119T223141Z
LAST-MODIFIED:20260105T155117Z
UID:10038536-1780765200-1780765200@go.lpzoo.org
SUMMARY:Gates close
DESCRIPTION:Gates close
URL:https://go.lpzoo.org/event/gates-close-3/2026-06-06/
CATEGORIES:Notice
END:VEVENT
BEGIN:VEVENT
DTSTART;TZID=America/Chicago:20260606T143000
DTEND;TZID=America/Chicago:20260606T144000
DTSTAMP:20260419T204913
CREATED:20250305T201420Z
LAST-MODIFIED:20260129T214512Z
UID:10012102-1780756200-1780756800@go.lpzoo.org
SUMMARY:Seal Training and Feeding
DESCRIPTION:
URL:https://go.lpzoo.org/event/seal-training-and-feeding/2026-06-06/
ATTACH;FMTTYPE=image/jpeg:https://go.lpzoo.org/wp-content/uploads/2025/01/grey_seal_s1_800x450.jpg
END:VEVENT
BEGIN:VEVENT
DTSTART;TZID=America/Chicago:20260606T140000
DTEND;TZID=America/Chicago:20260606T140000
DTSTAMP:20260419T204913
CREATED:20260417T010815Z
LAST-MODIFIED:20260417T010815Z
UID:10042468-1780754400-1780754400@go.lpzoo.org
SUMMARY:Feed the Cow
DESCRIPTION:
URL:https://go.lpzoo.org/event/feed-the-cow/2026-06-06/
ATTACH;FMTTYPE=image/jpeg:https://go.lpzoo.org/wp-content/uploads/2025/05/cow-800x450-1.jpg
END:VEVENT
BEGIN:VEVENT
DTSTART;TZID=America/Chicago:20260606T140000
DTEND;TZID=America/Chicago:20260606T140000
DTSTAMP:20260419T204913
CREATED:20260417T005447Z
LAST-MODIFIED:20260417T005447Z
UID:10040631-1780754400-1780754400@go.lpzoo.org
SUMMARY:Penguin Feeding
DESCRIPTION:
URL:https://go.lpzoo.org/event/penguin-feeding/2026-06-06/
ATTACH;FMTTYPE=image/jpeg:https://go.lpzoo.org/wp-content/uploads/2024/03/african_penguin_m_800x200.jpg
END:VEVENT
BEGIN:VEVENT
DTSTART;TZID=America/Chicago:20260606T130000
DTEND;TZID=America/Chicago:20260606T131000
DTSTAMP:20260419T204913
CREATED:20250305T204001Z
LAST-MODIFIED:20260129T214312Z
UID:10013945-1780750800-1780751400@go.lpzoo.org
SUMMARY:Ape Cognition & Care
DESCRIPTION:
URL:https://go.lpzoo.org/event/ape-cognition-care/2026-06-06/
ATTACH;FMTTYPE=image/png:https://go.lpzoo.org/wp-content/uploads/2025/03/Chimp-photo-800x300-1.png
END:VEVENT
BEGIN:VEVENT
DTSTART;TZID=America/Chicago:20260606T113000
DTEND;TZID=America/Chicago:20260606T234000
DTSTAMP:20260419T204913
CREATED:20250125T035626Z
LAST-MODIFIED:20260126T152259Z
UID:10008368-1780745400-1780789200@go.lpzoo.org
SUMMARY:Seal Training and Feeding
DESCRIPTION:
URL:https://go.lpzoo.org/event/seal-training-and-feeding-2/2026-06-06/
ATTACH;FMTTYPE=image/jpeg:https://go.lpzoo.org/wp-content/uploads/2025/01/grey_seal_s1_800x450.jpg
END:VEVENT
BEGIN:VEVENT
DTSTART;TZID=America/Chicago:20260606T113000
DTEND;TZID=America/Chicago:20260606T233000
DTSTAMP:20260419T204913
CREATED:20260417T010559Z
LAST-MODIFIED:20260417T010928Z
UID:10041997-1780745400-1780788600@go.lpzoo.org
SUMMARY:Feed the Cows
DESCRIPTION:
URL:https://go.lpzoo.org/event/feed-the-cows/2026-06-06/
ATTACH;FMTTYPE=image/jpeg:https://go.lpzoo.org/wp-content/uploads/2025/05/cow-800x450-1.jpg
END:VEVENT
BEGIN:VEVENT
DTSTART;TZID=America/Chicago:20260606T110000
DTEND;TZID=America/Chicago:20260606T110000
DTSTAMP:20260419T204913
CREATED:20260417T010356Z
LAST-MODIFIED:20260417T010356Z
UID:10041526-1780743600-1780743600@go.lpzoo.org
SUMMARY:Feed the Chickens
DESCRIPTION:
URL:https://go.lpzoo.org/event/feed-the-chickens/2026-06-06/
END:VEVENT
BEGIN:VEVENT
DTSTART;TZID=America/Chicago:20260606T100000
DTEND;TZID=America/Chicago:20260606T223000
DTSTAMP:20260419T204913
CREATED:20250501T142454Z
LAST-MODIFIED:20250501T142454Z
UID:10006420-1780740000-1780785000@go.lpzoo.org
SUMMARY:Buildings open
DESCRIPTION:Buildings open
URL:https://go.lpzoo.org/event/gates-buildings-and-farm-in-the-zoo-open-2-2/2026-06-06/
CATEGORIES:Notice
END:VEVENT
BEGIN:VEVENT
DTSTART;TZID=America/Chicago:20260606T100000
DTEND;TZID=America/Chicago:20260606T103000
DTSTAMP:20260419T204913
CREATED:20251105T160455Z
LAST-MODIFIED:20251105T160456Z
UID:10033980-1780740000-1780741800@go.lpzoo.org
SUMMARY:Gates and Farm-in-the-Zoo Open
DESCRIPTION:Gates and Farm-in-the-Zoo Open
URL:https://go.lpzoo.org/event/gates-and-farm-in-the-zoo-open-2/2026-06-06/
CATEGORIES:Notice
END:VEVENT
BEGIN:VEVENT
DTSTART;TZID=America/Chicago:20260605T170000
DTEND;TZID=America/Chicago:20260605T170000
DTSTAMP:20260419T204913
CREATED:20251119T223141Z
LAST-MODIFIED:20260105T155117Z
UID:10038535-1780678800-1780678800@go.lpzoo.org
SUMMARY:Gates close
DESCRIPTION:Gates close
URL:https://go.lpzoo.org/event/gates-close-3/2026-06-05/
CATEGORIES:Notice
END:VEVENT
BEGIN:VEVENT
DTSTART;TZID=America/Chicago:20260605T143000
DTEND;TZID=America/Chicago:20260605T144000
DTSTAMP:20260419T204913
CREATED:20250305T201420Z
LAST-MODIFIED:20260129T214512Z
UID:10012101-1780669800-1780670400@go.lpzoo.org
SUMMARY:Seal Training and Feeding
DESCRIPTION:
URL:https://go.lpzoo.org/event/seal-training-and-feeding/2026-06-05/
ATTACH;FMTTYPE=image/jpeg:https://go.lpzoo.org/wp-content/uploads/2025/01/grey_seal_s1_800x450.jpg
END:VEVENT
BEGIN:VEVENT
DTSTART;TZID=America/Chicago:20260605T140000
DTEND;TZID=America/Chicago:20260605T140000
DTSTAMP:20260419T204913
CREATED:20260417T010815Z
LAST-MODIFIED:20260417T010815Z
UID:10042467-1780668000-1780668000@go.lpzoo.org
SUMMARY:Feed the Cow
DESCRIPTION:
URL:https://go.lpzoo.org/event/feed-the-cow/2026-06-05/
ATTACH;FMTTYPE=image/jpeg:https://go.lpzoo.org/wp-content/uploads/2025/05/cow-800x450-1.jpg
END:VEVENT
BEGIN:VEVENT
DTSTART;TZID=America/Chicago:20260605T140000
DTEND;TZID=America/Chicago:20260605T140000
DTSTAMP:20260419T204913
CREATED:20260417T005447Z
LAST-MODIFIED:20260417T005447Z
UID:10040630-1780668000-1780668000@go.lpzoo.org
SUMMARY:Penguin Feeding
DESCRIPTION:
URL:https://go.lpzoo.org/event/penguin-feeding/2026-06-05/
ATTACH;FMTTYPE=image/jpeg:https://go.lpzoo.org/wp-content/uploads/2024/03/african_penguin_m_800x200.jpg
END:VEVENT
BEGIN:VEVENT
DTSTART;TZID=America/Chicago:20260605T130000
DTEND;TZID=America/Chicago:20260605T131000
DTSTAMP:20260419T204913
CREATED:20250305T204001Z
LAST-MODIFIED:20260129T214312Z
UID:10013944-1780664400-1780665000@go.lpzoo.org
SUMMARY:Ape Cognition & Care
DESCRIPTION:
URL:https://go.lpzoo.org/event/ape-cognition-care/2026-06-05/
ATTACH;FMTTYPE=image/png:https://go.lpzoo.org/wp-content/uploads/2025/03/Chimp-photo-800x300-1.png
END:VEVENT
BEGIN:VEVENT
DTSTART;TZID=America/Chicago:20260605T114500
DTEND;TZID=America/Chicago:20260605T120000
DTSTAMP:20260419T204913
CREATED:20251103T201241Z
LAST-MODIFIED:20260318T153805Z
UID:10032618-1780659900-1780660800@go.lpzoo.org
SUMMARY:Monkey Cognition 
DESCRIPTION:
URL:https://go.lpzoo.org/event/monkey-cognition-2/2026-06-05/
ATTACH;FMTTYPE=image/jpeg:https://go.lpzoo.org/wp-content/uploads/2025/04/Macacque-800x300-1.jpg
END:VEVENT
BEGIN:VEVENT
DTSTART;TZID=America/Chicago:20260605T113000
DTEND;TZID=America/Chicago:20260605T234000
DTSTAMP:20260419T204913
CREATED:20250125T035626Z
LAST-MODIFIED:20260126T152259Z
UID:10008367-1780659000-1780702800@go.lpzoo.org
SUMMARY:Seal Training and Feeding
DESCRIPTION:
URL:https://go.lpzoo.org/event/seal-training-and-feeding-2/2026-06-05/
ATTACH;FMTTYPE=image/jpeg:https://go.lpzoo.org/wp-content/uploads/2025/01/grey_seal_s1_800x450.jpg
END:VEVENT
BEGIN:VEVENT
DTSTART;TZID=America/Chicago:20260605T113000
DTEND;TZID=America/Chicago:20260605T233000
DTSTAMP:20260419T204913
CREATED:20260417T010559Z
LAST-MODIFIED:20260417T010928Z
UID:10041996-1780659000-1780702200@go.lpzoo.org
SUMMARY:Feed the Cows
DESCRIPTION:
URL:https://go.lpzoo.org/event/feed-the-cows/2026-06-05/
ATTACH;FMTTYPE=image/jpeg:https://go.lpzoo.org/wp-content/uploads/2025/05/cow-800x450-1.jpg
END:VEVENT
BEGIN:VEVENT
DTSTART;TZID=America/Chicago:20260605T110000
DTEND;TZID=America/Chicago:20260605T110000
DTSTAMP:20260419T204913
CREATED:20260417T010356Z
LAST-MODIFIED:20260417T010356Z
UID:10041525-1780657200-1780657200@go.lpzoo.org
SUMMARY:Feed the Chickens
DESCRIPTION:
URL:https://go.lpzoo.org/event/feed-the-chickens/2026-06-05/
END:VEVENT
BEGIN:VEVENT
DTSTART;TZID=America/Chicago:20260605T100000
DTEND;TZID=America/Chicago:20260605T223000
DTSTAMP:20260419T204913
CREATED:20250501T142454Z
LAST-MODIFIED:20250501T142454Z
UID:10006419-1780653600-1780698600@go.lpzoo.org
SUMMARY:Buildings open
DESCRIPTION:Buildings open
URL:https://go.lpzoo.org/event/gates-buildings-and-farm-in-the-zoo-open-2-2/2026-06-05/
CATEGORIES:Notice
END:VEVENT
BEGIN:VEVENT
DTSTART;TZID=America/Chicago:20260605T100000
DTEND;TZID=America/Chicago:20260605T103000
DTSTAMP:20260419T204913
CREATED:20251105T160455Z
LAST-MODIFIED:20251105T160456Z
UID:10033979-1780653600-1780655400@go.lpzoo.org
SUMMARY:Gates and Farm-in-the-Zoo Open
DESCRIPTION:Gates and Farm-in-the-Zoo Open
URL:https://go.lpzoo.org/event/gates-and-farm-in-the-zoo-open-2/2026-06-05/
CATEGORIES:Notice
END:VEVENT
BEGIN:VEVENT
DTSTART;TZID=America/Chicago:20260604T170000
DTEND;TZID=America/Chicago:20260604T170000
DTSTAMP:20260419T204913
CREATED:20251119T223141Z
LAST-MODIFIED:20260105T155117Z
UID:10038534-1780592400-1780592400@go.lpzoo.org
SUMMARY:Gates close
DESCRIPTION:Gates close
URL:https://go.lpzoo.org/event/gates-close-3/2026-06-04/
CATEGORIES:Notice
END:VEVENT
BEGIN:VEVENT
DTSTART;TZID=America/Chicago:20260604T143000
DTEND;TZID=America/Chicago:20260604T144000
DTSTAMP:20260419T204913
CREATED:20250305T201420Z
LAST-MODIFIED:20260129T214512Z
UID:10012100-1780583400-1780584000@go.lpzoo.org
SUMMARY:Seal Training and Feeding
DESCRIPTION:
URL:https://go.lpzoo.org/event/seal-training-and-feeding/2026-06-04/
ATTACH;FMTTYPE=image/jpeg:https://go.lpzoo.org/wp-content/uploads/2025/01/grey_seal_s1_800x450.jpg
END:VEVENT
BEGIN:VEVENT
DTSTART;TZID=America/Chicago:20260604T140000
DTEND;TZID=America/Chicago:20260604T140000
DTSTAMP:20260419T204913
CREATED:20260417T010815Z
LAST-MODIFIED:20260417T010815Z
UID:10042466-1780581600-1780581600@go.lpzoo.org
SUMMARY:Feed the Cow
DESCRIPTION:
URL:https://go.lpzoo.org/event/feed-the-cow/2026-06-04/
ATTACH;FMTTYPE=image/jpeg:https://go.lpzoo.org/wp-content/uploads/2025/05/cow-800x450-1.jpg
END:VEVENT
BEGIN:VEVENT
DTSTART;TZID=America/Chicago:20260604T140000
DTEND;TZID=America/Chicago:20260604T140000
DTSTAMP:20260419T204913
CREATED:20260417T005447Z
LAST-MODIFIED:20260417T005447Z
UID:10040629-1780581600-1780581600@go.lpzoo.org
SUMMARY:Penguin Feeding
DESCRIPTION:
URL:https://go.lpzoo.org/event/penguin-feeding/2026-06-04/
ATTACH;FMTTYPE=image/jpeg:https://go.lpzoo.org/wp-content/uploads/2024/03/african_penguin_m_800x200.jpg
END:VEVENT
BEGIN:VEVENT
DTSTART;TZID=America/Chicago:20260604T130000
DTEND;TZID=America/Chicago:20260604T131000
DTSTAMP:20260419T204913
CREATED:20250305T204001Z
LAST-MODIFIED:20260129T214312Z
UID:10013943-1780578000-1780578600@go.lpzoo.org
SUMMARY:Ape Cognition & Care
DESCRIPTION:
URL:https://go.lpzoo.org/event/ape-cognition-care/2026-06-04/
ATTACH;FMTTYPE=image/png:https://go.lpzoo.org/wp-content/uploads/2025/03/Chimp-photo-800x300-1.png
END:VEVENT
END:VCALENDAR