BEGIN:VCALENDAR
VERSION:2.0
PRODID:-//Lincoln Park Zoo - ECPv6.15.16.1//NONSGML v1.0//EN
CALSCALE:GREGORIAN
METHOD:PUBLISH
X-ORIGINAL-URL:https://go.lpzoo.org
X-WR-CALDESC:Events for Lincoln Park Zoo
REFRESH-INTERVAL;VALUE=DURATION:PT1H
X-Robots-Tag:noindex
X-PUBLISHED-TTL:PT1H
BEGIN:VTIMEZONE
TZID:America/Chicago
BEGIN:DAYLIGHT
TZOFFSETFROM:-0600
TZOFFSETTO:-0500
TZNAME:CDT
DTSTART:20250309T080000
END:DAYLIGHT
BEGIN:STANDARD
TZOFFSETFROM:-0500
TZOFFSETTO:-0600
TZNAME:CST
DTSTART:20251102T070000
END:STANDARD
BEGIN:DAYLIGHT
TZOFFSETFROM:-0600
TZOFFSETTO:-0500
TZNAME:CDT
DTSTART:20260308T080000
END:DAYLIGHT
BEGIN:STANDARD
TZOFFSETFROM:-0500
TZOFFSETTO:-0600
TZNAME:CST
DTSTART:20261101T070000
END:STANDARD
BEGIN:DAYLIGHT
TZOFFSETFROM:-0600
TZOFFSETTO:-0500
TZNAME:CDT
DTSTART:20270314T080000
END:DAYLIGHT
BEGIN:STANDARD
TZOFFSETFROM:-0500
TZOFFSETTO:-0600
TZNAME:CST
DTSTART:20271107T070000
END:STANDARD
END:VTIMEZONE
BEGIN:VEVENT
DTSTART;TZID=America/Chicago:20260828T113000
DTEND;TZID=America/Chicago:20260828T234000
DTSTAMP:20260419T184716
CREATED:20250125T035626Z
LAST-MODIFIED:20260126T152259Z
UID:10008451-1787916600-1787960400@go.lpzoo.org
SUMMARY:Seal Training and Feeding
DESCRIPTION:
URL:https://go.lpzoo.org/event/seal-training-and-feeding-2/2026-08-28/
ATTACH;FMTTYPE=image/jpeg:https://go.lpzoo.org/wp-content/uploads/2025/01/grey_seal_s1_800x450.jpg
END:VEVENT
BEGIN:VEVENT
DTSTART;TZID=America/Chicago:20260828T114500
DTEND;TZID=America/Chicago:20260828T120000
DTSTAMP:20260419T184716
CREATED:20251103T201241Z
LAST-MODIFIED:20260318T153805Z
UID:10032678-1787917500-1787918400@go.lpzoo.org
SUMMARY:Monkey Cognition 
DESCRIPTION:
URL:https://go.lpzoo.org/event/monkey-cognition-2/2026-08-28/
ATTACH;FMTTYPE=image/jpeg:https://go.lpzoo.org/wp-content/uploads/2025/04/Macacque-800x300-1.jpg
END:VEVENT
BEGIN:VEVENT
DTSTART;TZID=America/Chicago:20260828T130000
DTEND;TZID=America/Chicago:20260828T131000
DTSTAMP:20260419T184716
CREATED:20250305T204001Z
LAST-MODIFIED:20260129T214312Z
UID:10014028-1787922000-1787922600@go.lpzoo.org
SUMMARY:Ape Cognition & Care
DESCRIPTION:
URL:https://go.lpzoo.org/event/ape-cognition-care/2026-08-28/
ATTACH;FMTTYPE=image/png:https://go.lpzoo.org/wp-content/uploads/2025/03/Chimp-photo-800x300-1.png
END:VEVENT
BEGIN:VEVENT
DTSTART;TZID=America/Chicago:20260828T140000
DTEND;TZID=America/Chicago:20260828T140000
DTSTAMP:20260419T184716
CREATED:20260417T005447Z
LAST-MODIFIED:20260417T005447Z
UID:10040714-1787925600-1787925600@go.lpzoo.org
SUMMARY:Penguin Feeding
DESCRIPTION:
URL:https://go.lpzoo.org/event/penguin-feeding/2026-08-28/
ATTACH;FMTTYPE=image/jpeg:https://go.lpzoo.org/wp-content/uploads/2024/03/african_penguin_m_800x200.jpg
END:VEVENT
BEGIN:VEVENT
DTSTART;TZID=America/Chicago:20260828T140000
DTEND;TZID=America/Chicago:20260828T140000
DTSTAMP:20260419T184716
CREATED:20260417T010815Z
LAST-MODIFIED:20260417T010815Z
UID:10042551-1787925600-1787925600@go.lpzoo.org
SUMMARY:Feed the Cow
DESCRIPTION:
URL:https://go.lpzoo.org/event/feed-the-cow/2026-08-28/
ATTACH;FMTTYPE=image/jpeg:https://go.lpzoo.org/wp-content/uploads/2025/05/cow-800x450-1.jpg
END:VEVENT
BEGIN:VEVENT
DTSTART;TZID=America/Chicago:20260828T143000
DTEND;TZID=America/Chicago:20260828T144000
DTSTAMP:20260419T184716
CREATED:20250305T201420Z
LAST-MODIFIED:20260129T214512Z
UID:10012185-1787927400-1787928000@go.lpzoo.org
SUMMARY:Seal Training and Feeding
DESCRIPTION:
URL:https://go.lpzoo.org/event/seal-training-and-feeding/2026-08-28/
ATTACH;FMTTYPE=image/jpeg:https://go.lpzoo.org/wp-content/uploads/2025/01/grey_seal_s1_800x450.jpg
END:VEVENT
BEGIN:VEVENT
DTSTART;TZID=America/Chicago:20260828T170000
DTEND;TZID=America/Chicago:20260828T170000
DTSTAMP:20260419T184716
CREATED:20251119T223141Z
LAST-MODIFIED:20260105T155117Z
UID:10038619-1787936400-1787936400@go.lpzoo.org
SUMMARY:Gates close
DESCRIPTION:Gates close
URL:https://go.lpzoo.org/event/gates-close-3/2026-08-28/
CATEGORIES:Notice
END:VEVENT
BEGIN:VEVENT
DTSTART;TZID=America/Chicago:20260829T100000
DTEND;TZID=America/Chicago:20260829T103000
DTSTAMP:20260419T184716
CREATED:20251105T160455Z
LAST-MODIFIED:20251105T160456Z
UID:10034064-1787997600-1787999400@go.lpzoo.org
SUMMARY:Gates and Farm-in-the-Zoo Open
DESCRIPTION:Gates and Farm-in-the-Zoo Open
URL:https://go.lpzoo.org/event/gates-and-farm-in-the-zoo-open-2/2026-08-29/
CATEGORIES:Notice
END:VEVENT
BEGIN:VEVENT
DTSTART;TZID=America/Chicago:20260829T100000
DTEND;TZID=America/Chicago:20260829T223000
DTSTAMP:20260419T184716
CREATED:20250501T142454Z
LAST-MODIFIED:20250501T142454Z
UID:10006504-1787997600-1788042600@go.lpzoo.org
SUMMARY:Buildings open
DESCRIPTION:Buildings open
URL:https://go.lpzoo.org/event/gates-buildings-and-farm-in-the-zoo-open-2-2/2026-08-29/
CATEGORIES:Notice
END:VEVENT
BEGIN:VEVENT
DTSTART;TZID=America/Chicago:20260829T110000
DTEND;TZID=America/Chicago:20260829T110000
DTSTAMP:20260419T184716
CREATED:20260417T010356Z
LAST-MODIFIED:20260417T010356Z
UID:10041610-1788001200-1788001200@go.lpzoo.org
SUMMARY:Feed the Chickens
DESCRIPTION:
URL:https://go.lpzoo.org/event/feed-the-chickens/2026-08-29/
END:VEVENT
BEGIN:VEVENT
DTSTART;TZID=America/Chicago:20260829T113000
DTEND;TZID=America/Chicago:20260829T233000
DTSTAMP:20260419T184716
CREATED:20260417T010559Z
LAST-MODIFIED:20260417T010928Z
UID:10042081-1788003000-1788046200@go.lpzoo.org
SUMMARY:Feed the Cows
DESCRIPTION:
URL:https://go.lpzoo.org/event/feed-the-cows/2026-08-29/
ATTACH;FMTTYPE=image/jpeg:https://go.lpzoo.org/wp-content/uploads/2025/05/cow-800x450-1.jpg
END:VEVENT
BEGIN:VEVENT
DTSTART;TZID=America/Chicago:20260829T113000
DTEND;TZID=America/Chicago:20260829T234000
DTSTAMP:20260419T184716
CREATED:20250125T035626Z
LAST-MODIFIED:20260126T152259Z
UID:10008452-1788003000-1788046800@go.lpzoo.org
SUMMARY:Seal Training and Feeding
DESCRIPTION:
URL:https://go.lpzoo.org/event/seal-training-and-feeding-2/2026-08-29/
ATTACH;FMTTYPE=image/jpeg:https://go.lpzoo.org/wp-content/uploads/2025/01/grey_seal_s1_800x450.jpg
END:VEVENT
BEGIN:VEVENT
DTSTART;TZID=America/Chicago:20260829T130000
DTEND;TZID=America/Chicago:20260829T131000
DTSTAMP:20260419T184716
CREATED:20250305T204001Z
LAST-MODIFIED:20260129T214312Z
UID:10014029-1788008400-1788009000@go.lpzoo.org
SUMMARY:Ape Cognition & Care
DESCRIPTION:
URL:https://go.lpzoo.org/event/ape-cognition-care/2026-08-29/
ATTACH;FMTTYPE=image/png:https://go.lpzoo.org/wp-content/uploads/2025/03/Chimp-photo-800x300-1.png
END:VEVENT
BEGIN:VEVENT
DTSTART;TZID=America/Chicago:20260829T140000
DTEND;TZID=America/Chicago:20260829T140000
DTSTAMP:20260419T184716
CREATED:20260417T005447Z
LAST-MODIFIED:20260417T005447Z
UID:10040715-1788012000-1788012000@go.lpzoo.org
SUMMARY:Penguin Feeding
DESCRIPTION:
URL:https://go.lpzoo.org/event/penguin-feeding/2026-08-29/
ATTACH;FMTTYPE=image/jpeg:https://go.lpzoo.org/wp-content/uploads/2024/03/african_penguin_m_800x200.jpg
END:VEVENT
BEGIN:VEVENT
DTSTART;TZID=America/Chicago:20260829T140000
DTEND;TZID=America/Chicago:20260829T140000
DTSTAMP:20260419T184716
CREATED:20260417T010815Z
LAST-MODIFIED:20260417T010815Z
UID:10042552-1788012000-1788012000@go.lpzoo.org
SUMMARY:Feed the Cow
DESCRIPTION:
URL:https://go.lpzoo.org/event/feed-the-cow/2026-08-29/
ATTACH;FMTTYPE=image/jpeg:https://go.lpzoo.org/wp-content/uploads/2025/05/cow-800x450-1.jpg
END:VEVENT
BEGIN:VEVENT
DTSTART;TZID=America/Chicago:20260829T143000
DTEND;TZID=America/Chicago:20260829T144000
DTSTAMP:20260419T184716
CREATED:20250305T201420Z
LAST-MODIFIED:20260129T214512Z
UID:10012186-1788013800-1788014400@go.lpzoo.org
SUMMARY:Seal Training and Feeding
DESCRIPTION:
URL:https://go.lpzoo.org/event/seal-training-and-feeding/2026-08-29/
ATTACH;FMTTYPE=image/jpeg:https://go.lpzoo.org/wp-content/uploads/2025/01/grey_seal_s1_800x450.jpg
END:VEVENT
BEGIN:VEVENT
DTSTART;TZID=America/Chicago:20260829T170000
DTEND;TZID=America/Chicago:20260829T170000
DTSTAMP:20260419T184716
CREATED:20251119T223141Z
LAST-MODIFIED:20260105T155117Z
UID:10038620-1788022800-1788022800@go.lpzoo.org
SUMMARY:Gates close
DESCRIPTION:Gates close
URL:https://go.lpzoo.org/event/gates-close-3/2026-08-29/
CATEGORIES:Notice
END:VEVENT
BEGIN:VEVENT
DTSTART;TZID=America/Chicago:20260830T100000
DTEND;TZID=America/Chicago:20260830T103000
DTSTAMP:20260419T184716
CREATED:20251105T160455Z
LAST-MODIFIED:20251105T160456Z
UID:10034065-1788084000-1788085800@go.lpzoo.org
SUMMARY:Gates and Farm-in-the-Zoo Open
DESCRIPTION:Gates and Farm-in-the-Zoo Open
URL:https://go.lpzoo.org/event/gates-and-farm-in-the-zoo-open-2/2026-08-30/
CATEGORIES:Notice
END:VEVENT
BEGIN:VEVENT
DTSTART;TZID=America/Chicago:20260830T100000
DTEND;TZID=America/Chicago:20260830T223000
DTSTAMP:20260419T184716
CREATED:20250501T142454Z
LAST-MODIFIED:20250501T142454Z
UID:10006505-1788084000-1788129000@go.lpzoo.org
SUMMARY:Buildings open
DESCRIPTION:Buildings open
URL:https://go.lpzoo.org/event/gates-buildings-and-farm-in-the-zoo-open-2-2/2026-08-30/
CATEGORIES:Notice
END:VEVENT
BEGIN:VEVENT
DTSTART;TZID=America/Chicago:20260830T110000
DTEND;TZID=America/Chicago:20260830T110000
DTSTAMP:20260419T184716
CREATED:20260417T010356Z
LAST-MODIFIED:20260417T010356Z
UID:10041611-1788087600-1788087600@go.lpzoo.org
SUMMARY:Feed the Chickens
DESCRIPTION:
URL:https://go.lpzoo.org/event/feed-the-chickens/2026-08-30/
END:VEVENT
BEGIN:VEVENT
DTSTART;TZID=America/Chicago:20260830T113000
DTEND;TZID=America/Chicago:20260830T233000
DTSTAMP:20260419T184716
CREATED:20260417T010559Z
LAST-MODIFIED:20260417T010928Z
UID:10042082-1788089400-1788132600@go.lpzoo.org
SUMMARY:Feed the Cows
DESCRIPTION:
URL:https://go.lpzoo.org/event/feed-the-cows/2026-08-30/
ATTACH;FMTTYPE=image/jpeg:https://go.lpzoo.org/wp-content/uploads/2025/05/cow-800x450-1.jpg
END:VEVENT
BEGIN:VEVENT
DTSTART;TZID=America/Chicago:20260830T113000
DTEND;TZID=America/Chicago:20260830T234000
DTSTAMP:20260419T184716
CREATED:20250125T035626Z
LAST-MODIFIED:20260126T152259Z
UID:10008453-1788089400-1788133200@go.lpzoo.org
SUMMARY:Seal Training and Feeding
DESCRIPTION:
URL:https://go.lpzoo.org/event/seal-training-and-feeding-2/2026-08-30/
ATTACH;FMTTYPE=image/jpeg:https://go.lpzoo.org/wp-content/uploads/2025/01/grey_seal_s1_800x450.jpg
END:VEVENT
BEGIN:VEVENT
DTSTART;TZID=America/Chicago:20260830T130000
DTEND;TZID=America/Chicago:20260830T131000
DTSTAMP:20260419T184716
CREATED:20250305T204001Z
LAST-MODIFIED:20260129T214312Z
UID:10014030-1788094800-1788095400@go.lpzoo.org
SUMMARY:Ape Cognition & Care
DESCRIPTION:
URL:https://go.lpzoo.org/event/ape-cognition-care/2026-08-30/
ATTACH;FMTTYPE=image/png:https://go.lpzoo.org/wp-content/uploads/2025/03/Chimp-photo-800x300-1.png
END:VEVENT
BEGIN:VEVENT
DTSTART;TZID=America/Chicago:20260830T140000
DTEND;TZID=America/Chicago:20260830T140000
DTSTAMP:20260419T184716
CREATED:20260417T005447Z
LAST-MODIFIED:20260417T005447Z
UID:10040716-1788098400-1788098400@go.lpzoo.org
SUMMARY:Penguin Feeding
DESCRIPTION:
URL:https://go.lpzoo.org/event/penguin-feeding/2026-08-30/
ATTACH;FMTTYPE=image/jpeg:https://go.lpzoo.org/wp-content/uploads/2024/03/african_penguin_m_800x200.jpg
END:VEVENT
BEGIN:VEVENT
DTSTART;TZID=America/Chicago:20260830T140000
DTEND;TZID=America/Chicago:20260830T140000
DTSTAMP:20260419T184716
CREATED:20260417T010815Z
LAST-MODIFIED:20260417T010815Z
UID:10042553-1788098400-1788098400@go.lpzoo.org
SUMMARY:Feed the Cow
DESCRIPTION:
URL:https://go.lpzoo.org/event/feed-the-cow/2026-08-30/
ATTACH;FMTTYPE=image/jpeg:https://go.lpzoo.org/wp-content/uploads/2025/05/cow-800x450-1.jpg
END:VEVENT
BEGIN:VEVENT
DTSTART;TZID=America/Chicago:20260830T143000
DTEND;TZID=America/Chicago:20260830T144000
DTSTAMP:20260419T184716
CREATED:20250305T201420Z
LAST-MODIFIED:20260129T214512Z
UID:10012187-1788100200-1788100800@go.lpzoo.org
SUMMARY:Seal Training and Feeding
DESCRIPTION:
URL:https://go.lpzoo.org/event/seal-training-and-feeding/2026-08-30/
ATTACH;FMTTYPE=image/jpeg:https://go.lpzoo.org/wp-content/uploads/2025/01/grey_seal_s1_800x450.jpg
END:VEVENT
BEGIN:VEVENT
DTSTART;TZID=America/Chicago:20260830T170000
DTEND;TZID=America/Chicago:20260830T170000
DTSTAMP:20260419T184716
CREATED:20251119T223141Z
LAST-MODIFIED:20260105T155117Z
UID:10038621-1788109200-1788109200@go.lpzoo.org
SUMMARY:Gates close
DESCRIPTION:Gates close
URL:https://go.lpzoo.org/event/gates-close-3/2026-08-30/
CATEGORIES:Notice
END:VEVENT
BEGIN:VEVENT
DTSTART;TZID=America/Chicago:20260831T100000
DTEND;TZID=America/Chicago:20260831T103000
DTSTAMP:20260419T184716
CREATED:20251105T160455Z
LAST-MODIFIED:20251105T160456Z
UID:10034066-1788170400-1788172200@go.lpzoo.org
SUMMARY:Gates and Farm-in-the-Zoo Open
DESCRIPTION:Gates and Farm-in-the-Zoo Open
URL:https://go.lpzoo.org/event/gates-and-farm-in-the-zoo-open-2/2026-08-31/
CATEGORIES:Notice
END:VEVENT
BEGIN:VEVENT
DTSTART;TZID=America/Chicago:20260831T100000
DTEND;TZID=America/Chicago:20260831T223000
DTSTAMP:20260419T184716
CREATED:20250501T142454Z
LAST-MODIFIED:20250501T142454Z
UID:10006506-1788170400-1788215400@go.lpzoo.org
SUMMARY:Buildings open
DESCRIPTION:Buildings open
URL:https://go.lpzoo.org/event/gates-buildings-and-farm-in-the-zoo-open-2-2/2026-08-31/
CATEGORIES:Notice
END:VEVENT
BEGIN:VEVENT
DTSTART;TZID=America/Chicago:20260831T110000
DTEND;TZID=America/Chicago:20260831T110000
DTSTAMP:20260419T184716
CREATED:20260417T010356Z
LAST-MODIFIED:20260417T010356Z
UID:10041612-1788174000-1788174000@go.lpzoo.org
SUMMARY:Feed the Chickens
DESCRIPTION:
URL:https://go.lpzoo.org/event/feed-the-chickens/2026-08-31/
END:VEVENT
END:VCALENDAR