BEGIN:VCALENDAR
VERSION:2.0
PRODID:-//Lincoln Park Zoo - ECPv6.15.16.1//NONSGML v1.0//EN
CALSCALE:GREGORIAN
METHOD:PUBLISH
X-WR-CALNAME:Lincoln Park Zoo
X-ORIGINAL-URL:https://go.lpzoo.org
X-WR-CALDESC:Events for Lincoln Park Zoo
REFRESH-INTERVAL;VALUE=DURATION:PT1H
X-Robots-Tag:noindex
X-PUBLISHED-TTL:PT1H
BEGIN:VTIMEZONE
TZID:America/Chicago
BEGIN:DAYLIGHT
TZOFFSETFROM:-0600
TZOFFSETTO:-0500
TZNAME:CDT
DTSTART:20250309T080000
END:DAYLIGHT
BEGIN:STANDARD
TZOFFSETFROM:-0500
TZOFFSETTO:-0600
TZNAME:CST
DTSTART:20251102T070000
END:STANDARD
BEGIN:DAYLIGHT
TZOFFSETFROM:-0600
TZOFFSETTO:-0500
TZNAME:CDT
DTSTART:20260308T080000
END:DAYLIGHT
BEGIN:STANDARD
TZOFFSETFROM:-0500
TZOFFSETTO:-0600
TZNAME:CST
DTSTART:20261101T070000
END:STANDARD
BEGIN:DAYLIGHT
TZOFFSETFROM:-0600
TZOFFSETTO:-0500
TZNAME:CDT
DTSTART:20270314T080000
END:DAYLIGHT
BEGIN:STANDARD
TZOFFSETFROM:-0500
TZOFFSETTO:-0600
TZNAME:CST
DTSTART:20271107T070000
END:STANDARD
END:VTIMEZONE
BEGIN:VEVENT
DTSTART;TZID=America/Chicago:20260619T140000
DTEND;TZID=America/Chicago:20260619T140000
DTSTAMP:20260420T010317
CREATED:20260417T010815Z
LAST-MODIFIED:20260417T010815Z
UID:10042481-1781877600-1781877600@go.lpzoo.org
SUMMARY:Feed the Cow
DESCRIPTION:
URL:https://go.lpzoo.org/event/feed-the-cow/2026-06-19/
ATTACH;FMTTYPE=image/jpeg:https://go.lpzoo.org/wp-content/uploads/2025/05/cow-800x450-1.jpg
END:VEVENT
BEGIN:VEVENT
DTSTART;TZID=America/Chicago:20260619T143000
DTEND;TZID=America/Chicago:20260619T144000
DTSTAMP:20260420T010317
CREATED:20250305T201420Z
LAST-MODIFIED:20260129T214512Z
UID:10012115-1781879400-1781880000@go.lpzoo.org
SUMMARY:Seal Training and Feeding
DESCRIPTION:
URL:https://go.lpzoo.org/event/seal-training-and-feeding/2026-06-19/
ATTACH;FMTTYPE=image/jpeg:https://go.lpzoo.org/wp-content/uploads/2025/01/grey_seal_s1_800x450.jpg
END:VEVENT
BEGIN:VEVENT
DTSTART;TZID=America/Chicago:20260619T170000
DTEND;TZID=America/Chicago:20260619T170000
DTSTAMP:20260420T010317
CREATED:20251119T223141Z
LAST-MODIFIED:20260105T155117Z
UID:10038549-1781888400-1781888400@go.lpzoo.org
SUMMARY:Gates close
DESCRIPTION:Gates close
URL:https://go.lpzoo.org/event/gates-close-3/2026-06-19/
CATEGORIES:Notice
END:VEVENT
BEGIN:VEVENT
DTSTART;TZID=America/Chicago:20260620T100000
DTEND;TZID=America/Chicago:20260620T103000
DTSTAMP:20260420T010317
CREATED:20251105T160455Z
LAST-MODIFIED:20251105T160456Z
UID:10033994-1781949600-1781951400@go.lpzoo.org
SUMMARY:Gates and Farm-in-the-Zoo Open
DESCRIPTION:Gates and Farm-in-the-Zoo Open
URL:https://go.lpzoo.org/event/gates-and-farm-in-the-zoo-open-2/2026-06-20/
CATEGORIES:Notice
END:VEVENT
BEGIN:VEVENT
DTSTART;TZID=America/Chicago:20260620T100000
DTEND;TZID=America/Chicago:20260620T223000
DTSTAMP:20260420T010317
CREATED:20250501T142454Z
LAST-MODIFIED:20250501T142454Z
UID:10006434-1781949600-1781994600@go.lpzoo.org
SUMMARY:Buildings open
DESCRIPTION:Buildings open
URL:https://go.lpzoo.org/event/gates-buildings-and-farm-in-the-zoo-open-2-2/2026-06-20/
CATEGORIES:Notice
END:VEVENT
BEGIN:VEVENT
DTSTART;TZID=America/Chicago:20260620T110000
DTEND;TZID=America/Chicago:20260620T110000
DTSTAMP:20260420T010317
CREATED:20260417T010356Z
LAST-MODIFIED:20260417T010356Z
UID:10041540-1781953200-1781953200@go.lpzoo.org
SUMMARY:Feed the Chickens
DESCRIPTION:
URL:https://go.lpzoo.org/event/feed-the-chickens/2026-06-20/
END:VEVENT
BEGIN:VEVENT
DTSTART;TZID=America/Chicago:20260620T113000
DTEND;TZID=America/Chicago:20260620T233000
DTSTAMP:20260420T010317
CREATED:20260417T010559Z
LAST-MODIFIED:20260417T010928Z
UID:10042011-1781955000-1781998200@go.lpzoo.org
SUMMARY:Feed the Cows
DESCRIPTION:
URL:https://go.lpzoo.org/event/feed-the-cows/2026-06-20/
ATTACH;FMTTYPE=image/jpeg:https://go.lpzoo.org/wp-content/uploads/2025/05/cow-800x450-1.jpg
END:VEVENT
BEGIN:VEVENT
DTSTART;TZID=America/Chicago:20260620T113000
DTEND;TZID=America/Chicago:20260620T234000
DTSTAMP:20260420T010317
CREATED:20250125T035626Z
LAST-MODIFIED:20260126T152259Z
UID:10008382-1781955000-1781998800@go.lpzoo.org
SUMMARY:Seal Training and Feeding
DESCRIPTION:
URL:https://go.lpzoo.org/event/seal-training-and-feeding-2/2026-06-20/
ATTACH;FMTTYPE=image/jpeg:https://go.lpzoo.org/wp-content/uploads/2025/01/grey_seal_s1_800x450.jpg
END:VEVENT
BEGIN:VEVENT
DTSTART;TZID=America/Chicago:20260620T130000
DTEND;TZID=America/Chicago:20260620T131000
DTSTAMP:20260420T010317
CREATED:20250305T204001Z
LAST-MODIFIED:20260129T214312Z
UID:10013959-1781960400-1781961000@go.lpzoo.org
SUMMARY:Ape Cognition & Care
DESCRIPTION:
URL:https://go.lpzoo.org/event/ape-cognition-care/2026-06-20/
ATTACH;FMTTYPE=image/png:https://go.lpzoo.org/wp-content/uploads/2025/03/Chimp-photo-800x300-1.png
END:VEVENT
BEGIN:VEVENT
DTSTART;TZID=America/Chicago:20260620T140000
DTEND;TZID=America/Chicago:20260620T140000
DTSTAMP:20260420T010317
CREATED:20260417T005447Z
LAST-MODIFIED:20260417T005447Z
UID:10040645-1781964000-1781964000@go.lpzoo.org
SUMMARY:Penguin Feeding
DESCRIPTION:
URL:https://go.lpzoo.org/event/penguin-feeding/2026-06-20/
ATTACH;FMTTYPE=image/jpeg:https://go.lpzoo.org/wp-content/uploads/2024/03/african_penguin_m_800x200.jpg
END:VEVENT
BEGIN:VEVENT
DTSTART;TZID=America/Chicago:20260620T140000
DTEND;TZID=America/Chicago:20260620T140000
DTSTAMP:20260420T010317
CREATED:20260417T010815Z
LAST-MODIFIED:20260417T010815Z
UID:10042482-1781964000-1781964000@go.lpzoo.org
SUMMARY:Feed the Cow
DESCRIPTION:
URL:https://go.lpzoo.org/event/feed-the-cow/2026-06-20/
ATTACH;FMTTYPE=image/jpeg:https://go.lpzoo.org/wp-content/uploads/2025/05/cow-800x450-1.jpg
END:VEVENT
BEGIN:VEVENT
DTSTART;TZID=America/Chicago:20260620T143000
DTEND;TZID=America/Chicago:20260620T144000
DTSTAMP:20260420T010317
CREATED:20250305T201420Z
LAST-MODIFIED:20260129T214512Z
UID:10012116-1781965800-1781966400@go.lpzoo.org
SUMMARY:Seal Training and Feeding
DESCRIPTION:
URL:https://go.lpzoo.org/event/seal-training-and-feeding/2026-06-20/
ATTACH;FMTTYPE=image/jpeg:https://go.lpzoo.org/wp-content/uploads/2025/01/grey_seal_s1_800x450.jpg
END:VEVENT
BEGIN:VEVENT
DTSTART;TZID=America/Chicago:20260620T170000
DTEND;TZID=America/Chicago:20260620T170000
DTSTAMP:20260420T010317
CREATED:20251119T223141Z
LAST-MODIFIED:20260105T155117Z
UID:10038550-1781974800-1781974800@go.lpzoo.org
SUMMARY:Gates close
DESCRIPTION:Gates close
URL:https://go.lpzoo.org/event/gates-close-3/2026-06-20/
CATEGORIES:Notice
END:VEVENT
BEGIN:VEVENT
DTSTART;TZID=America/Chicago:20260621T100000
DTEND;TZID=America/Chicago:20260621T103000
DTSTAMP:20260420T010317
CREATED:20251105T160455Z
LAST-MODIFIED:20251105T160456Z
UID:10033995-1782036000-1782037800@go.lpzoo.org
SUMMARY:Gates and Farm-in-the-Zoo Open
DESCRIPTION:Gates and Farm-in-the-Zoo Open
URL:https://go.lpzoo.org/event/gates-and-farm-in-the-zoo-open-2/2026-06-21/
CATEGORIES:Notice
END:VEVENT
BEGIN:VEVENT
DTSTART;TZID=America/Chicago:20260621T100000
DTEND;TZID=America/Chicago:20260621T223000
DTSTAMP:20260420T010317
CREATED:20250501T142454Z
LAST-MODIFIED:20250501T142454Z
UID:10006435-1782036000-1782081000@go.lpzoo.org
SUMMARY:Buildings open
DESCRIPTION:Buildings open
URL:https://go.lpzoo.org/event/gates-buildings-and-farm-in-the-zoo-open-2-2/2026-06-21/
CATEGORIES:Notice
END:VEVENT
BEGIN:VEVENT
DTSTART;TZID=America/Chicago:20260621T110000
DTEND;TZID=America/Chicago:20260621T110000
DTSTAMP:20260420T010317
CREATED:20260417T010356Z
LAST-MODIFIED:20260417T010356Z
UID:10041541-1782039600-1782039600@go.lpzoo.org
SUMMARY:Feed the Chickens
DESCRIPTION:
URL:https://go.lpzoo.org/event/feed-the-chickens/2026-06-21/
END:VEVENT
BEGIN:VEVENT
DTSTART;TZID=America/Chicago:20260621T113000
DTEND;TZID=America/Chicago:20260621T233000
DTSTAMP:20260420T010317
CREATED:20260417T010559Z
LAST-MODIFIED:20260417T010928Z
UID:10042012-1782041400-1782084600@go.lpzoo.org
SUMMARY:Feed the Cows
DESCRIPTION:
URL:https://go.lpzoo.org/event/feed-the-cows/2026-06-21/
ATTACH;FMTTYPE=image/jpeg:https://go.lpzoo.org/wp-content/uploads/2025/05/cow-800x450-1.jpg
END:VEVENT
BEGIN:VEVENT
DTSTART;TZID=America/Chicago:20260621T113000
DTEND;TZID=America/Chicago:20260621T234000
DTSTAMP:20260420T010317
CREATED:20250125T035626Z
LAST-MODIFIED:20260126T152259Z
UID:10008383-1782041400-1782085200@go.lpzoo.org
SUMMARY:Seal Training and Feeding
DESCRIPTION:
URL:https://go.lpzoo.org/event/seal-training-and-feeding-2/2026-06-21/
ATTACH;FMTTYPE=image/jpeg:https://go.lpzoo.org/wp-content/uploads/2025/01/grey_seal_s1_800x450.jpg
END:VEVENT
BEGIN:VEVENT
DTSTART;TZID=America/Chicago:20260621T130000
DTEND;TZID=America/Chicago:20260621T131000
DTSTAMP:20260420T010317
CREATED:20250305T204001Z
LAST-MODIFIED:20260129T214312Z
UID:10013960-1782046800-1782047400@go.lpzoo.org
SUMMARY:Ape Cognition & Care
DESCRIPTION:
URL:https://go.lpzoo.org/event/ape-cognition-care/2026-06-21/
ATTACH;FMTTYPE=image/png:https://go.lpzoo.org/wp-content/uploads/2025/03/Chimp-photo-800x300-1.png
END:VEVENT
BEGIN:VEVENT
DTSTART;TZID=America/Chicago:20260621T140000
DTEND;TZID=America/Chicago:20260621T140000
DTSTAMP:20260420T010317
CREATED:20260417T005447Z
LAST-MODIFIED:20260417T005447Z
UID:10040646-1782050400-1782050400@go.lpzoo.org
SUMMARY:Penguin Feeding
DESCRIPTION:
URL:https://go.lpzoo.org/event/penguin-feeding/2026-06-21/
ATTACH;FMTTYPE=image/jpeg:https://go.lpzoo.org/wp-content/uploads/2024/03/african_penguin_m_800x200.jpg
END:VEVENT
BEGIN:VEVENT
DTSTART;TZID=America/Chicago:20260621T140000
DTEND;TZID=America/Chicago:20260621T140000
DTSTAMP:20260420T010317
CREATED:20260417T010815Z
LAST-MODIFIED:20260417T010815Z
UID:10042483-1782050400-1782050400@go.lpzoo.org
SUMMARY:Feed the Cow
DESCRIPTION:
URL:https://go.lpzoo.org/event/feed-the-cow/2026-06-21/
ATTACH;FMTTYPE=image/jpeg:https://go.lpzoo.org/wp-content/uploads/2025/05/cow-800x450-1.jpg
END:VEVENT
BEGIN:VEVENT
DTSTART;TZID=America/Chicago:20260621T143000
DTEND;TZID=America/Chicago:20260621T144000
DTSTAMP:20260420T010317
CREATED:20250305T201420Z
LAST-MODIFIED:20260129T214512Z
UID:10012117-1782052200-1782052800@go.lpzoo.org
SUMMARY:Seal Training and Feeding
DESCRIPTION:
URL:https://go.lpzoo.org/event/seal-training-and-feeding/2026-06-21/
ATTACH;FMTTYPE=image/jpeg:https://go.lpzoo.org/wp-content/uploads/2025/01/grey_seal_s1_800x450.jpg
END:VEVENT
BEGIN:VEVENT
DTSTART;TZID=America/Chicago:20260621T170000
DTEND;TZID=America/Chicago:20260621T170000
DTSTAMP:20260420T010317
CREATED:20251119T223141Z
LAST-MODIFIED:20260105T155117Z
UID:10038551-1782061200-1782061200@go.lpzoo.org
SUMMARY:Gates close
DESCRIPTION:Gates close
URL:https://go.lpzoo.org/event/gates-close-3/2026-06-21/
CATEGORIES:Notice
END:VEVENT
BEGIN:VEVENT
DTSTART;TZID=America/Chicago:20260622T100000
DTEND;TZID=America/Chicago:20260622T103000
DTSTAMP:20260420T010317
CREATED:20251105T160455Z
LAST-MODIFIED:20251105T160456Z
UID:10033996-1782122400-1782124200@go.lpzoo.org
SUMMARY:Gates and Farm-in-the-Zoo Open
DESCRIPTION:Gates and Farm-in-the-Zoo Open
URL:https://go.lpzoo.org/event/gates-and-farm-in-the-zoo-open-2/2026-06-22/
CATEGORIES:Notice
END:VEVENT
BEGIN:VEVENT
DTSTART;TZID=America/Chicago:20260622T100000
DTEND;TZID=America/Chicago:20260622T223000
DTSTAMP:20260420T010317
CREATED:20250501T142454Z
LAST-MODIFIED:20250501T142454Z
UID:10006436-1782122400-1782167400@go.lpzoo.org
SUMMARY:Buildings open
DESCRIPTION:Buildings open
URL:https://go.lpzoo.org/event/gates-buildings-and-farm-in-the-zoo-open-2-2/2026-06-22/
CATEGORIES:Notice
END:VEVENT
BEGIN:VEVENT
DTSTART;TZID=America/Chicago:20260622T110000
DTEND;TZID=America/Chicago:20260622T110000
DTSTAMP:20260420T010317
CREATED:20260417T010356Z
LAST-MODIFIED:20260417T010356Z
UID:10041542-1782126000-1782126000@go.lpzoo.org
SUMMARY:Feed the Chickens
DESCRIPTION:
URL:https://go.lpzoo.org/event/feed-the-chickens/2026-06-22/
END:VEVENT
BEGIN:VEVENT
DTSTART;TZID=America/Chicago:20260622T110000
DTEND;TZID=America/Chicago:20260622T231000
DTSTAMP:20260420T010317
CREATED:20260417T005654Z
LAST-MODIFIED:20260417T005654Z
UID:10002615-1782126000-1782169800@go.lpzoo.org
SUMMARY:Jamaican Iguana Care
DESCRIPTION:
URL:https://go.lpzoo.org/event/jamaican-iguana-care-2-2/2026-06-22/
ATTACH;FMTTYPE=image/jpeg:https://go.lpzoo.org/wp-content/uploads/2025/01/jamaican_iguana_s1_800x450.jpg
END:VEVENT
BEGIN:VEVENT
DTSTART;TZID=America/Chicago:20260622T113000
DTEND;TZID=America/Chicago:20260622T233000
DTSTAMP:20260420T010317
CREATED:20260417T010559Z
LAST-MODIFIED:20260417T010928Z
UID:10042013-1782127800-1782171000@go.lpzoo.org
SUMMARY:Feed the Cows
DESCRIPTION:
URL:https://go.lpzoo.org/event/feed-the-cows/2026-06-22/
ATTACH;FMTTYPE=image/jpeg:https://go.lpzoo.org/wp-content/uploads/2025/05/cow-800x450-1.jpg
END:VEVENT
BEGIN:VEVENT
DTSTART;TZID=America/Chicago:20260622T113000
DTEND;TZID=America/Chicago:20260622T234000
DTSTAMP:20260420T010317
CREATED:20250125T035626Z
LAST-MODIFIED:20260126T152259Z
UID:10008384-1782127800-1782171600@go.lpzoo.org
SUMMARY:Seal Training and Feeding
DESCRIPTION:
URL:https://go.lpzoo.org/event/seal-training-and-feeding-2/2026-06-22/
ATTACH;FMTTYPE=image/jpeg:https://go.lpzoo.org/wp-content/uploads/2025/01/grey_seal_s1_800x450.jpg
END:VEVENT
BEGIN:VEVENT
DTSTART;TZID=America/Chicago:20260622T114500
DTEND;TZID=America/Chicago:20260622T120000
DTSTAMP:20260420T010317
CREATED:20251103T201241Z
LAST-MODIFIED:20260318T153805Z
UID:10032629-1782128700-1782129600@go.lpzoo.org
SUMMARY:Monkey Cognition 
DESCRIPTION:
URL:https://go.lpzoo.org/event/monkey-cognition-2/2026-06-22/
ATTACH;FMTTYPE=image/jpeg:https://go.lpzoo.org/wp-content/uploads/2025/04/Macacque-800x300-1.jpg
END:VEVENT
END:VCALENDAR