BEGIN:VCALENDAR
VERSION:2.0
PRODID:-//Lincoln Park Zoo - ECPv6.15.16.1//NONSGML v1.0//EN
CALSCALE:GREGORIAN
METHOD:PUBLISH
X-WR-CALNAME:Lincoln Park Zoo
X-ORIGINAL-URL:https://go.lpzoo.org
X-WR-CALDESC:Events for Lincoln Park Zoo
REFRESH-INTERVAL;VALUE=DURATION:PT1H
X-Robots-Tag:noindex
X-PUBLISHED-TTL:PT1H
BEGIN:VTIMEZONE
TZID:America/Chicago
BEGIN:DAYLIGHT
TZOFFSETFROM:-0600
TZOFFSETTO:-0500
TZNAME:CDT
DTSTART:20250309T080000
END:DAYLIGHT
BEGIN:STANDARD
TZOFFSETFROM:-0500
TZOFFSETTO:-0600
TZNAME:CST
DTSTART:20251102T070000
END:STANDARD
BEGIN:DAYLIGHT
TZOFFSETFROM:-0600
TZOFFSETTO:-0500
TZNAME:CDT
DTSTART:20260308T080000
END:DAYLIGHT
BEGIN:STANDARD
TZOFFSETFROM:-0500
TZOFFSETTO:-0600
TZNAME:CST
DTSTART:20261101T070000
END:STANDARD
BEGIN:DAYLIGHT
TZOFFSETFROM:-0600
TZOFFSETTO:-0500
TZNAME:CDT
DTSTART:20270314T080000
END:DAYLIGHT
BEGIN:STANDARD
TZOFFSETFROM:-0500
TZOFFSETTO:-0600
TZNAME:CST
DTSTART:20271107T070000
END:STANDARD
END:VTIMEZONE
BEGIN:VEVENT
DTSTART;TZID=America/Chicago:20260708T100000
DTEND;TZID=America/Chicago:20261014T120000
DTSTAMP:20260419T223536
CREATED:20260331T190656Z
LAST-MODIFIED:20260331T190656Z
UID:10026440-1783504800-1791979200@go.lpzoo.org
SUMMARY:Play! At the Farm-in-the-Zoo
DESCRIPTION:Children under 5 can explore nature at the Farm-in-the-Zoo.
URL:https://go.lpzoo.org/event/play-at-the-farm-in-the-zoo-2/2026-07-08/
ATTACH;FMTTYPE=image/png:https://go.lpzoo.org/wp-content/uploads/2024/06/Farm-in-the-zoo-Play-800x300-1.png
END:VEVENT
BEGIN:VEVENT
DTSTART;TZID=America/Chicago:20260715T100000
DTEND;TZID=America/Chicago:20261021T120000
DTSTAMP:20260419T223536
CREATED:20260331T190656Z
LAST-MODIFIED:20260331T190656Z
UID:10026441-1784109600-1792584000@go.lpzoo.org
SUMMARY:Play! At the Farm-in-the-Zoo
DESCRIPTION:Children under 5 can explore nature at the Farm-in-the-Zoo.
URL:https://go.lpzoo.org/event/play-at-the-farm-in-the-zoo-2/2026-07-15/
ATTACH;FMTTYPE=image/png:https://go.lpzoo.org/wp-content/uploads/2024/06/Farm-in-the-zoo-Play-800x300-1.png
END:VEVENT
BEGIN:VEVENT
DTSTART;TZID=America/Chicago:20260722T100000
DTEND;TZID=America/Chicago:20261028T120000
DTSTAMP:20260419T223536
CREATED:20260331T190656Z
LAST-MODIFIED:20260331T190656Z
UID:10026442-1784714400-1793188800@go.lpzoo.org
SUMMARY:Play! At the Farm-in-the-Zoo
DESCRIPTION:Children under 5 can explore nature at the Farm-in-the-Zoo.
URL:https://go.lpzoo.org/event/play-at-the-farm-in-the-zoo-2/2026-07-22/
ATTACH;FMTTYPE=image/png:https://go.lpzoo.org/wp-content/uploads/2024/06/Farm-in-the-zoo-Play-800x300-1.png
END:VEVENT
BEGIN:VEVENT
DTSTART;TZID=America/Chicago:20260729T100000
DTEND;TZID=America/Chicago:20261104T110000
DTSTAMP:20260419T223536
CREATED:20260331T190656Z
LAST-MODIFIED:20260331T190656Z
UID:10026443-1785319200-1793790000@go.lpzoo.org
SUMMARY:Play! At the Farm-in-the-Zoo
DESCRIPTION:Children under 5 can explore nature at the Farm-in-the-Zoo.
URL:https://go.lpzoo.org/event/play-at-the-farm-in-the-zoo-2/2026-07-29/
ATTACH;FMTTYPE=image/png:https://go.lpzoo.org/wp-content/uploads/2024/06/Farm-in-the-zoo-Play-800x300-1.png
END:VEVENT
BEGIN:VEVENT
DTSTART;TZID=America/Chicago:20260805T100000
DTEND;TZID=America/Chicago:20261111T110000
DTSTAMP:20260419T223536
CREATED:20260331T190656Z
LAST-MODIFIED:20260331T190656Z
UID:10026444-1785924000-1794394800@go.lpzoo.org
SUMMARY:Play! At the Farm-in-the-Zoo
DESCRIPTION:Children under 5 can explore nature at the Farm-in-the-Zoo.
URL:https://go.lpzoo.org/event/play-at-the-farm-in-the-zoo-2/2026-08-05/
ATTACH;FMTTYPE=image/png:https://go.lpzoo.org/wp-content/uploads/2024/06/Farm-in-the-zoo-Play-800x300-1.png
END:VEVENT
BEGIN:VEVENT
DTSTART;TZID=America/Chicago:20260812T100000
DTEND;TZID=America/Chicago:20261118T110000
DTSTAMP:20260419T223536
CREATED:20260331T190656Z
LAST-MODIFIED:20260331T190656Z
UID:10026445-1786528800-1794999600@go.lpzoo.org
SUMMARY:Play! At the Farm-in-the-Zoo
DESCRIPTION:Children under 5 can explore nature at the Farm-in-the-Zoo.
URL:https://go.lpzoo.org/event/play-at-the-farm-in-the-zoo-2/2026-08-12/
ATTACH;FMTTYPE=image/png:https://go.lpzoo.org/wp-content/uploads/2024/06/Farm-in-the-zoo-Play-800x300-1.png
END:VEVENT
BEGIN:VEVENT
DTSTART;TZID=America/Chicago:20260819T100000
DTEND;TZID=America/Chicago:20261125T110000
DTSTAMP:20260419T223536
CREATED:20260331T190656Z
LAST-MODIFIED:20260331T190656Z
UID:10026446-1787133600-1795604400@go.lpzoo.org
SUMMARY:Play! At the Farm-in-the-Zoo
DESCRIPTION:Children under 5 can explore nature at the Farm-in-the-Zoo.
URL:https://go.lpzoo.org/event/play-at-the-farm-in-the-zoo-2/2026-08-19/
ATTACH;FMTTYPE=image/png:https://go.lpzoo.org/wp-content/uploads/2024/06/Farm-in-the-zoo-Play-800x300-1.png
END:VEVENT
BEGIN:VEVENT
DTSTART;TZID=America/Chicago:20260826T100000
DTEND;TZID=America/Chicago:20261202T110000
DTSTAMP:20260419T223536
CREATED:20260331T190656Z
LAST-MODIFIED:20260331T190656Z
UID:10026447-1787738400-1796209200@go.lpzoo.org
SUMMARY:Play! At the Farm-in-the-Zoo
DESCRIPTION:Children under 5 can explore nature at the Farm-in-the-Zoo.
URL:https://go.lpzoo.org/event/play-at-the-farm-in-the-zoo-2/2026-08-26/
ATTACH;FMTTYPE=image/png:https://go.lpzoo.org/wp-content/uploads/2024/06/Farm-in-the-zoo-Play-800x300-1.png
END:VEVENT
BEGIN:VEVENT
DTSTART;TZID=America/Chicago:20260902T100000
DTEND;TZID=America/Chicago:20260902T103000
DTSTAMP:20260419T223536
CREATED:20251105T160455Z
LAST-MODIFIED:20251105T160456Z
UID:10034068-1788343200-1788345000@go.lpzoo.org
SUMMARY:Gates and Farm-in-the-Zoo Open
DESCRIPTION:Gates and Farm-in-the-Zoo Open
URL:https://go.lpzoo.org/event/gates-and-farm-in-the-zoo-open-2/2026-09-02/
CATEGORIES:Notice
END:VEVENT
BEGIN:VEVENT
DTSTART;TZID=America/Chicago:20260902T100000
DTEND;TZID=America/Chicago:20260902T223000
DTSTAMP:20260419T223536
CREATED:20250501T142454Z
LAST-MODIFIED:20250501T142454Z
UID:10006508-1788343200-1788388200@go.lpzoo.org
SUMMARY:Buildings open
DESCRIPTION:Buildings open
URL:https://go.lpzoo.org/event/gates-buildings-and-farm-in-the-zoo-open-2-2/2026-09-02/
CATEGORIES:Notice
END:VEVENT
BEGIN:VEVENT
DTSTART;TZID=America/Chicago:20260902T100000
DTEND;TZID=America/Chicago:20261209T110000
DTSTAMP:20260419T223536
CREATED:20260331T190656Z
LAST-MODIFIED:20260331T190656Z
UID:10026448-1788343200-1796814000@go.lpzoo.org
SUMMARY:Play! At the Farm-in-the-Zoo
DESCRIPTION:Children under 5 can explore nature at the Farm-in-the-Zoo.
URL:https://go.lpzoo.org/event/play-at-the-farm-in-the-zoo-2/2026-09-02/
ATTACH;FMTTYPE=image/png:https://go.lpzoo.org/wp-content/uploads/2024/06/Farm-in-the-zoo-Play-800x300-1.png
END:VEVENT
BEGIN:VEVENT
DTSTART;TZID=America/Chicago:20260902T110000
DTEND;TZID=America/Chicago:20260902T110000
DTSTAMP:20260419T223536
CREATED:20260417T010356Z
LAST-MODIFIED:20260417T010356Z
UID:10041614-1788346800-1788346800@go.lpzoo.org
SUMMARY:Feed the Chickens
DESCRIPTION:
URL:https://go.lpzoo.org/event/feed-the-chickens/2026-09-02/
END:VEVENT
BEGIN:VEVENT
DTSTART;TZID=America/Chicago:20260902T110000
DTEND;TZID=America/Chicago:20260902T231000
DTSTAMP:20260419T223536
CREATED:20260417T005654Z
LAST-MODIFIED:20260417T005654Z
UID:10041193-1788346800-1788390600@go.lpzoo.org
SUMMARY:Jamaican Iguana Care
DESCRIPTION:
URL:https://go.lpzoo.org/event/jamaican-iguana-care-2-2/2026-09-02/
ATTACH;FMTTYPE=image/jpeg:https://go.lpzoo.org/wp-content/uploads/2025/01/jamaican_iguana_s1_800x450.jpg
END:VEVENT
BEGIN:VEVENT
DTSTART;TZID=America/Chicago:20260902T113000
DTEND;TZID=America/Chicago:20260902T233000
DTSTAMP:20260419T223536
CREATED:20260417T010559Z
LAST-MODIFIED:20260417T010928Z
UID:10042085-1788348600-1788391800@go.lpzoo.org
SUMMARY:Feed the Cows
DESCRIPTION:
URL:https://go.lpzoo.org/event/feed-the-cows/2026-09-02/
ATTACH;FMTTYPE=image/jpeg:https://go.lpzoo.org/wp-content/uploads/2025/05/cow-800x450-1.jpg
END:VEVENT
BEGIN:VEVENT
DTSTART;TZID=America/Chicago:20260902T113000
DTEND;TZID=America/Chicago:20260902T234000
DTSTAMP:20260419T223536
CREATED:20250125T035626Z
LAST-MODIFIED:20260126T152259Z
UID:10008456-1788348600-1788392400@go.lpzoo.org
SUMMARY:Seal Training and Feeding
DESCRIPTION:
URL:https://go.lpzoo.org/event/seal-training-and-feeding-2/2026-09-02/
ATTACH;FMTTYPE=image/jpeg:https://go.lpzoo.org/wp-content/uploads/2025/01/grey_seal_s1_800x450.jpg
END:VEVENT
BEGIN:VEVENT
DTSTART;TZID=America/Chicago:20260902T114500
DTEND;TZID=America/Chicago:20260902T120000
DTSTAMP:20260419T223536
CREATED:20251103T201241Z
LAST-MODIFIED:20260318T153805Z
UID:10032681-1788349500-1788350400@go.lpzoo.org
SUMMARY:Monkey Cognition 
DESCRIPTION:
URL:https://go.lpzoo.org/event/monkey-cognition-2/2026-09-02/
ATTACH;FMTTYPE=image/jpeg:https://go.lpzoo.org/wp-content/uploads/2025/04/Macacque-800x300-1.jpg
END:VEVENT
BEGIN:VEVENT
DTSTART;TZID=America/Chicago:20260902T130000
DTEND;TZID=America/Chicago:20260902T131000
DTSTAMP:20260419T223536
CREATED:20250305T204001Z
LAST-MODIFIED:20260129T214312Z
UID:10014033-1788354000-1788354600@go.lpzoo.org
SUMMARY:Ape Cognition & Care
DESCRIPTION:
URL:https://go.lpzoo.org/event/ape-cognition-care/2026-09-02/
ATTACH;FMTTYPE=image/png:https://go.lpzoo.org/wp-content/uploads/2025/03/Chimp-photo-800x300-1.png
END:VEVENT
BEGIN:VEVENT
DTSTART;TZID=America/Chicago:20260902T134500
DTEND;TZID=America/Chicago:20260902T134500
DTSTAMP:20260419T223536
CREATED:20260417T010107Z
LAST-MODIFIED:20260417T010107Z
UID:10041461-1788356700-1788356700@go.lpzoo.org
SUMMARY:Giraffe Training
DESCRIPTION:
URL:https://go.lpzoo.org/event/giraffe-training/2026-09-02/
ATTACH;FMTTYPE=image/jpeg:https://go.lpzoo.org/wp-content/uploads/2024/03/giraffe_m_800x200.jpg
END:VEVENT
BEGIN:VEVENT
DTSTART;TZID=America/Chicago:20260902T140000
DTEND;TZID=America/Chicago:20260902T140000
DTSTAMP:20260419T223536
CREATED:20260417T005447Z
LAST-MODIFIED:20260417T005447Z
UID:10040719-1788357600-1788357600@go.lpzoo.org
SUMMARY:Penguin Feeding
DESCRIPTION:
URL:https://go.lpzoo.org/event/penguin-feeding/2026-09-02/
ATTACH;FMTTYPE=image/jpeg:https://go.lpzoo.org/wp-content/uploads/2024/03/african_penguin_m_800x200.jpg
END:VEVENT
BEGIN:VEVENT
DTSTART;TZID=America/Chicago:20260902T140000
DTEND;TZID=America/Chicago:20260902T140000
DTSTAMP:20260419T223536
CREATED:20260417T010815Z
LAST-MODIFIED:20260417T010815Z
UID:10042556-1788357600-1788357600@go.lpzoo.org
SUMMARY:Feed the Cow
DESCRIPTION:
URL:https://go.lpzoo.org/event/feed-the-cow/2026-09-02/
ATTACH;FMTTYPE=image/jpeg:https://go.lpzoo.org/wp-content/uploads/2025/05/cow-800x450-1.jpg
END:VEVENT
BEGIN:VEVENT
DTSTART;TZID=America/Chicago:20260902T143000
DTEND;TZID=America/Chicago:20260902T144000
DTSTAMP:20260419T223536
CREATED:20250305T201420Z
LAST-MODIFIED:20260129T214512Z
UID:10012190-1788359400-1788360000@go.lpzoo.org
SUMMARY:Seal Training and Feeding
DESCRIPTION:
URL:https://go.lpzoo.org/event/seal-training-and-feeding/2026-09-02/
ATTACH;FMTTYPE=image/jpeg:https://go.lpzoo.org/wp-content/uploads/2025/01/grey_seal_s1_800x450.jpg
END:VEVENT
BEGIN:VEVENT
DTSTART;TZID=America/Chicago:20260902T170000
DTEND;TZID=America/Chicago:20260902T170000
DTSTAMP:20260419T223536
CREATED:20251119T223141Z
LAST-MODIFIED:20260105T155117Z
UID:10038624-1788368400-1788368400@go.lpzoo.org
SUMMARY:Gates close
DESCRIPTION:Gates close
URL:https://go.lpzoo.org/event/gates-close-3/2026-09-02/
CATEGORIES:Notice
END:VEVENT
BEGIN:VEVENT
DTSTART;TZID=America/Chicago:20260903T100000
DTEND;TZID=America/Chicago:20260903T103000
DTSTAMP:20260419T223536
CREATED:20251105T160455Z
LAST-MODIFIED:20251105T160456Z
UID:10034069-1788429600-1788431400@go.lpzoo.org
SUMMARY:Gates and Farm-in-the-Zoo Open
DESCRIPTION:Gates and Farm-in-the-Zoo Open
URL:https://go.lpzoo.org/event/gates-and-farm-in-the-zoo-open-2/2026-09-03/
CATEGORIES:Notice
END:VEVENT
BEGIN:VEVENT
DTSTART;TZID=America/Chicago:20260903T100000
DTEND;TZID=America/Chicago:20260903T223000
DTSTAMP:20260419T223536
CREATED:20250501T142454Z
LAST-MODIFIED:20250501T142454Z
UID:10006509-1788429600-1788474600@go.lpzoo.org
SUMMARY:Buildings open
DESCRIPTION:Buildings open
URL:https://go.lpzoo.org/event/gates-buildings-and-farm-in-the-zoo-open-2-2/2026-09-03/
CATEGORIES:Notice
END:VEVENT
BEGIN:VEVENT
DTSTART;TZID=America/Chicago:20260903T110000
DTEND;TZID=America/Chicago:20260903T110000
DTSTAMP:20260419T223536
CREATED:20260417T010356Z
LAST-MODIFIED:20260417T010356Z
UID:10041615-1788433200-1788433200@go.lpzoo.org
SUMMARY:Feed the Chickens
DESCRIPTION:
URL:https://go.lpzoo.org/event/feed-the-chickens/2026-09-03/
END:VEVENT
BEGIN:VEVENT
DTSTART;TZID=America/Chicago:20260903T113000
DTEND;TZID=America/Chicago:20260903T233000
DTSTAMP:20260419T223536
CREATED:20260417T010559Z
LAST-MODIFIED:20260417T010928Z
UID:10042086-1788435000-1788478200@go.lpzoo.org
SUMMARY:Feed the Cows
DESCRIPTION:
URL:https://go.lpzoo.org/event/feed-the-cows/2026-09-03/
ATTACH;FMTTYPE=image/jpeg:https://go.lpzoo.org/wp-content/uploads/2025/05/cow-800x450-1.jpg
END:VEVENT
BEGIN:VEVENT
DTSTART;TZID=America/Chicago:20260903T113000
DTEND;TZID=America/Chicago:20260903T234000
DTSTAMP:20260419T223536
CREATED:20250125T035626Z
LAST-MODIFIED:20260126T152259Z
UID:10008457-1788435000-1788478800@go.lpzoo.org
SUMMARY:Seal Training and Feeding
DESCRIPTION:
URL:https://go.lpzoo.org/event/seal-training-and-feeding-2/2026-09-03/
ATTACH;FMTTYPE=image/jpeg:https://go.lpzoo.org/wp-content/uploads/2025/01/grey_seal_s1_800x450.jpg
END:VEVENT
BEGIN:VEVENT
DTSTART;TZID=America/Chicago:20260903T114500
DTEND;TZID=America/Chicago:20260903T120000
DTSTAMP:20260419T223536
CREATED:20251103T201241Z
LAST-MODIFIED:20260318T153805Z
UID:10032682-1788435900-1788436800@go.lpzoo.org
SUMMARY:Monkey Cognition 
DESCRIPTION:
URL:https://go.lpzoo.org/event/monkey-cognition-2/2026-09-03/
ATTACH;FMTTYPE=image/jpeg:https://go.lpzoo.org/wp-content/uploads/2025/04/Macacque-800x300-1.jpg
END:VEVENT
BEGIN:VEVENT
DTSTART;TZID=America/Chicago:20260903T130000
DTEND;TZID=America/Chicago:20260903T131000
DTSTAMP:20260419T223536
CREATED:20250305T204001Z
LAST-MODIFIED:20260129T214312Z
UID:10014034-1788440400-1788441000@go.lpzoo.org
SUMMARY:Ape Cognition & Care
DESCRIPTION:
URL:https://go.lpzoo.org/event/ape-cognition-care/2026-09-03/
ATTACH;FMTTYPE=image/png:https://go.lpzoo.org/wp-content/uploads/2025/03/Chimp-photo-800x300-1.png
END:VEVENT
BEGIN:VEVENT
DTSTART;TZID=America/Chicago:20260903T140000
DTEND;TZID=America/Chicago:20260903T140000
DTSTAMP:20260419T223536
CREATED:20260417T005447Z
LAST-MODIFIED:20260417T005447Z
UID:10040720-1788444000-1788444000@go.lpzoo.org
SUMMARY:Penguin Feeding
DESCRIPTION:
URL:https://go.lpzoo.org/event/penguin-feeding/2026-09-03/
ATTACH;FMTTYPE=image/jpeg:https://go.lpzoo.org/wp-content/uploads/2024/03/african_penguin_m_800x200.jpg
END:VEVENT
END:VCALENDAR