BEGIN:VCALENDAR
VERSION:2.0
PRODID:-//Lincoln Park Zoo - ECPv6.15.16.1//NONSGML v1.0//EN
CALSCALE:GREGORIAN
METHOD:PUBLISH
X-ORIGINAL-URL:https://go.lpzoo.org
X-WR-CALDESC:Events for Lincoln Park Zoo
REFRESH-INTERVAL;VALUE=DURATION:PT1H
X-Robots-Tag:noindex
X-PUBLISHED-TTL:PT1H
BEGIN:VTIMEZONE
TZID:America/Chicago
BEGIN:DAYLIGHT
TZOFFSETFROM:-0600
TZOFFSETTO:-0500
TZNAME:CDT
DTSTART:20250309T080000
END:DAYLIGHT
BEGIN:STANDARD
TZOFFSETFROM:-0500
TZOFFSETTO:-0600
TZNAME:CST
DTSTART:20251102T070000
END:STANDARD
BEGIN:DAYLIGHT
TZOFFSETFROM:-0600
TZOFFSETTO:-0500
TZNAME:CDT
DTSTART:20260308T080000
END:DAYLIGHT
BEGIN:STANDARD
TZOFFSETFROM:-0500
TZOFFSETTO:-0600
TZNAME:CST
DTSTART:20261101T070000
END:STANDARD
BEGIN:DAYLIGHT
TZOFFSETFROM:-0600
TZOFFSETTO:-0500
TZNAME:CDT
DTSTART:20270314T080000
END:DAYLIGHT
BEGIN:STANDARD
TZOFFSETFROM:-0500
TZOFFSETTO:-0600
TZNAME:CST
DTSTART:20271107T070000
END:STANDARD
END:VTIMEZONE
BEGIN:VEVENT
DTSTART;TZID=America/Chicago:20260424T100000
DTEND;TZID=America/Chicago:20260424T103000
DTSTAMP:20260424T082942
CREATED:20251105T160455Z
LAST-MODIFIED:20251105T160456Z
UID:10033937-1777024800-1777026600@go.lpzoo.org
SUMMARY:Gates and Farm-in-the-Zoo Open
DESCRIPTION:Gates and Farm-in-the-Zoo Open
URL:https://go.lpzoo.org/event/gates-and-farm-in-the-zoo-open-2/2026-04-24/
CATEGORIES:Notice
END:VEVENT
BEGIN:VEVENT
DTSTART;TZID=America/Chicago:20260424T100000
DTEND;TZID=America/Chicago:20260424T120000
DTSTAMP:20260424T082942
CREATED:20260417T013331Z
LAST-MODIFIED:20260417T013331Z
UID:10042930-1777024800-1777032000@go.lpzoo.org
SUMMARY:Arbor Day Educational Games\, Chats\, and Activities
DESCRIPTION:Play a game\, support healthy forests\, and locate trees of interest at South Lawn outside of Park Place Cafe.
URL:https://go.lpzoo.org/event/arbor-day-educational-games-chats-and-activities/
ATTACH;FMTTYPE=image/jpeg:https://go.lpzoo.org/wp-content/uploads/2025/07/swf-games-800x450-2.jpg
END:VEVENT
BEGIN:VEVENT
DTSTART;TZID=America/Chicago:20260424T100000
DTEND;TZID=America/Chicago:20260424T130000
DTSTAMP:20260424T082942
CREATED:20260417T013648Z
LAST-MODIFIED:20260417T013648Z
UID:10042931-1777024800-1777035600@go.lpzoo.org
SUMMARY:Neighborhood Forests Tree Pickup
DESCRIPTION:If you ordered a free tree\, you can pick it up at the member center.
URL:https://go.lpzoo.org/event/neighborhood-forests-tree-pickup/2026-04-24/
END:VEVENT
BEGIN:VEVENT
DTSTART;TZID=America/Chicago:20260424T100000
DTEND;TZID=America/Chicago:20260424T170000
DTSTAMP:20260424T082942
CREATED:20260417T012509Z
LAST-MODIFIED:20260417T015406Z
UID:10042935-1777024800-1777050000@go.lpzoo.org
SUMMARY:LRS Recycling Systems Scavenger Hunt and Animal Trivia
DESCRIPTION:
URL:https://go.lpzoo.org/event/lrs-recycling-systems-scavenger-hunt-and-animal-trivia/2026-04-24/
ATTACH;FMTTYPE=image/png:https://go.lpzoo.org/wp-content/uploads/2026/04/Earth-week-800x533-1.png
END:VEVENT
BEGIN:VEVENT
DTSTART;TZID=America/Chicago:20260424T100000
DTEND;TZID=America/Chicago:20260424T223000
DTSTAMP:20260424T082942
CREATED:20250501T142454Z
LAST-MODIFIED:20250501T142454Z
UID:10000460-1777024800-1777069800@go.lpzoo.org
SUMMARY:Buildings open
DESCRIPTION:Buildings open
URL:https://go.lpzoo.org/event/gates-buildings-and-farm-in-the-zoo-open-2-2/2026-04-24/
CATEGORIES:Notice
END:VEVENT
BEGIN:VEVENT
DTSTART;TZID=America/Chicago:20260424T113000
DTEND;TZID=America/Chicago:20260424T234000
DTSTAMP:20260424T082942
CREATED:20250125T035626Z
LAST-MODIFIED:20260126T152259Z
UID:10008325-1777030200-1777074000@go.lpzoo.org
SUMMARY:Seal Training and Feeding
DESCRIPTION:
URL:https://go.lpzoo.org/event/seal-training-and-feeding-2/2026-04-24/
ATTACH;FMTTYPE=image/jpeg:https://go.lpzoo.org/wp-content/uploads/2025/01/grey_seal_s1_800x450.jpg
END:VEVENT
BEGIN:VEVENT
DTSTART;TZID=America/Chicago:20260424T114500
DTEND;TZID=America/Chicago:20260424T120000
DTSTAMP:20260424T082942
CREATED:20251103T201241Z
LAST-MODIFIED:20260318T153805Z
UID:10032588-1777031100-1777032000@go.lpzoo.org
SUMMARY:Monkey Cognition 
DESCRIPTION:
URL:https://go.lpzoo.org/event/monkey-cognition-2/2026-04-24/
ATTACH;FMTTYPE=image/jpeg:https://go.lpzoo.org/wp-content/uploads/2025/04/Macacque-800x300-1.jpg
END:VEVENT
BEGIN:VEVENT
DTSTART;TZID=America/Chicago:20260424T130000
DTEND;TZID=America/Chicago:20260424T131000
DTSTAMP:20260424T082942
CREATED:20250305T204001Z
LAST-MODIFIED:20260423T143520Z
UID:10013902-1777035600-1777036200@go.lpzoo.org
SUMMARY:Ape Cognition & Care
DESCRIPTION:
URL:https://go.lpzoo.org/event/ape-cognition-care/2026-04-24/
ATTACH;FMTTYPE=image/png:https://go.lpzoo.org/wp-content/uploads/2025/03/Chimp-photo-800x300-1.png
END:VEVENT
BEGIN:VEVENT
DTSTART;TZID=America/Chicago:20260424T140000
DTEND;TZID=America/Chicago:20260424T140000
DTSTAMP:20260424T082942
CREATED:20260417T005447Z
LAST-MODIFIED:20260417T005447Z
UID:10040588-1777039200-1777039200@go.lpzoo.org
SUMMARY:Penguin Feeding
DESCRIPTION:
URL:https://go.lpzoo.org/event/penguin-feeding/2026-04-24/
ATTACH;FMTTYPE=image/jpeg:https://go.lpzoo.org/wp-content/uploads/2024/03/african_penguin_m_800x200.jpg
END:VEVENT
BEGIN:VEVENT
DTSTART;TZID=America/Chicago:20260424T143000
DTEND;TZID=America/Chicago:20260424T144000
DTSTAMP:20260424T082942
CREATED:20250305T201420Z
LAST-MODIFIED:20260129T214512Z
UID:10012059-1777041000-1777041600@go.lpzoo.org
SUMMARY:Seal Training and Feeding
DESCRIPTION:
URL:https://go.lpzoo.org/event/seal-training-and-feeding/2026-04-24/
ATTACH;FMTTYPE=image/jpeg:https://go.lpzoo.org/wp-content/uploads/2025/01/grey_seal_s1_800x450.jpg
END:VEVENT
BEGIN:VEVENT
DTSTART;TZID=America/Chicago:20260424T163000
DTEND;TZID=America/Chicago:20260424T163000
DTSTAMP:20260424T082942
CREATED:20251119T223059Z
LAST-MODIFIED:20260105T155201Z
UID:10040366-1777048200-1777048200@go.lpzoo.org
SUMMARY:Buildings and Farm-in-the-Zoo close
DESCRIPTION:Buildings and Farm-in-the-Zoo close.
URL:https://go.lpzoo.org/event/buildings-and-farm-in-the-zoo-close-2/2026-04-24/
CATEGORIES:Notice
END:VEVENT
BEGIN:VEVENT
DTSTART;TZID=America/Chicago:20260424T170000
DTEND;TZID=America/Chicago:20260424T170000
DTSTAMP:20260424T082942
CREATED:20251119T223141Z
LAST-MODIFIED:20260105T155117Z
UID:10038493-1777050000-1777050000@go.lpzoo.org
SUMMARY:Gates close
DESCRIPTION:Gates close
URL:https://go.lpzoo.org/event/gates-close-3/2026-04-24/
CATEGORIES:Notice
END:VEVENT
BEGIN:VEVENT
DTSTART;TZID=America/Chicago:20260425T100000
DTEND;TZID=America/Chicago:20260425T103000
DTSTAMP:20260424T082942
CREATED:20251105T160455Z
LAST-MODIFIED:20251105T160456Z
UID:10033938-1777111200-1777113000@go.lpzoo.org
SUMMARY:Gates and Farm-in-the-Zoo Open
DESCRIPTION:Gates and Farm-in-the-Zoo Open
URL:https://go.lpzoo.org/event/gates-and-farm-in-the-zoo-open-2/2026-04-25/
CATEGORIES:Notice
END:VEVENT
BEGIN:VEVENT
DTSTART;TZID=America/Chicago:20260425T100000
DTEND;TZID=America/Chicago:20260425T130000
DTSTAMP:20260424T082942
CREATED:20260417T013648Z
LAST-MODIFIED:20260417T013648Z
UID:10042932-1777111200-1777122000@go.lpzoo.org
SUMMARY:Neighborhood Forests Tree Pickup
DESCRIPTION:If you ordered a free tree\, you can pick it up at the member center.
URL:https://go.lpzoo.org/event/neighborhood-forests-tree-pickup/2026-04-25/
END:VEVENT
BEGIN:VEVENT
DTSTART;TZID=America/Chicago:20260425T100000
DTEND;TZID=America/Chicago:20260425T170000
DTSTAMP:20260424T082942
CREATED:20260417T012509Z
LAST-MODIFIED:20260417T015406Z
UID:10042936-1777111200-1777136400@go.lpzoo.org
SUMMARY:LRS Recycling Systems Scavenger Hunt and Animal Trivia
DESCRIPTION:
URL:https://go.lpzoo.org/event/lrs-recycling-systems-scavenger-hunt-and-animal-trivia/2026-04-25/
ATTACH;FMTTYPE=image/png:https://go.lpzoo.org/wp-content/uploads/2026/04/Earth-week-800x533-1.png
END:VEVENT
BEGIN:VEVENT
DTSTART;TZID=America/Chicago:20260425T100000
DTEND;TZID=America/Chicago:20260425T223000
DTSTAMP:20260424T082942
CREATED:20250501T142454Z
LAST-MODIFIED:20250501T142454Z
UID:10000461-1777111200-1777156200@go.lpzoo.org
SUMMARY:Buildings open
DESCRIPTION:Buildings open
URL:https://go.lpzoo.org/event/gates-buildings-and-farm-in-the-zoo-open-2-2/2026-04-25/
CATEGORIES:Notice
END:VEVENT
BEGIN:VEVENT
DTSTART;TZID=America/Chicago:20260425T113000
DTEND;TZID=America/Chicago:20260425T234000
DTSTAMP:20260424T082942
CREATED:20250125T035626Z
LAST-MODIFIED:20260126T152259Z
UID:10008326-1777116600-1777160400@go.lpzoo.org
SUMMARY:Seal Training and Feeding
DESCRIPTION:
URL:https://go.lpzoo.org/event/seal-training-and-feeding-2/2026-04-25/
ATTACH;FMTTYPE=image/jpeg:https://go.lpzoo.org/wp-content/uploads/2025/01/grey_seal_s1_800x450.jpg
END:VEVENT
BEGIN:VEVENT
DTSTART;TZID=America/Chicago:20260425T120000
DTEND;TZID=America/Chicago:20260425T130000
DTSTAMP:20260424T082942
CREATED:20260417T014720Z
LAST-MODIFIED:20260417T015029Z
UID:10042933-1777118400-1777122000@go.lpzoo.org
SUMMARY:Special Arbor Day Horticulture Tour
DESCRIPTION:Take a free tour featuring the fascinating trees at Lincoln Park Zoo. The tour will start at the South Lawn\, outside of Park Place Cafe.
URL:https://go.lpzoo.org/event/special-arbor-day-horticulture-tour/
ATTACH;FMTTYPE=image/jpeg:https://go.lpzoo.org/wp-content/uploads/2024/03/HBMSP_s1_800x450.jpg
END:VEVENT
BEGIN:VEVENT
DTSTART;TZID=America/Chicago:20260425T130000
DTEND;TZID=America/Chicago:20260425T131000
DTSTAMP:20260424T082942
CREATED:20250305T204001Z
LAST-MODIFIED:20260423T143520Z
UID:10013903-1777122000-1777122600@go.lpzoo.org
SUMMARY:Ape Cognition & Care
DESCRIPTION:
URL:https://go.lpzoo.org/event/ape-cognition-care/2026-04-25/
ATTACH;FMTTYPE=image/png:https://go.lpzoo.org/wp-content/uploads/2025/03/Chimp-photo-800x300-1.png
END:VEVENT
BEGIN:VEVENT
DTSTART;TZID=America/Chicago:20260425T140000
DTEND;TZID=America/Chicago:20260425T140000
DTSTAMP:20260424T082942
CREATED:20260417T005447Z
LAST-MODIFIED:20260417T005447Z
UID:10040589-1777125600-1777125600@go.lpzoo.org
SUMMARY:Penguin Feeding
DESCRIPTION:
URL:https://go.lpzoo.org/event/penguin-feeding/2026-04-25/
ATTACH;FMTTYPE=image/jpeg:https://go.lpzoo.org/wp-content/uploads/2024/03/african_penguin_m_800x200.jpg
END:VEVENT
BEGIN:VEVENT
DTSTART;TZID=America/Chicago:20260425T143000
DTEND;TZID=America/Chicago:20260425T144000
DTSTAMP:20260424T082943
CREATED:20250305T201420Z
LAST-MODIFIED:20260129T214512Z
UID:10012060-1777127400-1777128000@go.lpzoo.org
SUMMARY:Seal Training and Feeding
DESCRIPTION:
URL:https://go.lpzoo.org/event/seal-training-and-feeding/2026-04-25/
ATTACH;FMTTYPE=image/jpeg:https://go.lpzoo.org/wp-content/uploads/2025/01/grey_seal_s1_800x450.jpg
END:VEVENT
BEGIN:VEVENT
DTSTART;TZID=America/Chicago:20260425T163000
DTEND;TZID=America/Chicago:20260425T163000
DTSTAMP:20260424T082943
CREATED:20251119T223059Z
LAST-MODIFIED:20260105T155201Z
UID:10040367-1777134600-1777134600@go.lpzoo.org
SUMMARY:Buildings and Farm-in-the-Zoo close
DESCRIPTION:Buildings and Farm-in-the-Zoo close.
URL:https://go.lpzoo.org/event/buildings-and-farm-in-the-zoo-close-2/2026-04-25/
CATEGORIES:Notice
END:VEVENT
BEGIN:VEVENT
DTSTART;TZID=America/Chicago:20260425T170000
DTEND;TZID=America/Chicago:20260425T170000
DTSTAMP:20260424T082943
CREATED:20251119T223141Z
LAST-MODIFIED:20260105T155117Z
UID:10038494-1777136400-1777136400@go.lpzoo.org
SUMMARY:Gates close
DESCRIPTION:Gates close
URL:https://go.lpzoo.org/event/gates-close-3/2026-04-25/
CATEGORIES:Notice
END:VEVENT
BEGIN:VEVENT
DTSTART;TZID=America/Chicago:20260426T100000
DTEND;TZID=America/Chicago:20260426T103000
DTSTAMP:20260424T082943
CREATED:20251105T160455Z
LAST-MODIFIED:20251105T160456Z
UID:10033939-1777197600-1777199400@go.lpzoo.org
SUMMARY:Gates and Farm-in-the-Zoo Open
DESCRIPTION:Gates and Farm-in-the-Zoo Open
URL:https://go.lpzoo.org/event/gates-and-farm-in-the-zoo-open-2/2026-04-26/
CATEGORIES:Notice
END:VEVENT
BEGIN:VEVENT
DTSTART;TZID=America/Chicago:20260426T100000
DTEND;TZID=America/Chicago:20260426T223000
DTSTAMP:20260424T082943
CREATED:20250501T142454Z
LAST-MODIFIED:20250501T142454Z
UID:10000462-1777197600-1777242600@go.lpzoo.org
SUMMARY:Buildings open
DESCRIPTION:Buildings open
URL:https://go.lpzoo.org/event/gates-buildings-and-farm-in-the-zoo-open-2-2/2026-04-26/
CATEGORIES:Notice
END:VEVENT
BEGIN:VEVENT
DTSTART;TZID=America/Chicago:20260426T113000
DTEND;TZID=America/Chicago:20260426T234000
DTSTAMP:20260424T082943
CREATED:20250125T035626Z
LAST-MODIFIED:20260126T152259Z
UID:10008327-1777203000-1777246800@go.lpzoo.org
SUMMARY:Seal Training and Feeding
DESCRIPTION:
URL:https://go.lpzoo.org/event/seal-training-and-feeding-2/2026-04-26/
ATTACH;FMTTYPE=image/jpeg:https://go.lpzoo.org/wp-content/uploads/2025/01/grey_seal_s1_800x450.jpg
END:VEVENT
BEGIN:VEVENT
DTSTART;TZID=America/Chicago:20260426T130000
DTEND;TZID=America/Chicago:20260426T131000
DTSTAMP:20260424T082943
CREATED:20250305T204001Z
LAST-MODIFIED:20260423T143520Z
UID:10013904-1777208400-1777209000@go.lpzoo.org
SUMMARY:Ape Cognition & Care
DESCRIPTION:
URL:https://go.lpzoo.org/event/ape-cognition-care/2026-04-26/
ATTACH;FMTTYPE=image/png:https://go.lpzoo.org/wp-content/uploads/2025/03/Chimp-photo-800x300-1.png
END:VEVENT
BEGIN:VEVENT
DTSTART;TZID=America/Chicago:20260426T140000
DTEND;TZID=America/Chicago:20260426T140000
DTSTAMP:20260424T082943
CREATED:20260417T005447Z
LAST-MODIFIED:20260417T005447Z
UID:10040590-1777212000-1777212000@go.lpzoo.org
SUMMARY:Penguin Feeding
DESCRIPTION:
URL:https://go.lpzoo.org/event/penguin-feeding/2026-04-26/
ATTACH;FMTTYPE=image/jpeg:https://go.lpzoo.org/wp-content/uploads/2024/03/african_penguin_m_800x200.jpg
END:VEVENT
BEGIN:VEVENT
DTSTART;TZID=America/Chicago:20260426T143000
DTEND;TZID=America/Chicago:20260426T144000
DTSTAMP:20260424T082943
CREATED:20250305T201420Z
LAST-MODIFIED:20260129T214512Z
UID:10012061-1777213800-1777214400@go.lpzoo.org
SUMMARY:Seal Training and Feeding
DESCRIPTION:
URL:https://go.lpzoo.org/event/seal-training-and-feeding/2026-04-26/
ATTACH;FMTTYPE=image/jpeg:https://go.lpzoo.org/wp-content/uploads/2025/01/grey_seal_s1_800x450.jpg
END:VEVENT
BEGIN:VEVENT
DTSTART;TZID=America/Chicago:20260426T163000
DTEND;TZID=America/Chicago:20260426T163000
DTSTAMP:20260424T082943
CREATED:20251119T223059Z
LAST-MODIFIED:20260105T155201Z
UID:10040368-1777221000-1777221000@go.lpzoo.org
SUMMARY:Buildings and Farm-in-the-Zoo close
DESCRIPTION:Buildings and Farm-in-the-Zoo close.
URL:https://go.lpzoo.org/event/buildings-and-farm-in-the-zoo-close-2/2026-04-26/
CATEGORIES:Notice
END:VEVENT
END:VCALENDAR