BEGIN:VCALENDAR
VERSION:2.0
PRODID:-//Lincoln Park Zoo - ECPv6.15.16.1//NONSGML v1.0//EN
CALSCALE:GREGORIAN
METHOD:PUBLISH
X-WR-CALNAME:Lincoln Park Zoo
X-ORIGINAL-URL:https://go.lpzoo.org
X-WR-CALDESC:Events for Lincoln Park Zoo
REFRESH-INTERVAL;VALUE=DURATION:PT1H
X-Robots-Tag:noindex
X-PUBLISHED-TTL:PT1H
BEGIN:VTIMEZONE
TZID:America/Chicago
BEGIN:DAYLIGHT
TZOFFSETFROM:-0600
TZOFFSETTO:-0500
TZNAME:CDT
DTSTART:20250309T080000
END:DAYLIGHT
BEGIN:STANDARD
TZOFFSETFROM:-0500
TZOFFSETTO:-0600
TZNAME:CST
DTSTART:20251102T070000
END:STANDARD
BEGIN:DAYLIGHT
TZOFFSETFROM:-0600
TZOFFSETTO:-0500
TZNAME:CDT
DTSTART:20260308T080000
END:DAYLIGHT
BEGIN:STANDARD
TZOFFSETFROM:-0500
TZOFFSETTO:-0600
TZNAME:CST
DTSTART:20261101T070000
END:STANDARD
BEGIN:DAYLIGHT
TZOFFSETFROM:-0600
TZOFFSETTO:-0500
TZNAME:CDT
DTSTART:20270314T080000
END:DAYLIGHT
BEGIN:STANDARD
TZOFFSETFROM:-0500
TZOFFSETTO:-0600
TZNAME:CST
DTSTART:20271107T070000
END:STANDARD
END:VTIMEZONE
BEGIN:VEVENT
DTSTART;TZID=America/Chicago:20260922T170000
DTEND;TZID=America/Chicago:20260922T170000
DTSTAMP:20260420T121409
CREATED:20251119T223141Z
LAST-MODIFIED:20260105T155117Z
UID:10038644-1790096400-1790096400@go.lpzoo.org
SUMMARY:Gates close
DESCRIPTION:Gates close
URL:https://go.lpzoo.org/event/gates-close-3/2026-09-22/
CATEGORIES:Notice
END:VEVENT
BEGIN:VEVENT
DTSTART;TZID=America/Chicago:20260922T143000
DTEND;TZID=America/Chicago:20260922T144000
DTSTAMP:20260420T121409
CREATED:20250305T201420Z
LAST-MODIFIED:20260129T214512Z
UID:10012210-1790087400-1790088000@go.lpzoo.org
SUMMARY:Seal Training and Feeding
DESCRIPTION:
URL:https://go.lpzoo.org/event/seal-training-and-feeding/2026-09-22/
ATTACH;FMTTYPE=image/jpeg:https://go.lpzoo.org/wp-content/uploads/2025/01/grey_seal_s1_800x450.jpg
END:VEVENT
BEGIN:VEVENT
DTSTART;TZID=America/Chicago:20260922T140000
DTEND;TZID=America/Chicago:20260922T140000
DTSTAMP:20260420T121409
CREATED:20260417T010815Z
LAST-MODIFIED:20260417T010815Z
UID:10042576-1790085600-1790085600@go.lpzoo.org
SUMMARY:Feed the Cow
DESCRIPTION:
URL:https://go.lpzoo.org/event/feed-the-cow/2026-09-22/
ATTACH;FMTTYPE=image/jpeg:https://go.lpzoo.org/wp-content/uploads/2025/05/cow-800x450-1.jpg
END:VEVENT
BEGIN:VEVENT
DTSTART;TZID=America/Chicago:20260922T140000
DTEND;TZID=America/Chicago:20260922T140000
DTSTAMP:20260420T121409
CREATED:20260417T005447Z
LAST-MODIFIED:20260417T005447Z
UID:10040739-1790085600-1790085600@go.lpzoo.org
SUMMARY:Penguin Feeding
DESCRIPTION:
URL:https://go.lpzoo.org/event/penguin-feeding/2026-09-22/
ATTACH;FMTTYPE=image/jpeg:https://go.lpzoo.org/wp-content/uploads/2024/03/african_penguin_m_800x200.jpg
END:VEVENT
BEGIN:VEVENT
DTSTART;TZID=America/Chicago:20260922T130000
DTEND;TZID=America/Chicago:20260922T131000
DTSTAMP:20260420T121409
CREATED:20250305T204001Z
LAST-MODIFIED:20260129T214312Z
UID:10014053-1790082000-1790082600@go.lpzoo.org
SUMMARY:Ape Cognition & Care
DESCRIPTION:
URL:https://go.lpzoo.org/event/ape-cognition-care/2026-09-22/
ATTACH;FMTTYPE=image/png:https://go.lpzoo.org/wp-content/uploads/2025/03/Chimp-photo-800x300-1.png
END:VEVENT
BEGIN:VEVENT
DTSTART;TZID=America/Chicago:20260922T114500
DTEND;TZID=America/Chicago:20260922T120000
DTSTAMP:20260420T121409
CREATED:20251103T201241Z
LAST-MODIFIED:20260318T153805Z
UID:10032695-1790077500-1790078400@go.lpzoo.org
SUMMARY:Monkey Cognition 
DESCRIPTION:
URL:https://go.lpzoo.org/event/monkey-cognition-2/2026-09-22/
ATTACH;FMTTYPE=image/jpeg:https://go.lpzoo.org/wp-content/uploads/2025/04/Macacque-800x300-1.jpg
END:VEVENT
BEGIN:VEVENT
DTSTART;TZID=America/Chicago:20260922T113000
DTEND;TZID=America/Chicago:20260922T234000
DTSTAMP:20260420T121409
CREATED:20250125T035626Z
LAST-MODIFIED:20260126T152259Z
UID:10008476-1790076600-1790120400@go.lpzoo.org
SUMMARY:Seal Training and Feeding
DESCRIPTION:
URL:https://go.lpzoo.org/event/seal-training-and-feeding-2/2026-09-22/
ATTACH;FMTTYPE=image/jpeg:https://go.lpzoo.org/wp-content/uploads/2025/01/grey_seal_s1_800x450.jpg
END:VEVENT
BEGIN:VEVENT
DTSTART;TZID=America/Chicago:20260922T113000
DTEND;TZID=America/Chicago:20260922T233000
DTSTAMP:20260420T121409
CREATED:20260417T010559Z
LAST-MODIFIED:20260417T010928Z
UID:10042105-1790076600-1790119800@go.lpzoo.org
SUMMARY:Feed the Cows
DESCRIPTION:
URL:https://go.lpzoo.org/event/feed-the-cows/2026-09-22/
ATTACH;FMTTYPE=image/jpeg:https://go.lpzoo.org/wp-content/uploads/2025/05/cow-800x450-1.jpg
END:VEVENT
BEGIN:VEVENT
DTSTART;TZID=America/Chicago:20260922T110000
DTEND;TZID=America/Chicago:20260922T110000
DTSTAMP:20260420T121409
CREATED:20260417T010356Z
LAST-MODIFIED:20260417T010356Z
UID:10041634-1790074800-1790074800@go.lpzoo.org
SUMMARY:Feed the Chickens
DESCRIPTION:
URL:https://go.lpzoo.org/event/feed-the-chickens/2026-09-22/
END:VEVENT
BEGIN:VEVENT
DTSTART;TZID=America/Chicago:20260922T100000
DTEND;TZID=America/Chicago:20260922T223000
DTSTAMP:20260420T121409
CREATED:20250501T142454Z
LAST-MODIFIED:20250501T142454Z
UID:10006528-1790071200-1790116200@go.lpzoo.org
SUMMARY:Buildings open
DESCRIPTION:Buildings open
URL:https://go.lpzoo.org/event/gates-buildings-and-farm-in-the-zoo-open-2-2/2026-09-22/
CATEGORIES:Notice
END:VEVENT
BEGIN:VEVENT
DTSTART;TZID=America/Chicago:20260922T100000
DTEND;TZID=America/Chicago:20260922T103000
DTSTAMP:20260420T121409
CREATED:20251105T160455Z
LAST-MODIFIED:20251105T160456Z
UID:10034088-1790071200-1790073000@go.lpzoo.org
SUMMARY:Gates and Farm-in-the-Zoo Open
DESCRIPTION:Gates and Farm-in-the-Zoo Open
URL:https://go.lpzoo.org/event/gates-and-farm-in-the-zoo-open-2/2026-09-22/
CATEGORIES:Notice
END:VEVENT
BEGIN:VEVENT
DTSTART;TZID=America/Chicago:20260921T170000
DTEND;TZID=America/Chicago:20260921T170000
DTSTAMP:20260420T121409
CREATED:20251119T223141Z
LAST-MODIFIED:20260105T155117Z
UID:10038643-1790010000-1790010000@go.lpzoo.org
SUMMARY:Gates close
DESCRIPTION:Gates close
URL:https://go.lpzoo.org/event/gates-close-3/2026-09-21/
CATEGORIES:Notice
END:VEVENT
BEGIN:VEVENT
DTSTART;TZID=America/Chicago:20260921T143000
DTEND;TZID=America/Chicago:20260921T144000
DTSTAMP:20260420T121409
CREATED:20250305T201420Z
LAST-MODIFIED:20260129T214512Z
UID:10012209-1790001000-1790001600@go.lpzoo.org
SUMMARY:Seal Training and Feeding
DESCRIPTION:
URL:https://go.lpzoo.org/event/seal-training-and-feeding/2026-09-21/
ATTACH;FMTTYPE=image/jpeg:https://go.lpzoo.org/wp-content/uploads/2025/01/grey_seal_s1_800x450.jpg
END:VEVENT
BEGIN:VEVENT
DTSTART;TZID=America/Chicago:20260921T140000
DTEND;TZID=America/Chicago:20260921T140000
DTSTAMP:20260420T121409
CREATED:20260417T010815Z
LAST-MODIFIED:20260417T010815Z
UID:10042575-1789999200-1789999200@go.lpzoo.org
SUMMARY:Feed the Cow
DESCRIPTION:
URL:https://go.lpzoo.org/event/feed-the-cow/2026-09-21/
ATTACH;FMTTYPE=image/jpeg:https://go.lpzoo.org/wp-content/uploads/2025/05/cow-800x450-1.jpg
END:VEVENT
BEGIN:VEVENT
DTSTART;TZID=America/Chicago:20260921T140000
DTEND;TZID=America/Chicago:20260921T140000
DTSTAMP:20260420T121409
CREATED:20260417T005447Z
LAST-MODIFIED:20260417T005447Z
UID:10040738-1789999200-1789999200@go.lpzoo.org
SUMMARY:Penguin Feeding
DESCRIPTION:
URL:https://go.lpzoo.org/event/penguin-feeding/2026-09-21/
ATTACH;FMTTYPE=image/jpeg:https://go.lpzoo.org/wp-content/uploads/2024/03/african_penguin_m_800x200.jpg
END:VEVENT
BEGIN:VEVENT
DTSTART;TZID=America/Chicago:20260921T130000
DTEND;TZID=America/Chicago:20260921T131000
DTSTAMP:20260420T121409
CREATED:20250305T204001Z
LAST-MODIFIED:20260129T214312Z
UID:10014052-1789995600-1789996200@go.lpzoo.org
SUMMARY:Ape Cognition & Care
DESCRIPTION:
URL:https://go.lpzoo.org/event/ape-cognition-care/2026-09-21/
ATTACH;FMTTYPE=image/png:https://go.lpzoo.org/wp-content/uploads/2025/03/Chimp-photo-800x300-1.png
END:VEVENT
BEGIN:VEVENT
DTSTART;TZID=America/Chicago:20260921T114500
DTEND;TZID=America/Chicago:20260921T120000
DTSTAMP:20260420T121409
CREATED:20251103T201241Z
LAST-MODIFIED:20260318T153805Z
UID:10032694-1789991100-1789992000@go.lpzoo.org
SUMMARY:Monkey Cognition 
DESCRIPTION:
URL:https://go.lpzoo.org/event/monkey-cognition-2/2026-09-21/
ATTACH;FMTTYPE=image/jpeg:https://go.lpzoo.org/wp-content/uploads/2025/04/Macacque-800x300-1.jpg
END:VEVENT
BEGIN:VEVENT
DTSTART;TZID=America/Chicago:20260921T113000
DTEND;TZID=America/Chicago:20260921T234000
DTSTAMP:20260420T121409
CREATED:20250125T035626Z
LAST-MODIFIED:20260126T152259Z
UID:10008475-1789990200-1790034000@go.lpzoo.org
SUMMARY:Seal Training and Feeding
DESCRIPTION:
URL:https://go.lpzoo.org/event/seal-training-and-feeding-2/2026-09-21/
ATTACH;FMTTYPE=image/jpeg:https://go.lpzoo.org/wp-content/uploads/2025/01/grey_seal_s1_800x450.jpg
END:VEVENT
BEGIN:VEVENT
DTSTART;TZID=America/Chicago:20260921T113000
DTEND;TZID=America/Chicago:20260921T233000
DTSTAMP:20260420T121409
CREATED:20260417T010559Z
LAST-MODIFIED:20260417T010928Z
UID:10042104-1789990200-1790033400@go.lpzoo.org
SUMMARY:Feed the Cows
DESCRIPTION:
URL:https://go.lpzoo.org/event/feed-the-cows/2026-09-21/
ATTACH;FMTTYPE=image/jpeg:https://go.lpzoo.org/wp-content/uploads/2025/05/cow-800x450-1.jpg
END:VEVENT
BEGIN:VEVENT
DTSTART;TZID=America/Chicago:20260921T110000
DTEND;TZID=America/Chicago:20260921T231000
DTSTAMP:20260420T121409
CREATED:20260417T005654Z
LAST-MODIFIED:20260417T005654Z
UID:10002667-1789988400-1790032200@go.lpzoo.org
SUMMARY:Jamaican Iguana Care
DESCRIPTION:
URL:https://go.lpzoo.org/event/jamaican-iguana-care-2-2/2026-09-21/
ATTACH;FMTTYPE=image/jpeg:https://go.lpzoo.org/wp-content/uploads/2025/01/jamaican_iguana_s1_800x450.jpg
END:VEVENT
BEGIN:VEVENT
DTSTART;TZID=America/Chicago:20260921T110000
DTEND;TZID=America/Chicago:20260921T110000
DTSTAMP:20260420T121409
CREATED:20260417T010356Z
LAST-MODIFIED:20260417T010356Z
UID:10041633-1789988400-1789988400@go.lpzoo.org
SUMMARY:Feed the Chickens
DESCRIPTION:
URL:https://go.lpzoo.org/event/feed-the-chickens/2026-09-21/
END:VEVENT
BEGIN:VEVENT
DTSTART;TZID=America/Chicago:20260921T100000
DTEND;TZID=America/Chicago:20260921T223000
DTSTAMP:20260420T121409
CREATED:20250501T142454Z
LAST-MODIFIED:20250501T142454Z
UID:10006527-1789984800-1790029800@go.lpzoo.org
SUMMARY:Buildings open
DESCRIPTION:Buildings open
URL:https://go.lpzoo.org/event/gates-buildings-and-farm-in-the-zoo-open-2-2/2026-09-21/
CATEGORIES:Notice
END:VEVENT
BEGIN:VEVENT
DTSTART;TZID=America/Chicago:20260921T100000
DTEND;TZID=America/Chicago:20260921T103000
DTSTAMP:20260420T121409
CREATED:20251105T160455Z
LAST-MODIFIED:20251105T160456Z
UID:10034087-1789984800-1789986600@go.lpzoo.org
SUMMARY:Gates and Farm-in-the-Zoo Open
DESCRIPTION:Gates and Farm-in-the-Zoo Open
URL:https://go.lpzoo.org/event/gates-and-farm-in-the-zoo-open-2/2026-09-21/
CATEGORIES:Notice
END:VEVENT
BEGIN:VEVENT
DTSTART;TZID=America/Chicago:20260920T170000
DTEND;TZID=America/Chicago:20260920T170000
DTSTAMP:20260420T121409
CREATED:20251119T223141Z
LAST-MODIFIED:20260105T155117Z
UID:10038642-1789923600-1789923600@go.lpzoo.org
SUMMARY:Gates close
DESCRIPTION:Gates close
URL:https://go.lpzoo.org/event/gates-close-3/2026-09-20/
CATEGORIES:Notice
END:VEVENT
BEGIN:VEVENT
DTSTART;TZID=America/Chicago:20260920T143000
DTEND;TZID=America/Chicago:20260920T144000
DTSTAMP:20260420T121409
CREATED:20250305T201420Z
LAST-MODIFIED:20260129T214512Z
UID:10012208-1789914600-1789915200@go.lpzoo.org
SUMMARY:Seal Training and Feeding
DESCRIPTION:
URL:https://go.lpzoo.org/event/seal-training-and-feeding/2026-09-20/
ATTACH;FMTTYPE=image/jpeg:https://go.lpzoo.org/wp-content/uploads/2025/01/grey_seal_s1_800x450.jpg
END:VEVENT
BEGIN:VEVENT
DTSTART;TZID=America/Chicago:20260920T140000
DTEND;TZID=America/Chicago:20260920T140000
DTSTAMP:20260420T121409
CREATED:20260417T010815Z
LAST-MODIFIED:20260417T010815Z
UID:10042574-1789912800-1789912800@go.lpzoo.org
SUMMARY:Feed the Cow
DESCRIPTION:
URL:https://go.lpzoo.org/event/feed-the-cow/2026-09-20/
ATTACH;FMTTYPE=image/jpeg:https://go.lpzoo.org/wp-content/uploads/2025/05/cow-800x450-1.jpg
END:VEVENT
BEGIN:VEVENT
DTSTART;TZID=America/Chicago:20260920T140000
DTEND;TZID=America/Chicago:20260920T140000
DTSTAMP:20260420T121409
CREATED:20260417T005447Z
LAST-MODIFIED:20260417T005447Z
UID:10040737-1789912800-1789912800@go.lpzoo.org
SUMMARY:Penguin Feeding
DESCRIPTION:
URL:https://go.lpzoo.org/event/penguin-feeding/2026-09-20/
ATTACH;FMTTYPE=image/jpeg:https://go.lpzoo.org/wp-content/uploads/2024/03/african_penguin_m_800x200.jpg
END:VEVENT
BEGIN:VEVENT
DTSTART;TZID=America/Chicago:20260920T130000
DTEND;TZID=America/Chicago:20260920T131000
DTSTAMP:20260420T121409
CREATED:20250305T204001Z
LAST-MODIFIED:20260129T214312Z
UID:10014051-1789909200-1789909800@go.lpzoo.org
SUMMARY:Ape Cognition & Care
DESCRIPTION:
URL:https://go.lpzoo.org/event/ape-cognition-care/2026-09-20/
ATTACH;FMTTYPE=image/png:https://go.lpzoo.org/wp-content/uploads/2025/03/Chimp-photo-800x300-1.png
END:VEVENT
BEGIN:VEVENT
DTSTART;TZID=America/Chicago:20260920T113000
DTEND;TZID=America/Chicago:20260920T234000
DTSTAMP:20260420T121409
CREATED:20250125T035626Z
LAST-MODIFIED:20260126T152259Z
UID:10008474-1789903800-1789947600@go.lpzoo.org
SUMMARY:Seal Training and Feeding
DESCRIPTION:
URL:https://go.lpzoo.org/event/seal-training-and-feeding-2/2026-09-20/
ATTACH;FMTTYPE=image/jpeg:https://go.lpzoo.org/wp-content/uploads/2025/01/grey_seal_s1_800x450.jpg
END:VEVENT
BEGIN:VEVENT
DTSTART;TZID=America/Chicago:20260920T113000
DTEND;TZID=America/Chicago:20260920T233000
DTSTAMP:20260420T121409
CREATED:20260417T010559Z
LAST-MODIFIED:20260417T010928Z
UID:10042103-1789903800-1789947000@go.lpzoo.org
SUMMARY:Feed the Cows
DESCRIPTION:
URL:https://go.lpzoo.org/event/feed-the-cows/2026-09-20/
ATTACH;FMTTYPE=image/jpeg:https://go.lpzoo.org/wp-content/uploads/2025/05/cow-800x450-1.jpg
END:VEVENT
END:VCALENDAR