BEGIN:VCALENDAR
VERSION:2.0
PRODID:-//Lincoln Park Zoo - ECPv6.15.16.1//NONSGML v1.0//EN
CALSCALE:GREGORIAN
METHOD:PUBLISH
X-WR-CALNAME:Lincoln Park Zoo
X-ORIGINAL-URL:https://go.lpzoo.org
X-WR-CALDESC:Events for Lincoln Park Zoo
REFRESH-INTERVAL;VALUE=DURATION:PT1H
X-Robots-Tag:noindex
X-PUBLISHED-TTL:PT1H
BEGIN:VTIMEZONE
TZID:America/Chicago
BEGIN:DAYLIGHT
TZOFFSETFROM:-0600
TZOFFSETTO:-0500
TZNAME:CDT
DTSTART:20250309T080000
END:DAYLIGHT
BEGIN:STANDARD
TZOFFSETFROM:-0500
TZOFFSETTO:-0600
TZNAME:CST
DTSTART:20251102T070000
END:STANDARD
BEGIN:DAYLIGHT
TZOFFSETFROM:-0600
TZOFFSETTO:-0500
TZNAME:CDT
DTSTART:20260308T080000
END:DAYLIGHT
BEGIN:STANDARD
TZOFFSETFROM:-0500
TZOFFSETTO:-0600
TZNAME:CST
DTSTART:20261101T070000
END:STANDARD
BEGIN:DAYLIGHT
TZOFFSETFROM:-0600
TZOFFSETTO:-0500
TZNAME:CDT
DTSTART:20270314T080000
END:DAYLIGHT
BEGIN:STANDARD
TZOFFSETFROM:-0500
TZOFFSETTO:-0600
TZNAME:CST
DTSTART:20271107T070000
END:STANDARD
END:VTIMEZONE
BEGIN:VEVENT
DTSTART;TZID=America/Chicago:20260716T170000
DTEND;TZID=America/Chicago:20260716T170000
DTSTAMP:20260420T002206
CREATED:20251119T223141Z
LAST-MODIFIED:20260105T155117Z
UID:10038576-1784221200-1784221200@go.lpzoo.org
SUMMARY:Gates close
DESCRIPTION:Gates close
URL:https://go.lpzoo.org/event/gates-close-3/2026-07-16/
CATEGORIES:Notice
END:VEVENT
BEGIN:VEVENT
DTSTART;TZID=America/Chicago:20260716T143000
DTEND;TZID=America/Chicago:20260716T144000
DTSTAMP:20260420T002206
CREATED:20250305T201420Z
LAST-MODIFIED:20260129T214512Z
UID:10012142-1784212200-1784212800@go.lpzoo.org
SUMMARY:Seal Training and Feeding
DESCRIPTION:
URL:https://go.lpzoo.org/event/seal-training-and-feeding/2026-07-16/
ATTACH;FMTTYPE=image/jpeg:https://go.lpzoo.org/wp-content/uploads/2025/01/grey_seal_s1_800x450.jpg
END:VEVENT
BEGIN:VEVENT
DTSTART;TZID=America/Chicago:20260716T140000
DTEND;TZID=America/Chicago:20260716T140000
DTSTAMP:20260420T002206
CREATED:20260417T010815Z
LAST-MODIFIED:20260417T010815Z
UID:10042508-1784210400-1784210400@go.lpzoo.org
SUMMARY:Feed the Cow
DESCRIPTION:
URL:https://go.lpzoo.org/event/feed-the-cow/2026-07-16/
ATTACH;FMTTYPE=image/jpeg:https://go.lpzoo.org/wp-content/uploads/2025/05/cow-800x450-1.jpg
END:VEVENT
BEGIN:VEVENT
DTSTART;TZID=America/Chicago:20260716T140000
DTEND;TZID=America/Chicago:20260716T140000
DTSTAMP:20260420T002206
CREATED:20260417T005447Z
LAST-MODIFIED:20260417T005447Z
UID:10040671-1784210400-1784210400@go.lpzoo.org
SUMMARY:Penguin Feeding
DESCRIPTION:
URL:https://go.lpzoo.org/event/penguin-feeding/2026-07-16/
ATTACH;FMTTYPE=image/jpeg:https://go.lpzoo.org/wp-content/uploads/2024/03/african_penguin_m_800x200.jpg
END:VEVENT
BEGIN:VEVENT
DTSTART;TZID=America/Chicago:20260716T130000
DTEND;TZID=America/Chicago:20260716T131000
DTSTAMP:20260420T002206
CREATED:20250305T204001Z
LAST-MODIFIED:20260129T214312Z
UID:10013985-1784206800-1784207400@go.lpzoo.org
SUMMARY:Ape Cognition & Care
DESCRIPTION:
URL:https://go.lpzoo.org/event/ape-cognition-care/2026-07-16/
ATTACH;FMTTYPE=image/png:https://go.lpzoo.org/wp-content/uploads/2025/03/Chimp-photo-800x300-1.png
END:VEVENT
BEGIN:VEVENT
DTSTART;TZID=America/Chicago:20260716T114500
DTEND;TZID=America/Chicago:20260716T120000
DTSTAMP:20260420T002206
CREATED:20251103T201241Z
LAST-MODIFIED:20260318T153805Z
UID:10032647-1784202300-1784203200@go.lpzoo.org
SUMMARY:Monkey Cognition 
DESCRIPTION:
URL:https://go.lpzoo.org/event/monkey-cognition-2/2026-07-16/
ATTACH;FMTTYPE=image/jpeg:https://go.lpzoo.org/wp-content/uploads/2025/04/Macacque-800x300-1.jpg
END:VEVENT
BEGIN:VEVENT
DTSTART;TZID=America/Chicago:20260716T113000
DTEND;TZID=America/Chicago:20260716T234000
DTSTAMP:20260420T002206
CREATED:20250125T035626Z
LAST-MODIFIED:20260126T152259Z
UID:10008408-1784201400-1784245200@go.lpzoo.org
SUMMARY:Seal Training and Feeding
DESCRIPTION:
URL:https://go.lpzoo.org/event/seal-training-and-feeding-2/2026-07-16/
ATTACH;FMTTYPE=image/jpeg:https://go.lpzoo.org/wp-content/uploads/2025/01/grey_seal_s1_800x450.jpg
END:VEVENT
BEGIN:VEVENT
DTSTART;TZID=America/Chicago:20260716T113000
DTEND;TZID=America/Chicago:20260716T233000
DTSTAMP:20260420T002206
CREATED:20260417T010559Z
LAST-MODIFIED:20260417T010928Z
UID:10042037-1784201400-1784244600@go.lpzoo.org
SUMMARY:Feed the Cows
DESCRIPTION:
URL:https://go.lpzoo.org/event/feed-the-cows/2026-07-16/
ATTACH;FMTTYPE=image/jpeg:https://go.lpzoo.org/wp-content/uploads/2025/05/cow-800x450-1.jpg
END:VEVENT
BEGIN:VEVENT
DTSTART;TZID=America/Chicago:20260716T110000
DTEND;TZID=America/Chicago:20260716T110000
DTSTAMP:20260420T002206
CREATED:20260417T010356Z
LAST-MODIFIED:20260417T010356Z
UID:10041566-1784199600-1784199600@go.lpzoo.org
SUMMARY:Feed the Chickens
DESCRIPTION:
URL:https://go.lpzoo.org/event/feed-the-chickens/2026-07-16/
END:VEVENT
BEGIN:VEVENT
DTSTART;TZID=America/Chicago:20260716T100000
DTEND;TZID=America/Chicago:20260716T223000
DTSTAMP:20260420T002206
CREATED:20250501T142454Z
LAST-MODIFIED:20250501T142454Z
UID:10006460-1784196000-1784241000@go.lpzoo.org
SUMMARY:Buildings open
DESCRIPTION:Buildings open
URL:https://go.lpzoo.org/event/gates-buildings-and-farm-in-the-zoo-open-2-2/2026-07-16/
CATEGORIES:Notice
END:VEVENT
BEGIN:VEVENT
DTSTART;TZID=America/Chicago:20260716T100000
DTEND;TZID=America/Chicago:20260716T103000
DTSTAMP:20260420T002206
CREATED:20251105T160455Z
LAST-MODIFIED:20251105T160456Z
UID:10034020-1784196000-1784197800@go.lpzoo.org
SUMMARY:Gates and Farm-in-the-Zoo Open
DESCRIPTION:Gates and Farm-in-the-Zoo Open
URL:https://go.lpzoo.org/event/gates-and-farm-in-the-zoo-open-2/2026-07-16/
CATEGORIES:Notice
END:VEVENT
BEGIN:VEVENT
DTSTART;TZID=America/Chicago:20260715T170000
DTEND;TZID=America/Chicago:20260715T170000
DTSTAMP:20260420T002206
CREATED:20251119T223141Z
LAST-MODIFIED:20260105T155117Z
UID:10038575-1784134800-1784134800@go.lpzoo.org
SUMMARY:Gates close
DESCRIPTION:Gates close
URL:https://go.lpzoo.org/event/gates-close-3/2026-07-15/
CATEGORIES:Notice
END:VEVENT
BEGIN:VEVENT
DTSTART;TZID=America/Chicago:20260715T143000
DTEND;TZID=America/Chicago:20260715T144000
DTSTAMP:20260420T002206
CREATED:20250305T201420Z
LAST-MODIFIED:20260129T214512Z
UID:10012141-1784125800-1784126400@go.lpzoo.org
SUMMARY:Seal Training and Feeding
DESCRIPTION:
URL:https://go.lpzoo.org/event/seal-training-and-feeding/2026-07-15/
ATTACH;FMTTYPE=image/jpeg:https://go.lpzoo.org/wp-content/uploads/2025/01/grey_seal_s1_800x450.jpg
END:VEVENT
BEGIN:VEVENT
DTSTART;TZID=America/Chicago:20260715T140000
DTEND;TZID=America/Chicago:20260715T140000
DTSTAMP:20260420T002206
CREATED:20260417T010815Z
LAST-MODIFIED:20260417T010815Z
UID:10042507-1784124000-1784124000@go.lpzoo.org
SUMMARY:Feed the Cow
DESCRIPTION:
URL:https://go.lpzoo.org/event/feed-the-cow/2026-07-15/
ATTACH;FMTTYPE=image/jpeg:https://go.lpzoo.org/wp-content/uploads/2025/05/cow-800x450-1.jpg
END:VEVENT
BEGIN:VEVENT
DTSTART;TZID=America/Chicago:20260715T140000
DTEND;TZID=America/Chicago:20260715T140000
DTSTAMP:20260420T002206
CREATED:20260417T005447Z
LAST-MODIFIED:20260417T005447Z
UID:10040670-1784124000-1784124000@go.lpzoo.org
SUMMARY:Penguin Feeding
DESCRIPTION:
URL:https://go.lpzoo.org/event/penguin-feeding/2026-07-15/
ATTACH;FMTTYPE=image/jpeg:https://go.lpzoo.org/wp-content/uploads/2024/03/african_penguin_m_800x200.jpg
END:VEVENT
BEGIN:VEVENT
DTSTART;TZID=America/Chicago:20260715T134500
DTEND;TZID=America/Chicago:20260715T134500
DTSTAMP:20260420T002206
CREATED:20260417T010107Z
LAST-MODIFIED:20260417T010107Z
UID:10041454-1784123100-1784123100@go.lpzoo.org
SUMMARY:Giraffe Training
DESCRIPTION:
URL:https://go.lpzoo.org/event/giraffe-training/2026-07-15/
ATTACH;FMTTYPE=image/jpeg:https://go.lpzoo.org/wp-content/uploads/2024/03/giraffe_m_800x200.jpg
END:VEVENT
BEGIN:VEVENT
DTSTART;TZID=America/Chicago:20260715T130000
DTEND;TZID=America/Chicago:20260715T131000
DTSTAMP:20260420T002206
CREATED:20250305T204001Z
LAST-MODIFIED:20260129T214312Z
UID:10013984-1784120400-1784121000@go.lpzoo.org
SUMMARY:Ape Cognition & Care
DESCRIPTION:
URL:https://go.lpzoo.org/event/ape-cognition-care/2026-07-15/
ATTACH;FMTTYPE=image/png:https://go.lpzoo.org/wp-content/uploads/2025/03/Chimp-photo-800x300-1.png
END:VEVENT
BEGIN:VEVENT
DTSTART;TZID=America/Chicago:20260715T114500
DTEND;TZID=America/Chicago:20260715T120000
DTSTAMP:20260420T002206
CREATED:20251103T201241Z
LAST-MODIFIED:20260318T153805Z
UID:10032646-1784115900-1784116800@go.lpzoo.org
SUMMARY:Monkey Cognition 
DESCRIPTION:
URL:https://go.lpzoo.org/event/monkey-cognition-2/2026-07-15/
ATTACH;FMTTYPE=image/jpeg:https://go.lpzoo.org/wp-content/uploads/2025/04/Macacque-800x300-1.jpg
END:VEVENT
BEGIN:VEVENT
DTSTART;TZID=America/Chicago:20260715T113000
DTEND;TZID=America/Chicago:20260715T234000
DTSTAMP:20260420T002206
CREATED:20250125T035626Z
LAST-MODIFIED:20260126T152259Z
UID:10008407-1784115000-1784158800@go.lpzoo.org
SUMMARY:Seal Training and Feeding
DESCRIPTION:
URL:https://go.lpzoo.org/event/seal-training-and-feeding-2/2026-07-15/
ATTACH;FMTTYPE=image/jpeg:https://go.lpzoo.org/wp-content/uploads/2025/01/grey_seal_s1_800x450.jpg
END:VEVENT
BEGIN:VEVENT
DTSTART;TZID=America/Chicago:20260715T113000
DTEND;TZID=America/Chicago:20260715T233000
DTSTAMP:20260420T002206
CREATED:20260417T010559Z
LAST-MODIFIED:20260417T010928Z
UID:10042036-1784115000-1784158200@go.lpzoo.org
SUMMARY:Feed the Cows
DESCRIPTION:
URL:https://go.lpzoo.org/event/feed-the-cows/2026-07-15/
ATTACH;FMTTYPE=image/jpeg:https://go.lpzoo.org/wp-content/uploads/2025/05/cow-800x450-1.jpg
END:VEVENT
BEGIN:VEVENT
DTSTART;TZID=America/Chicago:20260715T110000
DTEND;TZID=America/Chicago:20260715T231000
DTSTAMP:20260420T002206
CREATED:20260417T005654Z
LAST-MODIFIED:20260417T005654Z
UID:10041186-1784113200-1784157000@go.lpzoo.org
SUMMARY:Jamaican Iguana Care
DESCRIPTION:
URL:https://go.lpzoo.org/event/jamaican-iguana-care-2-2/2026-07-15/
ATTACH;FMTTYPE=image/jpeg:https://go.lpzoo.org/wp-content/uploads/2025/01/jamaican_iguana_s1_800x450.jpg
END:VEVENT
BEGIN:VEVENT
DTSTART;TZID=America/Chicago:20260715T110000
DTEND;TZID=America/Chicago:20260715T110000
DTSTAMP:20260420T002206
CREATED:20260417T010356Z
LAST-MODIFIED:20260417T010356Z
UID:10041565-1784113200-1784113200@go.lpzoo.org
SUMMARY:Feed the Chickens
DESCRIPTION:
URL:https://go.lpzoo.org/event/feed-the-chickens/2026-07-15/
END:VEVENT
BEGIN:VEVENT
DTSTART;TZID=America/Chicago:20260715T100000
DTEND;TZID=America/Chicago:20260715T223000
DTSTAMP:20260420T002206
CREATED:20250501T142454Z
LAST-MODIFIED:20250501T142454Z
UID:10006459-1784109600-1784154600@go.lpzoo.org
SUMMARY:Buildings open
DESCRIPTION:Buildings open
URL:https://go.lpzoo.org/event/gates-buildings-and-farm-in-the-zoo-open-2-2/2026-07-15/
CATEGORIES:Notice
END:VEVENT
BEGIN:VEVENT
DTSTART;TZID=America/Chicago:20260715T100000
DTEND;TZID=America/Chicago:20260715T103000
DTSTAMP:20260420T002206
CREATED:20251105T160455Z
LAST-MODIFIED:20251105T160456Z
UID:10034019-1784109600-1784111400@go.lpzoo.org
SUMMARY:Gates and Farm-in-the-Zoo Open
DESCRIPTION:Gates and Farm-in-the-Zoo Open
URL:https://go.lpzoo.org/event/gates-and-farm-in-the-zoo-open-2/2026-07-15/
CATEGORIES:Notice
END:VEVENT
BEGIN:VEVENT
DTSTART;TZID=America/Chicago:20260714T170000
DTEND;TZID=America/Chicago:20260714T170000
DTSTAMP:20260420T002206
CREATED:20251119T223141Z
LAST-MODIFIED:20260105T155117Z
UID:10038574-1784048400-1784048400@go.lpzoo.org
SUMMARY:Gates close
DESCRIPTION:Gates close
URL:https://go.lpzoo.org/event/gates-close-3/2026-07-14/
CATEGORIES:Notice
END:VEVENT
BEGIN:VEVENT
DTSTART;TZID=America/Chicago:20260714T143000
DTEND;TZID=America/Chicago:20260714T144000
DTSTAMP:20260420T002206
CREATED:20250305T201420Z
LAST-MODIFIED:20260129T214512Z
UID:10012140-1784039400-1784040000@go.lpzoo.org
SUMMARY:Seal Training and Feeding
DESCRIPTION:
URL:https://go.lpzoo.org/event/seal-training-and-feeding/2026-07-14/
ATTACH;FMTTYPE=image/jpeg:https://go.lpzoo.org/wp-content/uploads/2025/01/grey_seal_s1_800x450.jpg
END:VEVENT
BEGIN:VEVENT
DTSTART;TZID=America/Chicago:20260714T140000
DTEND;TZID=America/Chicago:20260714T140000
DTSTAMP:20260420T002206
CREATED:20260417T010815Z
LAST-MODIFIED:20260417T010815Z
UID:10042506-1784037600-1784037600@go.lpzoo.org
SUMMARY:Feed the Cow
DESCRIPTION:
URL:https://go.lpzoo.org/event/feed-the-cow/2026-07-14/
ATTACH;FMTTYPE=image/jpeg:https://go.lpzoo.org/wp-content/uploads/2025/05/cow-800x450-1.jpg
END:VEVENT
BEGIN:VEVENT
DTSTART;TZID=America/Chicago:20260714T140000
DTEND;TZID=America/Chicago:20260714T140000
DTSTAMP:20260420T002206
CREATED:20260417T005447Z
LAST-MODIFIED:20260417T005447Z
UID:10040669-1784037600-1784037600@go.lpzoo.org
SUMMARY:Penguin Feeding
DESCRIPTION:
URL:https://go.lpzoo.org/event/penguin-feeding/2026-07-14/
ATTACH;FMTTYPE=image/jpeg:https://go.lpzoo.org/wp-content/uploads/2024/03/african_penguin_m_800x200.jpg
END:VEVENT
BEGIN:VEVENT
DTSTART;TZID=America/Chicago:20260714T130000
DTEND;TZID=America/Chicago:20260714T131000
DTSTAMP:20260420T002206
CREATED:20250305T204001Z
LAST-MODIFIED:20260129T214312Z
UID:10013983-1784034000-1784034600@go.lpzoo.org
SUMMARY:Ape Cognition & Care
DESCRIPTION:
URL:https://go.lpzoo.org/event/ape-cognition-care/2026-07-14/
ATTACH;FMTTYPE=image/png:https://go.lpzoo.org/wp-content/uploads/2025/03/Chimp-photo-800x300-1.png
END:VEVENT
BEGIN:VEVENT
DTSTART;TZID=America/Chicago:20260714T114500
DTEND;TZID=America/Chicago:20260714T120000
DTSTAMP:20260420T002206
CREATED:20251103T201241Z
LAST-MODIFIED:20260318T153805Z
UID:10032645-1784029500-1784030400@go.lpzoo.org
SUMMARY:Monkey Cognition 
DESCRIPTION:
URL:https://go.lpzoo.org/event/monkey-cognition-2/2026-07-14/
ATTACH;FMTTYPE=image/jpeg:https://go.lpzoo.org/wp-content/uploads/2025/04/Macacque-800x300-1.jpg
END:VEVENT
END:VCALENDAR