BEGIN:VCALENDAR
VERSION:2.0
PRODID:-//Lincoln Park Zoo - ECPv6.15.16.1//NONSGML v1.0//EN
CALSCALE:GREGORIAN
METHOD:PUBLISH
X-WR-CALNAME:Lincoln Park Zoo
X-ORIGINAL-URL:https://go.lpzoo.org
X-WR-CALDESC:Events for Lincoln Park Zoo
REFRESH-INTERVAL;VALUE=DURATION:PT1H
X-Robots-Tag:noindex
X-PUBLISHED-TTL:PT1H
BEGIN:VTIMEZONE
TZID:America/Chicago
BEGIN:DAYLIGHT
TZOFFSETFROM:-0600
TZOFFSETTO:-0500
TZNAME:CDT
DTSTART:20250309T080000
END:DAYLIGHT
BEGIN:STANDARD
TZOFFSETFROM:-0500
TZOFFSETTO:-0600
TZNAME:CST
DTSTART:20251102T070000
END:STANDARD
BEGIN:DAYLIGHT
TZOFFSETFROM:-0600
TZOFFSETTO:-0500
TZNAME:CDT
DTSTART:20260308T080000
END:DAYLIGHT
BEGIN:STANDARD
TZOFFSETFROM:-0500
TZOFFSETTO:-0600
TZNAME:CST
DTSTART:20261101T070000
END:STANDARD
BEGIN:DAYLIGHT
TZOFFSETFROM:-0600
TZOFFSETTO:-0500
TZNAME:CDT
DTSTART:20270314T080000
END:DAYLIGHT
BEGIN:STANDARD
TZOFFSETFROM:-0500
TZOFFSETTO:-0600
TZNAME:CST
DTSTART:20271107T070000
END:STANDARD
END:VTIMEZONE
BEGIN:VEVENT
DTSTART;TZID=America/Chicago:20260711T100000
DTEND;TZID=America/Chicago:20260711T103000
DTSTAMP:20260424T180058
CREATED:20251105T160455Z
LAST-MODIFIED:20251105T160456Z
UID:10034015-1783764000-1783765800@go.lpzoo.org
SUMMARY:Gates and Farm-in-the-Zoo Open
DESCRIPTION:Gates and Farm-in-the-Zoo Open
URL:https://go.lpzoo.org/event/gates-and-farm-in-the-zoo-open-2/2026-07-11/
CATEGORIES:Notice
END:VEVENT
BEGIN:VEVENT
DTSTART;TZID=America/Chicago:20260711T100000
DTEND;TZID=America/Chicago:20260711T223000
DTSTAMP:20260424T180058
CREATED:20250501T142454Z
LAST-MODIFIED:20250501T142454Z
UID:10006455-1783764000-1783809000@go.lpzoo.org
SUMMARY:Buildings open
DESCRIPTION:Buildings open
URL:https://go.lpzoo.org/event/gates-buildings-and-farm-in-the-zoo-open-2-2/2026-07-11/
CATEGORIES:Notice
END:VEVENT
BEGIN:VEVENT
DTSTART;TZID=America/Chicago:20260711T170000
DTEND;TZID=America/Chicago:20260711T170000
DTSTAMP:20260424T180058
CREATED:20251119T223141Z
LAST-MODIFIED:20260105T155117Z
UID:10038571-1783789200-1783789200@go.lpzoo.org
SUMMARY:Gates close
DESCRIPTION:Gates close
URL:https://go.lpzoo.org/event/gates-close-3/2026-07-11/
CATEGORIES:Notice
END:VEVENT
BEGIN:VEVENT
DTSTART;TZID=America/Chicago:20260712T100000
DTEND;TZID=America/Chicago:20260712T103000
DTSTAMP:20260424T180058
CREATED:20251105T160455Z
LAST-MODIFIED:20251105T160456Z
UID:10034016-1783850400-1783852200@go.lpzoo.org
SUMMARY:Gates and Farm-in-the-Zoo Open
DESCRIPTION:Gates and Farm-in-the-Zoo Open
URL:https://go.lpzoo.org/event/gates-and-farm-in-the-zoo-open-2/2026-07-12/
CATEGORIES:Notice
END:VEVENT
BEGIN:VEVENT
DTSTART;TZID=America/Chicago:20260712T100000
DTEND;TZID=America/Chicago:20260712T223000
DTSTAMP:20260424T180058
CREATED:20250501T142454Z
LAST-MODIFIED:20250501T142454Z
UID:10006456-1783850400-1783895400@go.lpzoo.org
SUMMARY:Buildings open
DESCRIPTION:Buildings open
URL:https://go.lpzoo.org/event/gates-buildings-and-farm-in-the-zoo-open-2-2/2026-07-12/
CATEGORIES:Notice
END:VEVENT
BEGIN:VEVENT
DTSTART;TZID=America/Chicago:20260712T170000
DTEND;TZID=America/Chicago:20260712T170000
DTSTAMP:20260424T180058
CREATED:20251119T223141Z
LAST-MODIFIED:20260105T155117Z
UID:10038572-1783875600-1783875600@go.lpzoo.org
SUMMARY:Gates close
DESCRIPTION:Gates close
URL:https://go.lpzoo.org/event/gates-close-3/2026-07-12/
CATEGORIES:Notice
END:VEVENT
BEGIN:VEVENT
DTSTART;TZID=America/Chicago:20260713T100000
DTEND;TZID=America/Chicago:20260713T103000
DTSTAMP:20260424T180058
CREATED:20251105T160455Z
LAST-MODIFIED:20251105T160456Z
UID:10034017-1783936800-1783938600@go.lpzoo.org
SUMMARY:Gates and Farm-in-the-Zoo Open
DESCRIPTION:Gates and Farm-in-the-Zoo Open
URL:https://go.lpzoo.org/event/gates-and-farm-in-the-zoo-open-2/2026-07-13/
CATEGORIES:Notice
END:VEVENT
BEGIN:VEVENT
DTSTART;TZID=America/Chicago:20260713T100000
DTEND;TZID=America/Chicago:20260713T223000
DTSTAMP:20260424T180058
CREATED:20250501T142454Z
LAST-MODIFIED:20250501T142454Z
UID:10006457-1783936800-1783981800@go.lpzoo.org
SUMMARY:Buildings open
DESCRIPTION:Buildings open
URL:https://go.lpzoo.org/event/gates-buildings-and-farm-in-the-zoo-open-2-2/2026-07-13/
CATEGORIES:Notice
END:VEVENT
BEGIN:VEVENT
DTSTART;TZID=America/Chicago:20260713T170000
DTEND;TZID=America/Chicago:20260713T170000
DTSTAMP:20260424T180058
CREATED:20251119T223141Z
LAST-MODIFIED:20260105T155117Z
UID:10038573-1783962000-1783962000@go.lpzoo.org
SUMMARY:Gates close
DESCRIPTION:Gates close
URL:https://go.lpzoo.org/event/gates-close-3/2026-07-13/
CATEGORIES:Notice
END:VEVENT
BEGIN:VEVENT
DTSTART;TZID=America/Chicago:20260714T100000
DTEND;TZID=America/Chicago:20260714T103000
DTSTAMP:20260424T180058
CREATED:20251105T160455Z
LAST-MODIFIED:20251105T160456Z
UID:10034018-1784023200-1784025000@go.lpzoo.org
SUMMARY:Gates and Farm-in-the-Zoo Open
DESCRIPTION:Gates and Farm-in-the-Zoo Open
URL:https://go.lpzoo.org/event/gates-and-farm-in-the-zoo-open-2/2026-07-14/
CATEGORIES:Notice
END:VEVENT
BEGIN:VEVENT
DTSTART;TZID=America/Chicago:20260714T100000
DTEND;TZID=America/Chicago:20260714T223000
DTSTAMP:20260424T180058
CREATED:20250501T142454Z
LAST-MODIFIED:20250501T142454Z
UID:10006458-1784023200-1784068200@go.lpzoo.org
SUMMARY:Buildings open
DESCRIPTION:Buildings open
URL:https://go.lpzoo.org/event/gates-buildings-and-farm-in-the-zoo-open-2-2/2026-07-14/
CATEGORIES:Notice
END:VEVENT
BEGIN:VEVENT
DTSTART;TZID=America/Chicago:20260714T170000
DTEND;TZID=America/Chicago:20260714T170000
DTSTAMP:20260424T180058
CREATED:20251119T223141Z
LAST-MODIFIED:20260105T155117Z
UID:10038574-1784048400-1784048400@go.lpzoo.org
SUMMARY:Gates close
DESCRIPTION:Gates close
URL:https://go.lpzoo.org/event/gates-close-3/2026-07-14/
CATEGORIES:Notice
END:VEVENT
BEGIN:VEVENT
DTSTART;TZID=America/Chicago:20260715T100000
DTEND;TZID=America/Chicago:20260715T103000
DTSTAMP:20260424T180058
CREATED:20251105T160455Z
LAST-MODIFIED:20251105T160456Z
UID:10034019-1784109600-1784111400@go.lpzoo.org
SUMMARY:Gates and Farm-in-the-Zoo Open
DESCRIPTION:Gates and Farm-in-the-Zoo Open
URL:https://go.lpzoo.org/event/gates-and-farm-in-the-zoo-open-2/2026-07-15/
CATEGORIES:Notice
END:VEVENT
BEGIN:VEVENT
DTSTART;TZID=America/Chicago:20260715T100000
DTEND;TZID=America/Chicago:20260715T223000
DTSTAMP:20260424T180058
CREATED:20250501T142454Z
LAST-MODIFIED:20250501T142454Z
UID:10006459-1784109600-1784154600@go.lpzoo.org
SUMMARY:Buildings open
DESCRIPTION:Buildings open
URL:https://go.lpzoo.org/event/gates-buildings-and-farm-in-the-zoo-open-2-2/2026-07-15/
CATEGORIES:Notice
END:VEVENT
BEGIN:VEVENT
DTSTART;TZID=America/Chicago:20260715T170000
DTEND;TZID=America/Chicago:20260715T170000
DTSTAMP:20260424T180058
CREATED:20251119T223141Z
LAST-MODIFIED:20260105T155117Z
UID:10038575-1784134800-1784134800@go.lpzoo.org
SUMMARY:Gates close
DESCRIPTION:Gates close
URL:https://go.lpzoo.org/event/gates-close-3/2026-07-15/
CATEGORIES:Notice
END:VEVENT
BEGIN:VEVENT
DTSTART;TZID=America/Chicago:20260716T100000
DTEND;TZID=America/Chicago:20260716T103000
DTSTAMP:20260424T180058
CREATED:20251105T160455Z
LAST-MODIFIED:20251105T160456Z
UID:10034020-1784196000-1784197800@go.lpzoo.org
SUMMARY:Gates and Farm-in-the-Zoo Open
DESCRIPTION:Gates and Farm-in-the-Zoo Open
URL:https://go.lpzoo.org/event/gates-and-farm-in-the-zoo-open-2/2026-07-16/
CATEGORIES:Notice
END:VEVENT
BEGIN:VEVENT
DTSTART;TZID=America/Chicago:20260716T100000
DTEND;TZID=America/Chicago:20260716T223000
DTSTAMP:20260424T180058
CREATED:20250501T142454Z
LAST-MODIFIED:20250501T142454Z
UID:10006460-1784196000-1784241000@go.lpzoo.org
SUMMARY:Buildings open
DESCRIPTION:Buildings open
URL:https://go.lpzoo.org/event/gates-buildings-and-farm-in-the-zoo-open-2-2/2026-07-16/
CATEGORIES:Notice
END:VEVENT
BEGIN:VEVENT
DTSTART;TZID=America/Chicago:20260716T170000
DTEND;TZID=America/Chicago:20260716T170000
DTSTAMP:20260424T180058
CREATED:20251119T223141Z
LAST-MODIFIED:20260105T155117Z
UID:10038576-1784221200-1784221200@go.lpzoo.org
SUMMARY:Gates close
DESCRIPTION:Gates close
URL:https://go.lpzoo.org/event/gates-close-3/2026-07-16/
CATEGORIES:Notice
END:VEVENT
BEGIN:VEVENT
DTSTART;TZID=America/Chicago:20260717T100000
DTEND;TZID=America/Chicago:20260717T103000
DTSTAMP:20260424T180058
CREATED:20251105T160455Z
LAST-MODIFIED:20251105T160456Z
UID:10034021-1784282400-1784284200@go.lpzoo.org
SUMMARY:Gates and Farm-in-the-Zoo Open
DESCRIPTION:Gates and Farm-in-the-Zoo Open
URL:https://go.lpzoo.org/event/gates-and-farm-in-the-zoo-open-2/2026-07-17/
CATEGORIES:Notice
END:VEVENT
BEGIN:VEVENT
DTSTART;TZID=America/Chicago:20260717T100000
DTEND;TZID=America/Chicago:20260717T223000
DTSTAMP:20260424T180058
CREATED:20250501T142454Z
LAST-MODIFIED:20250501T142454Z
UID:10006461-1784282400-1784327400@go.lpzoo.org
SUMMARY:Buildings open
DESCRIPTION:Buildings open
URL:https://go.lpzoo.org/event/gates-buildings-and-farm-in-the-zoo-open-2-2/2026-07-17/
CATEGORIES:Notice
END:VEVENT
BEGIN:VEVENT
DTSTART;TZID=America/Chicago:20260717T170000
DTEND;TZID=America/Chicago:20260717T170000
DTSTAMP:20260424T180058
CREATED:20251119T223141Z
LAST-MODIFIED:20260105T155117Z
UID:10038577-1784307600-1784307600@go.lpzoo.org
SUMMARY:Gates close
DESCRIPTION:Gates close
URL:https://go.lpzoo.org/event/gates-close-3/2026-07-17/
CATEGORIES:Notice
END:VEVENT
BEGIN:VEVENT
DTSTART;TZID=America/Chicago:20260718T100000
DTEND;TZID=America/Chicago:20260718T103000
DTSTAMP:20260424T180058
CREATED:20251105T160455Z
LAST-MODIFIED:20251105T160456Z
UID:10034022-1784368800-1784370600@go.lpzoo.org
SUMMARY:Gates and Farm-in-the-Zoo Open
DESCRIPTION:Gates and Farm-in-the-Zoo Open
URL:https://go.lpzoo.org/event/gates-and-farm-in-the-zoo-open-2/2026-07-18/
CATEGORIES:Notice
END:VEVENT
BEGIN:VEVENT
DTSTART;TZID=America/Chicago:20260718T100000
DTEND;TZID=America/Chicago:20260718T223000
DTSTAMP:20260424T180058
CREATED:20250501T142454Z
LAST-MODIFIED:20250501T142454Z
UID:10006462-1784368800-1784413800@go.lpzoo.org
SUMMARY:Buildings open
DESCRIPTION:Buildings open
URL:https://go.lpzoo.org/event/gates-buildings-and-farm-in-the-zoo-open-2-2/2026-07-18/
CATEGORIES:Notice
END:VEVENT
BEGIN:VEVENT
DTSTART;TZID=America/Chicago:20260718T170000
DTEND;TZID=America/Chicago:20260718T170000
DTSTAMP:20260424T180058
CREATED:20251119T223141Z
LAST-MODIFIED:20260105T155117Z
UID:10038578-1784394000-1784394000@go.lpzoo.org
SUMMARY:Gates close
DESCRIPTION:Gates close
URL:https://go.lpzoo.org/event/gates-close-3/2026-07-18/
CATEGORIES:Notice
END:VEVENT
BEGIN:VEVENT
DTSTART;TZID=America/Chicago:20260719T100000
DTEND;TZID=America/Chicago:20260719T103000
DTSTAMP:20260424T180058
CREATED:20251105T160455Z
LAST-MODIFIED:20251105T160456Z
UID:10034023-1784455200-1784457000@go.lpzoo.org
SUMMARY:Gates and Farm-in-the-Zoo Open
DESCRIPTION:Gates and Farm-in-the-Zoo Open
URL:https://go.lpzoo.org/event/gates-and-farm-in-the-zoo-open-2/2026-07-19/
CATEGORIES:Notice
END:VEVENT
BEGIN:VEVENT
DTSTART;TZID=America/Chicago:20260719T100000
DTEND;TZID=America/Chicago:20260719T223000
DTSTAMP:20260424T180058
CREATED:20250501T142454Z
LAST-MODIFIED:20250501T142454Z
UID:10006463-1784455200-1784500200@go.lpzoo.org
SUMMARY:Buildings open
DESCRIPTION:Buildings open
URL:https://go.lpzoo.org/event/gates-buildings-and-farm-in-the-zoo-open-2-2/2026-07-19/
CATEGORIES:Notice
END:VEVENT
BEGIN:VEVENT
DTSTART;TZID=America/Chicago:20260719T170000
DTEND;TZID=America/Chicago:20260719T170000
DTSTAMP:20260424T180058
CREATED:20251119T223141Z
LAST-MODIFIED:20260105T155117Z
UID:10038579-1784480400-1784480400@go.lpzoo.org
SUMMARY:Gates close
DESCRIPTION:Gates close
URL:https://go.lpzoo.org/event/gates-close-3/2026-07-19/
CATEGORIES:Notice
END:VEVENT
BEGIN:VEVENT
DTSTART;TZID=America/Chicago:20260720T100000
DTEND;TZID=America/Chicago:20260720T103000
DTSTAMP:20260424T180058
CREATED:20251105T160455Z
LAST-MODIFIED:20251105T160456Z
UID:10034024-1784541600-1784543400@go.lpzoo.org
SUMMARY:Gates and Farm-in-the-Zoo Open
DESCRIPTION:Gates and Farm-in-the-Zoo Open
URL:https://go.lpzoo.org/event/gates-and-farm-in-the-zoo-open-2/2026-07-20/
CATEGORIES:Notice
END:VEVENT
BEGIN:VEVENT
DTSTART;TZID=America/Chicago:20260720T100000
DTEND;TZID=America/Chicago:20260720T223000
DTSTAMP:20260424T180058
CREATED:20250501T142454Z
LAST-MODIFIED:20250501T142454Z
UID:10006464-1784541600-1784586600@go.lpzoo.org
SUMMARY:Buildings open
DESCRIPTION:Buildings open
URL:https://go.lpzoo.org/event/gates-buildings-and-farm-in-the-zoo-open-2-2/2026-07-20/
CATEGORIES:Notice
END:VEVENT
BEGIN:VEVENT
DTSTART;TZID=America/Chicago:20260720T170000
DTEND;TZID=America/Chicago:20260720T170000
DTSTAMP:20260424T180058
CREATED:20251119T223141Z
LAST-MODIFIED:20260105T155117Z
UID:10038580-1784566800-1784566800@go.lpzoo.org
SUMMARY:Gates close
DESCRIPTION:Gates close
URL:https://go.lpzoo.org/event/gates-close-3/2026-07-20/
CATEGORIES:Notice
END:VEVENT
END:VCALENDAR