BEGIN:VCALENDAR
VERSION:2.0
PRODID:-//Lincoln Park Zoo - ECPv6.15.16.1//NONSGML v1.0//EN
CALSCALE:GREGORIAN
METHOD:PUBLISH
X-ORIGINAL-URL:https://go.lpzoo.org
X-WR-CALDESC:Events for Lincoln Park Zoo
REFRESH-INTERVAL;VALUE=DURATION:PT1H
X-Robots-Tag:noindex
X-PUBLISHED-TTL:PT1H
BEGIN:VTIMEZONE
TZID:America/Chicago
BEGIN:DAYLIGHT
TZOFFSETFROM:-0600
TZOFFSETTO:-0500
TZNAME:CDT
DTSTART:20250309T080000
END:DAYLIGHT
BEGIN:STANDARD
TZOFFSETFROM:-0500
TZOFFSETTO:-0600
TZNAME:CST
DTSTART:20251102T070000
END:STANDARD
BEGIN:DAYLIGHT
TZOFFSETFROM:-0600
TZOFFSETTO:-0500
TZNAME:CDT
DTSTART:20260308T080000
END:DAYLIGHT
BEGIN:STANDARD
TZOFFSETFROM:-0500
TZOFFSETTO:-0600
TZNAME:CST
DTSTART:20261101T070000
END:STANDARD
BEGIN:DAYLIGHT
TZOFFSETFROM:-0600
TZOFFSETTO:-0500
TZNAME:CDT
DTSTART:20270314T080000
END:DAYLIGHT
BEGIN:STANDARD
TZOFFSETFROM:-0500
TZOFFSETTO:-0600
TZNAME:CST
DTSTART:20271107T070000
END:STANDARD
END:VTIMEZONE
BEGIN:VEVENT
DTSTART;TZID=America/Chicago:20260705T100000
DTEND;TZID=America/Chicago:20260705T103000
DTSTAMP:20260424T071921
CREATED:20251105T160455Z
LAST-MODIFIED:20251105T160456Z
UID:10034009-1783245600-1783247400@go.lpzoo.org
SUMMARY:Gates and Farm-in-the-Zoo Open
DESCRIPTION:Gates and Farm-in-the-Zoo Open
URL:https://go.lpzoo.org/event/gates-and-farm-in-the-zoo-open-2/2026-07-05/
CATEGORIES:Notice
END:VEVENT
BEGIN:VEVENT
DTSTART;TZID=America/Chicago:20260705T100000
DTEND;TZID=America/Chicago:20260705T223000
DTSTAMP:20260424T071921
CREATED:20250501T142454Z
LAST-MODIFIED:20250501T142454Z
UID:10006449-1783245600-1783290600@go.lpzoo.org
SUMMARY:Buildings open
DESCRIPTION:Buildings open
URL:https://go.lpzoo.org/event/gates-buildings-and-farm-in-the-zoo-open-2-2/2026-07-05/
CATEGORIES:Notice
END:VEVENT
BEGIN:VEVENT
DTSTART;TZID=America/Chicago:20260705T170000
DTEND;TZID=America/Chicago:20260705T170000
DTSTAMP:20260424T071921
CREATED:20251119T223141Z
LAST-MODIFIED:20260105T155117Z
UID:10038565-1783270800-1783270800@go.lpzoo.org
SUMMARY:Gates close
DESCRIPTION:Gates close
URL:https://go.lpzoo.org/event/gates-close-3/2026-07-05/
CATEGORIES:Notice
END:VEVENT
BEGIN:VEVENT
DTSTART;TZID=America/Chicago:20260706T100000
DTEND;TZID=America/Chicago:20260706T103000
DTSTAMP:20260424T071922
CREATED:20251105T160455Z
LAST-MODIFIED:20251105T160456Z
UID:10034010-1783332000-1783333800@go.lpzoo.org
SUMMARY:Gates and Farm-in-the-Zoo Open
DESCRIPTION:Gates and Farm-in-the-Zoo Open
URL:https://go.lpzoo.org/event/gates-and-farm-in-the-zoo-open-2/2026-07-06/
CATEGORIES:Notice
END:VEVENT
BEGIN:VEVENT
DTSTART;TZID=America/Chicago:20260706T100000
DTEND;TZID=America/Chicago:20260706T223000
DTSTAMP:20260424T071922
CREATED:20250501T142454Z
LAST-MODIFIED:20250501T142454Z
UID:10006450-1783332000-1783377000@go.lpzoo.org
SUMMARY:Buildings open
DESCRIPTION:Buildings open
URL:https://go.lpzoo.org/event/gates-buildings-and-farm-in-the-zoo-open-2-2/2026-07-06/
CATEGORIES:Notice
END:VEVENT
BEGIN:VEVENT
DTSTART;TZID=America/Chicago:20260706T170000
DTEND;TZID=America/Chicago:20260706T170000
DTSTAMP:20260424T071922
CREATED:20251119T223141Z
LAST-MODIFIED:20260105T155117Z
UID:10038566-1783357200-1783357200@go.lpzoo.org
SUMMARY:Gates close
DESCRIPTION:Gates close
URL:https://go.lpzoo.org/event/gates-close-3/2026-07-06/
CATEGORIES:Notice
END:VEVENT
BEGIN:VEVENT
DTSTART;TZID=America/Chicago:20260707T100000
DTEND;TZID=America/Chicago:20260707T103000
DTSTAMP:20260424T071922
CREATED:20251105T160455Z
LAST-MODIFIED:20251105T160456Z
UID:10034011-1783418400-1783420200@go.lpzoo.org
SUMMARY:Gates and Farm-in-the-Zoo Open
DESCRIPTION:Gates and Farm-in-the-Zoo Open
URL:https://go.lpzoo.org/event/gates-and-farm-in-the-zoo-open-2/2026-07-07/
CATEGORIES:Notice
END:VEVENT
BEGIN:VEVENT
DTSTART;TZID=America/Chicago:20260707T100000
DTEND;TZID=America/Chicago:20260707T223000
DTSTAMP:20260424T071922
CREATED:20250501T142454Z
LAST-MODIFIED:20250501T142454Z
UID:10006451-1783418400-1783463400@go.lpzoo.org
SUMMARY:Buildings open
DESCRIPTION:Buildings open
URL:https://go.lpzoo.org/event/gates-buildings-and-farm-in-the-zoo-open-2-2/2026-07-07/
CATEGORIES:Notice
END:VEVENT
BEGIN:VEVENT
DTSTART;TZID=America/Chicago:20260707T170000
DTEND;TZID=America/Chicago:20260707T170000
DTSTAMP:20260424T071922
CREATED:20251119T223141Z
LAST-MODIFIED:20260105T155117Z
UID:10038567-1783443600-1783443600@go.lpzoo.org
SUMMARY:Gates close
DESCRIPTION:Gates close
URL:https://go.lpzoo.org/event/gates-close-3/2026-07-07/
CATEGORIES:Notice
END:VEVENT
BEGIN:VEVENT
DTSTART;TZID=America/Chicago:20260708T100000
DTEND;TZID=America/Chicago:20260708T103000
DTSTAMP:20260424T071922
CREATED:20251105T160455Z
LAST-MODIFIED:20251105T160456Z
UID:10034012-1783504800-1783506600@go.lpzoo.org
SUMMARY:Gates and Farm-in-the-Zoo Open
DESCRIPTION:Gates and Farm-in-the-Zoo Open
URL:https://go.lpzoo.org/event/gates-and-farm-in-the-zoo-open-2/2026-07-08/
CATEGORIES:Notice
END:VEVENT
BEGIN:VEVENT
DTSTART;TZID=America/Chicago:20260708T100000
DTEND;TZID=America/Chicago:20260708T223000
DTSTAMP:20260424T071922
CREATED:20250501T142454Z
LAST-MODIFIED:20250501T142454Z
UID:10006452-1783504800-1783549800@go.lpzoo.org
SUMMARY:Buildings open
DESCRIPTION:Buildings open
URL:https://go.lpzoo.org/event/gates-buildings-and-farm-in-the-zoo-open-2-2/2026-07-08/
CATEGORIES:Notice
END:VEVENT
BEGIN:VEVENT
DTSTART;TZID=America/Chicago:20260708T170000
DTEND;TZID=America/Chicago:20260708T170000
DTSTAMP:20260424T071922
CREATED:20251119T223141Z
LAST-MODIFIED:20260105T155117Z
UID:10038568-1783530000-1783530000@go.lpzoo.org
SUMMARY:Gates close
DESCRIPTION:Gates close
URL:https://go.lpzoo.org/event/gates-close-3/2026-07-08/
CATEGORIES:Notice
END:VEVENT
BEGIN:VEVENT
DTSTART;TZID=America/Chicago:20260709T100000
DTEND;TZID=America/Chicago:20260709T103000
DTSTAMP:20260424T071922
CREATED:20251105T160455Z
LAST-MODIFIED:20251105T160456Z
UID:10034013-1783591200-1783593000@go.lpzoo.org
SUMMARY:Gates and Farm-in-the-Zoo Open
DESCRIPTION:Gates and Farm-in-the-Zoo Open
URL:https://go.lpzoo.org/event/gates-and-farm-in-the-zoo-open-2/2026-07-09/
CATEGORIES:Notice
END:VEVENT
BEGIN:VEVENT
DTSTART;TZID=America/Chicago:20260709T100000
DTEND;TZID=America/Chicago:20260709T223000
DTSTAMP:20260424T071922
CREATED:20250501T142454Z
LAST-MODIFIED:20250501T142454Z
UID:10006453-1783591200-1783636200@go.lpzoo.org
SUMMARY:Buildings open
DESCRIPTION:Buildings open
URL:https://go.lpzoo.org/event/gates-buildings-and-farm-in-the-zoo-open-2-2/2026-07-09/
CATEGORIES:Notice
END:VEVENT
BEGIN:VEVENT
DTSTART;TZID=America/Chicago:20260709T170000
DTEND;TZID=America/Chicago:20260709T170000
DTSTAMP:20260424T071922
CREATED:20251119T223141Z
LAST-MODIFIED:20260105T155117Z
UID:10038569-1783616400-1783616400@go.lpzoo.org
SUMMARY:Gates close
DESCRIPTION:Gates close
URL:https://go.lpzoo.org/event/gates-close-3/2026-07-09/
CATEGORIES:Notice
END:VEVENT
BEGIN:VEVENT
DTSTART;TZID=America/Chicago:20260710T100000
DTEND;TZID=America/Chicago:20260710T103000
DTSTAMP:20260424T071922
CREATED:20251105T160455Z
LAST-MODIFIED:20251105T160456Z
UID:10034014-1783677600-1783679400@go.lpzoo.org
SUMMARY:Gates and Farm-in-the-Zoo Open
DESCRIPTION:Gates and Farm-in-the-Zoo Open
URL:https://go.lpzoo.org/event/gates-and-farm-in-the-zoo-open-2/2026-07-10/
CATEGORIES:Notice
END:VEVENT
BEGIN:VEVENT
DTSTART;TZID=America/Chicago:20260710T100000
DTEND;TZID=America/Chicago:20260710T223000
DTSTAMP:20260424T071922
CREATED:20250501T142454Z
LAST-MODIFIED:20250501T142454Z
UID:10006454-1783677600-1783722600@go.lpzoo.org
SUMMARY:Buildings open
DESCRIPTION:Buildings open
URL:https://go.lpzoo.org/event/gates-buildings-and-farm-in-the-zoo-open-2-2/2026-07-10/
CATEGORIES:Notice
END:VEVENT
BEGIN:VEVENT
DTSTART;TZID=America/Chicago:20260710T170000
DTEND;TZID=America/Chicago:20260710T170000
DTSTAMP:20260424T071922
CREATED:20251119T223141Z
LAST-MODIFIED:20260105T155117Z
UID:10038570-1783702800-1783702800@go.lpzoo.org
SUMMARY:Gates close
DESCRIPTION:Gates close
URL:https://go.lpzoo.org/event/gates-close-3/2026-07-10/
CATEGORIES:Notice
END:VEVENT
BEGIN:VEVENT
DTSTART;TZID=America/Chicago:20260711T100000
DTEND;TZID=America/Chicago:20260711T103000
DTSTAMP:20260424T071922
CREATED:20251105T160455Z
LAST-MODIFIED:20251105T160456Z
UID:10034015-1783764000-1783765800@go.lpzoo.org
SUMMARY:Gates and Farm-in-the-Zoo Open
DESCRIPTION:Gates and Farm-in-the-Zoo Open
URL:https://go.lpzoo.org/event/gates-and-farm-in-the-zoo-open-2/2026-07-11/
CATEGORIES:Notice
END:VEVENT
BEGIN:VEVENT
DTSTART;TZID=America/Chicago:20260711T100000
DTEND;TZID=America/Chicago:20260711T223000
DTSTAMP:20260424T071922
CREATED:20250501T142454Z
LAST-MODIFIED:20250501T142454Z
UID:10006455-1783764000-1783809000@go.lpzoo.org
SUMMARY:Buildings open
DESCRIPTION:Buildings open
URL:https://go.lpzoo.org/event/gates-buildings-and-farm-in-the-zoo-open-2-2/2026-07-11/
CATEGORIES:Notice
END:VEVENT
BEGIN:VEVENT
DTSTART;TZID=America/Chicago:20260711T170000
DTEND;TZID=America/Chicago:20260711T170000
DTSTAMP:20260424T071922
CREATED:20251119T223141Z
LAST-MODIFIED:20260105T155117Z
UID:10038571-1783789200-1783789200@go.lpzoo.org
SUMMARY:Gates close
DESCRIPTION:Gates close
URL:https://go.lpzoo.org/event/gates-close-3/2026-07-11/
CATEGORIES:Notice
END:VEVENT
BEGIN:VEVENT
DTSTART;TZID=America/Chicago:20260712T100000
DTEND;TZID=America/Chicago:20260712T103000
DTSTAMP:20260424T071922
CREATED:20251105T160455Z
LAST-MODIFIED:20251105T160456Z
UID:10034016-1783850400-1783852200@go.lpzoo.org
SUMMARY:Gates and Farm-in-the-Zoo Open
DESCRIPTION:Gates and Farm-in-the-Zoo Open
URL:https://go.lpzoo.org/event/gates-and-farm-in-the-zoo-open-2/2026-07-12/
CATEGORIES:Notice
END:VEVENT
BEGIN:VEVENT
DTSTART;TZID=America/Chicago:20260712T100000
DTEND;TZID=America/Chicago:20260712T223000
DTSTAMP:20260424T071922
CREATED:20250501T142454Z
LAST-MODIFIED:20250501T142454Z
UID:10006456-1783850400-1783895400@go.lpzoo.org
SUMMARY:Buildings open
DESCRIPTION:Buildings open
URL:https://go.lpzoo.org/event/gates-buildings-and-farm-in-the-zoo-open-2-2/2026-07-12/
CATEGORIES:Notice
END:VEVENT
BEGIN:VEVENT
DTSTART;TZID=America/Chicago:20260712T170000
DTEND;TZID=America/Chicago:20260712T170000
DTSTAMP:20260424T071922
CREATED:20251119T223141Z
LAST-MODIFIED:20260105T155117Z
UID:10038572-1783875600-1783875600@go.lpzoo.org
SUMMARY:Gates close
DESCRIPTION:Gates close
URL:https://go.lpzoo.org/event/gates-close-3/2026-07-12/
CATEGORIES:Notice
END:VEVENT
BEGIN:VEVENT
DTSTART;TZID=America/Chicago:20260713T100000
DTEND;TZID=America/Chicago:20260713T103000
DTSTAMP:20260424T071922
CREATED:20251105T160455Z
LAST-MODIFIED:20251105T160456Z
UID:10034017-1783936800-1783938600@go.lpzoo.org
SUMMARY:Gates and Farm-in-the-Zoo Open
DESCRIPTION:Gates and Farm-in-the-Zoo Open
URL:https://go.lpzoo.org/event/gates-and-farm-in-the-zoo-open-2/2026-07-13/
CATEGORIES:Notice
END:VEVENT
BEGIN:VEVENT
DTSTART;TZID=America/Chicago:20260713T100000
DTEND;TZID=America/Chicago:20260713T223000
DTSTAMP:20260424T071922
CREATED:20250501T142454Z
LAST-MODIFIED:20250501T142454Z
UID:10006457-1783936800-1783981800@go.lpzoo.org
SUMMARY:Buildings open
DESCRIPTION:Buildings open
URL:https://go.lpzoo.org/event/gates-buildings-and-farm-in-the-zoo-open-2-2/2026-07-13/
CATEGORIES:Notice
END:VEVENT
BEGIN:VEVENT
DTSTART;TZID=America/Chicago:20260713T170000
DTEND;TZID=America/Chicago:20260713T170000
DTSTAMP:20260424T071922
CREATED:20251119T223141Z
LAST-MODIFIED:20260105T155117Z
UID:10038573-1783962000-1783962000@go.lpzoo.org
SUMMARY:Gates close
DESCRIPTION:Gates close
URL:https://go.lpzoo.org/event/gates-close-3/2026-07-13/
CATEGORIES:Notice
END:VEVENT
BEGIN:VEVENT
DTSTART;TZID=America/Chicago:20260714T100000
DTEND;TZID=America/Chicago:20260714T103000
DTSTAMP:20260424T071922
CREATED:20251105T160455Z
LAST-MODIFIED:20251105T160456Z
UID:10034018-1784023200-1784025000@go.lpzoo.org
SUMMARY:Gates and Farm-in-the-Zoo Open
DESCRIPTION:Gates and Farm-in-the-Zoo Open
URL:https://go.lpzoo.org/event/gates-and-farm-in-the-zoo-open-2/2026-07-14/
CATEGORIES:Notice
END:VEVENT
BEGIN:VEVENT
DTSTART;TZID=America/Chicago:20260714T100000
DTEND;TZID=America/Chicago:20260714T223000
DTSTAMP:20260424T071922
CREATED:20250501T142454Z
LAST-MODIFIED:20250501T142454Z
UID:10006458-1784023200-1784068200@go.lpzoo.org
SUMMARY:Buildings open
DESCRIPTION:Buildings open
URL:https://go.lpzoo.org/event/gates-buildings-and-farm-in-the-zoo-open-2-2/2026-07-14/
CATEGORIES:Notice
END:VEVENT
BEGIN:VEVENT
DTSTART;TZID=America/Chicago:20260714T170000
DTEND;TZID=America/Chicago:20260714T170000
DTSTAMP:20260424T071922
CREATED:20251119T223141Z
LAST-MODIFIED:20260105T155117Z
UID:10038574-1784048400-1784048400@go.lpzoo.org
SUMMARY:Gates close
DESCRIPTION:Gates close
URL:https://go.lpzoo.org/event/gates-close-3/2026-07-14/
CATEGORIES:Notice
END:VEVENT
END:VCALENDAR