BEGIN:VCALENDAR
VERSION:2.0
PRODID:-//Lincoln Park Zoo - ECPv6.15.16.1//NONSGML v1.0//EN
CALSCALE:GREGORIAN
METHOD:PUBLISH
X-ORIGINAL-URL:https://go.lpzoo.org
X-WR-CALDESC:Events for Lincoln Park Zoo
REFRESH-INTERVAL;VALUE=DURATION:PT1H
X-Robots-Tag:noindex
X-PUBLISHED-TTL:PT1H
BEGIN:VTIMEZONE
TZID:America/Chicago
BEGIN:DAYLIGHT
TZOFFSETFROM:-0600
TZOFFSETTO:-0500
TZNAME:CDT
DTSTART:20250309T080000
END:DAYLIGHT
BEGIN:STANDARD
TZOFFSETFROM:-0500
TZOFFSETTO:-0600
TZNAME:CST
DTSTART:20251102T070000
END:STANDARD
BEGIN:DAYLIGHT
TZOFFSETFROM:-0600
TZOFFSETTO:-0500
TZNAME:CDT
DTSTART:20260308T080000
END:DAYLIGHT
BEGIN:STANDARD
TZOFFSETFROM:-0500
TZOFFSETTO:-0600
TZNAME:CST
DTSTART:20261101T070000
END:STANDARD
BEGIN:DAYLIGHT
TZOFFSETFROM:-0600
TZOFFSETTO:-0500
TZNAME:CDT
DTSTART:20270314T080000
END:DAYLIGHT
BEGIN:STANDARD
TZOFFSETFROM:-0500
TZOFFSETTO:-0600
TZNAME:CST
DTSTART:20271107T070000
END:STANDARD
END:VTIMEZONE
BEGIN:VEVENT
DTSTART;TZID=America/Chicago:20260219T163000
DTEND;TZID=America/Chicago:20260219T163000
DTSTAMP:20260419T154114
CREATED:20251119T223059Z
LAST-MODIFIED:20260105T155201Z
UID:10040302-1771518600-1771518600@go.lpzoo.org
SUMMARY:Buildings and Farm-in-the-Zoo close
DESCRIPTION:Buildings and Farm-in-the-Zoo close.
URL:https://go.lpzoo.org/event/buildings-and-farm-in-the-zoo-close-2/2026-02-19/
CATEGORIES:Notice
END:VEVENT
BEGIN:VEVENT
DTSTART;TZID=America/Chicago:20260219T170000
DTEND;TZID=America/Chicago:20260219T170000
DTSTAMP:20260419T154114
CREATED:20251119T223141Z
LAST-MODIFIED:20260105T155117Z
UID:10038429-1771520400-1771520400@go.lpzoo.org
SUMMARY:Gates close
DESCRIPTION:Gates close
URL:https://go.lpzoo.org/event/gates-close-3/2026-02-19/
CATEGORIES:Notice
END:VEVENT
BEGIN:VEVENT
DTSTART;TZID=America/Chicago:20260220T100000
DTEND;TZID=America/Chicago:20260220T103000
DTSTAMP:20260419T154114
CREATED:20251105T160455Z
LAST-MODIFIED:20251105T160456Z
UID:10033874-1771581600-1771583400@go.lpzoo.org
SUMMARY:Gates and Farm-in-the-Zoo Open
DESCRIPTION:Gates and Farm-in-the-Zoo Open
URL:https://go.lpzoo.org/event/gates-and-farm-in-the-zoo-open-2/2026-02-20/
CATEGORIES:Notice
END:VEVENT
BEGIN:VEVENT
DTSTART;TZID=America/Chicago:20260220T100000
DTEND;TZID=America/Chicago:20260220T223000
DTSTAMP:20260419T154114
CREATED:20250501T142454Z
LAST-MODIFIED:20250501T142454Z
UID:10000397-1771581600-1771626600@go.lpzoo.org
SUMMARY:Buildings open
DESCRIPTION:Buildings open
URL:https://go.lpzoo.org/event/gates-buildings-and-farm-in-the-zoo-open-2-2/2026-02-20/
CATEGORIES:Notice
END:VEVENT
BEGIN:VEVENT
DTSTART;TZID=America/Chicago:20260220T163000
DTEND;TZID=America/Chicago:20260220T163000
DTSTAMP:20260419T154114
CREATED:20251119T223059Z
LAST-MODIFIED:20260105T155201Z
UID:10040303-1771605000-1771605000@go.lpzoo.org
SUMMARY:Buildings and Farm-in-the-Zoo close
DESCRIPTION:Buildings and Farm-in-the-Zoo close.
URL:https://go.lpzoo.org/event/buildings-and-farm-in-the-zoo-close-2/2026-02-20/
CATEGORIES:Notice
END:VEVENT
BEGIN:VEVENT
DTSTART;TZID=America/Chicago:20260220T170000
DTEND;TZID=America/Chicago:20260220T170000
DTSTAMP:20260419T154114
CREATED:20251119T223141Z
LAST-MODIFIED:20260105T155117Z
UID:10038430-1771606800-1771606800@go.lpzoo.org
SUMMARY:Gates close
DESCRIPTION:Gates close
URL:https://go.lpzoo.org/event/gates-close-3/2026-02-20/
CATEGORIES:Notice
END:VEVENT
BEGIN:VEVENT
DTSTART;TZID=America/Chicago:20260221T100000
DTEND;TZID=America/Chicago:20260221T103000
DTSTAMP:20260419T154114
CREATED:20251105T160455Z
LAST-MODIFIED:20251105T160456Z
UID:10033875-1771668000-1771669800@go.lpzoo.org
SUMMARY:Gates and Farm-in-the-Zoo Open
DESCRIPTION:Gates and Farm-in-the-Zoo Open
URL:https://go.lpzoo.org/event/gates-and-farm-in-the-zoo-open-2/2026-02-21/
CATEGORIES:Notice
END:VEVENT
BEGIN:VEVENT
DTSTART;TZID=America/Chicago:20260221T100000
DTEND;TZID=America/Chicago:20260221T223000
DTSTAMP:20260419T154114
CREATED:20250501T142454Z
LAST-MODIFIED:20250501T142454Z
UID:10000398-1771668000-1771713000@go.lpzoo.org
SUMMARY:Buildings open
DESCRIPTION:Buildings open
URL:https://go.lpzoo.org/event/gates-buildings-and-farm-in-the-zoo-open-2-2/2026-02-21/
CATEGORIES:Notice
END:VEVENT
BEGIN:VEVENT
DTSTART;TZID=America/Chicago:20260221T163000
DTEND;TZID=America/Chicago:20260221T163000
DTSTAMP:20260419T154114
CREATED:20251119T223059Z
LAST-MODIFIED:20260105T155201Z
UID:10040304-1771691400-1771691400@go.lpzoo.org
SUMMARY:Buildings and Farm-in-the-Zoo close
DESCRIPTION:Buildings and Farm-in-the-Zoo close.
URL:https://go.lpzoo.org/event/buildings-and-farm-in-the-zoo-close-2/2026-02-21/
CATEGORIES:Notice
END:VEVENT
BEGIN:VEVENT
DTSTART;TZID=America/Chicago:20260221T170000
DTEND;TZID=America/Chicago:20260221T170000
DTSTAMP:20260419T154114
CREATED:20251119T223141Z
LAST-MODIFIED:20260105T155117Z
UID:10038431-1771693200-1771693200@go.lpzoo.org
SUMMARY:Gates close
DESCRIPTION:Gates close
URL:https://go.lpzoo.org/event/gates-close-3/2026-02-21/
CATEGORIES:Notice
END:VEVENT
BEGIN:VEVENT
DTSTART;TZID=America/Chicago:20260222T100000
DTEND;TZID=America/Chicago:20260222T103000
DTSTAMP:20260419T154114
CREATED:20251105T160455Z
LAST-MODIFIED:20251105T160456Z
UID:10033876-1771754400-1771756200@go.lpzoo.org
SUMMARY:Gates and Farm-in-the-Zoo Open
DESCRIPTION:Gates and Farm-in-the-Zoo Open
URL:https://go.lpzoo.org/event/gates-and-farm-in-the-zoo-open-2/2026-02-22/
CATEGORIES:Notice
END:VEVENT
BEGIN:VEVENT
DTSTART;TZID=America/Chicago:20260222T100000
DTEND;TZID=America/Chicago:20260222T223000
DTSTAMP:20260419T154114
CREATED:20250501T142454Z
LAST-MODIFIED:20250501T142454Z
UID:10000399-1771754400-1771799400@go.lpzoo.org
SUMMARY:Buildings open
DESCRIPTION:Buildings open
URL:https://go.lpzoo.org/event/gates-buildings-and-farm-in-the-zoo-open-2-2/2026-02-22/
CATEGORIES:Notice
END:VEVENT
BEGIN:VEVENT
DTSTART;TZID=America/Chicago:20260222T163000
DTEND;TZID=America/Chicago:20260222T163000
DTSTAMP:20260419T154114
CREATED:20251119T223059Z
LAST-MODIFIED:20260105T155201Z
UID:10040305-1771777800-1771777800@go.lpzoo.org
SUMMARY:Buildings and Farm-in-the-Zoo close
DESCRIPTION:Buildings and Farm-in-the-Zoo close.
URL:https://go.lpzoo.org/event/buildings-and-farm-in-the-zoo-close-2/2026-02-22/
CATEGORIES:Notice
END:VEVENT
BEGIN:VEVENT
DTSTART;TZID=America/Chicago:20260222T170000
DTEND;TZID=America/Chicago:20260222T170000
DTSTAMP:20260419T154114
CREATED:20251119T223141Z
LAST-MODIFIED:20260105T155117Z
UID:10038432-1771779600-1771779600@go.lpzoo.org
SUMMARY:Gates close
DESCRIPTION:Gates close
URL:https://go.lpzoo.org/event/gates-close-3/2026-02-22/
CATEGORIES:Notice
END:VEVENT
BEGIN:VEVENT
DTSTART;TZID=America/Chicago:20260223T100000
DTEND;TZID=America/Chicago:20260223T103000
DTSTAMP:20260419T154114
CREATED:20251105T160455Z
LAST-MODIFIED:20251105T160456Z
UID:10033877-1771840800-1771842600@go.lpzoo.org
SUMMARY:Gates and Farm-in-the-Zoo Open
DESCRIPTION:Gates and Farm-in-the-Zoo Open
URL:https://go.lpzoo.org/event/gates-and-farm-in-the-zoo-open-2/2026-02-23/
CATEGORIES:Notice
END:VEVENT
BEGIN:VEVENT
DTSTART;TZID=America/Chicago:20260223T100000
DTEND;TZID=America/Chicago:20260223T223000
DTSTAMP:20260419T154114
CREATED:20250501T142454Z
LAST-MODIFIED:20250501T142454Z
UID:10000400-1771840800-1771885800@go.lpzoo.org
SUMMARY:Buildings open
DESCRIPTION:Buildings open
URL:https://go.lpzoo.org/event/gates-buildings-and-farm-in-the-zoo-open-2-2/2026-02-23/
CATEGORIES:Notice
END:VEVENT
BEGIN:VEVENT
DTSTART;TZID=America/Chicago:20260223T163000
DTEND;TZID=America/Chicago:20260223T163000
DTSTAMP:20260419T154114
CREATED:20251119T223059Z
LAST-MODIFIED:20260105T155201Z
UID:10040306-1771864200-1771864200@go.lpzoo.org
SUMMARY:Buildings and Farm-in-the-Zoo close
DESCRIPTION:Buildings and Farm-in-the-Zoo close.
URL:https://go.lpzoo.org/event/buildings-and-farm-in-the-zoo-close-2/2026-02-23/
CATEGORIES:Notice
END:VEVENT
BEGIN:VEVENT
DTSTART;TZID=America/Chicago:20260223T170000
DTEND;TZID=America/Chicago:20260223T170000
DTSTAMP:20260419T154114
CREATED:20251119T223141Z
LAST-MODIFIED:20260105T155117Z
UID:10038433-1771866000-1771866000@go.lpzoo.org
SUMMARY:Gates close
DESCRIPTION:Gates close
URL:https://go.lpzoo.org/event/gates-close-3/2026-02-23/
CATEGORIES:Notice
END:VEVENT
BEGIN:VEVENT
DTSTART;TZID=America/Chicago:20260224T100000
DTEND;TZID=America/Chicago:20260224T103000
DTSTAMP:20260419T154114
CREATED:20251105T160455Z
LAST-MODIFIED:20251105T160456Z
UID:10033878-1771927200-1771929000@go.lpzoo.org
SUMMARY:Gates and Farm-in-the-Zoo Open
DESCRIPTION:Gates and Farm-in-the-Zoo Open
URL:https://go.lpzoo.org/event/gates-and-farm-in-the-zoo-open-2/2026-02-24/
CATEGORIES:Notice
END:VEVENT
BEGIN:VEVENT
DTSTART;TZID=America/Chicago:20260224T100000
DTEND;TZID=America/Chicago:20260224T223000
DTSTAMP:20260419T154114
CREATED:20250501T142454Z
LAST-MODIFIED:20250501T142454Z
UID:10000401-1771927200-1771972200@go.lpzoo.org
SUMMARY:Buildings open
DESCRIPTION:Buildings open
URL:https://go.lpzoo.org/event/gates-buildings-and-farm-in-the-zoo-open-2-2/2026-02-24/
CATEGORIES:Notice
END:VEVENT
BEGIN:VEVENT
DTSTART;TZID=America/Chicago:20260224T163000
DTEND;TZID=America/Chicago:20260224T163000
DTSTAMP:20260419T154114
CREATED:20251119T223059Z
LAST-MODIFIED:20260105T155201Z
UID:10040307-1771950600-1771950600@go.lpzoo.org
SUMMARY:Buildings and Farm-in-the-Zoo close
DESCRIPTION:Buildings and Farm-in-the-Zoo close.
URL:https://go.lpzoo.org/event/buildings-and-farm-in-the-zoo-close-2/2026-02-24/
CATEGORIES:Notice
END:VEVENT
BEGIN:VEVENT
DTSTART;TZID=America/Chicago:20260224T170000
DTEND;TZID=America/Chicago:20260224T170000
DTSTAMP:20260419T154114
CREATED:20251119T223141Z
LAST-MODIFIED:20260105T155117Z
UID:10038434-1771952400-1771952400@go.lpzoo.org
SUMMARY:Gates close
DESCRIPTION:Gates close
URL:https://go.lpzoo.org/event/gates-close-3/2026-02-24/
CATEGORIES:Notice
END:VEVENT
BEGIN:VEVENT
DTSTART;TZID=America/Chicago:20260225T100000
DTEND;TZID=America/Chicago:20260225T103000
DTSTAMP:20260419T154114
CREATED:20251105T160455Z
LAST-MODIFIED:20251105T160456Z
UID:10033879-1772013600-1772015400@go.lpzoo.org
SUMMARY:Gates and Farm-in-the-Zoo Open
DESCRIPTION:Gates and Farm-in-the-Zoo Open
URL:https://go.lpzoo.org/event/gates-and-farm-in-the-zoo-open-2/2026-02-25/
CATEGORIES:Notice
END:VEVENT
BEGIN:VEVENT
DTSTART;TZID=America/Chicago:20260225T100000
DTEND;TZID=America/Chicago:20260225T223000
DTSTAMP:20260419T154114
CREATED:20250501T142454Z
LAST-MODIFIED:20250501T142454Z
UID:10000402-1772013600-1772058600@go.lpzoo.org
SUMMARY:Buildings open
DESCRIPTION:Buildings open
URL:https://go.lpzoo.org/event/gates-buildings-and-farm-in-the-zoo-open-2-2/2026-02-25/
CATEGORIES:Notice
END:VEVENT
BEGIN:VEVENT
DTSTART;TZID=America/Chicago:20260225T163000
DTEND;TZID=America/Chicago:20260225T163000
DTSTAMP:20260419T154114
CREATED:20251119T223059Z
LAST-MODIFIED:20260105T155201Z
UID:10040308-1772037000-1772037000@go.lpzoo.org
SUMMARY:Buildings and Farm-in-the-Zoo close
DESCRIPTION:Buildings and Farm-in-the-Zoo close.
URL:https://go.lpzoo.org/event/buildings-and-farm-in-the-zoo-close-2/2026-02-25/
CATEGORIES:Notice
END:VEVENT
BEGIN:VEVENT
DTSTART;TZID=America/Chicago:20260225T170000
DTEND;TZID=America/Chicago:20260225T170000
DTSTAMP:20260419T154114
CREATED:20251119T223141Z
LAST-MODIFIED:20260105T155117Z
UID:10038435-1772038800-1772038800@go.lpzoo.org
SUMMARY:Gates close
DESCRIPTION:Gates close
URL:https://go.lpzoo.org/event/gates-close-3/2026-02-25/
CATEGORIES:Notice
END:VEVENT
BEGIN:VEVENT
DTSTART;TZID=America/Chicago:20260226T100000
DTEND;TZID=America/Chicago:20260226T103000
DTSTAMP:20260419T154114
CREATED:20251105T160455Z
LAST-MODIFIED:20251105T160456Z
UID:10033880-1772100000-1772101800@go.lpzoo.org
SUMMARY:Gates and Farm-in-the-Zoo Open
DESCRIPTION:Gates and Farm-in-the-Zoo Open
URL:https://go.lpzoo.org/event/gates-and-farm-in-the-zoo-open-2/2026-02-26/
CATEGORIES:Notice
END:VEVENT
BEGIN:VEVENT
DTSTART;TZID=America/Chicago:20260226T100000
DTEND;TZID=America/Chicago:20260226T223000
DTSTAMP:20260419T154114
CREATED:20250501T142454Z
LAST-MODIFIED:20250501T142454Z
UID:10000403-1772100000-1772145000@go.lpzoo.org
SUMMARY:Buildings open
DESCRIPTION:Buildings open
URL:https://go.lpzoo.org/event/gates-buildings-and-farm-in-the-zoo-open-2-2/2026-02-26/
CATEGORIES:Notice
END:VEVENT
BEGIN:VEVENT
DTSTART;TZID=America/Chicago:20260226T163000
DTEND;TZID=America/Chicago:20260226T163000
DTSTAMP:20260419T154114
CREATED:20251119T223059Z
LAST-MODIFIED:20260105T155201Z
UID:10040309-1772123400-1772123400@go.lpzoo.org
SUMMARY:Buildings and Farm-in-the-Zoo close
DESCRIPTION:Buildings and Farm-in-the-Zoo close.
URL:https://go.lpzoo.org/event/buildings-and-farm-in-the-zoo-close-2/2026-02-26/
CATEGORIES:Notice
END:VEVENT
BEGIN:VEVENT
DTSTART;TZID=America/Chicago:20260226T170000
DTEND;TZID=America/Chicago:20260226T170000
DTSTAMP:20260419T154114
CREATED:20251119T223141Z
LAST-MODIFIED:20260105T155117Z
UID:10038436-1772125200-1772125200@go.lpzoo.org
SUMMARY:Gates close
DESCRIPTION:Gates close
URL:https://go.lpzoo.org/event/gates-close-3/2026-02-26/
CATEGORIES:Notice
END:VEVENT
END:VCALENDAR