BEGIN:VCALENDAR
VERSION:2.0
PRODID:-//Lincoln Park Zoo - ECPv6.15.16.1//NONSGML v1.0//EN
CALSCALE:GREGORIAN
METHOD:PUBLISH
X-WR-CALNAME:Lincoln Park Zoo
X-ORIGINAL-URL:https://go.lpzoo.org
X-WR-CALDESC:Events for Lincoln Park Zoo
REFRESH-INTERVAL;VALUE=DURATION:PT1H
X-Robots-Tag:noindex
X-PUBLISHED-TTL:PT1H
BEGIN:VTIMEZONE
TZID:America/Chicago
BEGIN:DAYLIGHT
TZOFFSETFROM:-0600
TZOFFSETTO:-0500
TZNAME:CDT
DTSTART:20250309T080000
END:DAYLIGHT
BEGIN:STANDARD
TZOFFSETFROM:-0500
TZOFFSETTO:-0600
TZNAME:CST
DTSTART:20251102T070000
END:STANDARD
BEGIN:DAYLIGHT
TZOFFSETFROM:-0600
TZOFFSETTO:-0500
TZNAME:CDT
DTSTART:20260308T080000
END:DAYLIGHT
BEGIN:STANDARD
TZOFFSETFROM:-0500
TZOFFSETTO:-0600
TZNAME:CST
DTSTART:20261101T070000
END:STANDARD
BEGIN:DAYLIGHT
TZOFFSETFROM:-0600
TZOFFSETTO:-0500
TZNAME:CDT
DTSTART:20270314T080000
END:DAYLIGHT
BEGIN:STANDARD
TZOFFSETFROM:-0500
TZOFFSETTO:-0600
TZNAME:CST
DTSTART:20271107T070000
END:STANDARD
END:VTIMEZONE
BEGIN:VEVENT
DTSTART;TZID=America/Chicago:20260423T100000
DTEND;TZID=America/Chicago:20260423T103000
DTSTAMP:20260423T165735
CREATED:20251105T160455Z
LAST-MODIFIED:20251105T160456Z
UID:10033936-1776938400-1776940200@go.lpzoo.org
SUMMARY:Gates and Farm-in-the-Zoo Open
DESCRIPTION:Gates and Farm-in-the-Zoo Open
URL:https://go.lpzoo.org/event/gates-and-farm-in-the-zoo-open-2/2026-04-23/
CATEGORIES:Notice
END:VEVENT
BEGIN:VEVENT
DTSTART;TZID=America/Chicago:20260423T100000
DTEND;TZID=America/Chicago:20260423T170000
DTSTAMP:20260423T165735
CREATED:20260417T012509Z
LAST-MODIFIED:20260417T015406Z
UID:10042934-1776938400-1776963600@go.lpzoo.org
SUMMARY:LRS Recycling Systems Scavenger Hunt and Animal Trivia
DESCRIPTION:
URL:https://go.lpzoo.org/event/lrs-recycling-systems-scavenger-hunt-and-animal-trivia/2026-04-23/
ATTACH;FMTTYPE=image/png:https://go.lpzoo.org/wp-content/uploads/2026/04/Earth-week-800x533-1.png
END:VEVENT
BEGIN:VEVENT
DTSTART;TZID=America/Chicago:20260423T100000
DTEND;TZID=America/Chicago:20260423T223000
DTSTAMP:20260423T165735
CREATED:20250501T142454Z
LAST-MODIFIED:20250501T142454Z
UID:10000459-1776938400-1776983400@go.lpzoo.org
SUMMARY:Buildings open
DESCRIPTION:Buildings open
URL:https://go.lpzoo.org/event/gates-buildings-and-farm-in-the-zoo-open-2-2/2026-04-23/
CATEGORIES:Notice
END:VEVENT
BEGIN:VEVENT
DTSTART;TZID=America/Chicago:20260423T113000
DTEND;TZID=America/Chicago:20260423T234000
DTSTAMP:20260423T165735
CREATED:20250125T035626Z
LAST-MODIFIED:20260126T152259Z
UID:10008324-1776943800-1776987600@go.lpzoo.org
SUMMARY:Seal Training and Feeding
DESCRIPTION:
URL:https://go.lpzoo.org/event/seal-training-and-feeding-2/2026-04-23/
ATTACH;FMTTYPE=image/jpeg:https://go.lpzoo.org/wp-content/uploads/2025/01/grey_seal_s1_800x450.jpg
END:VEVENT
BEGIN:VEVENT
DTSTART;TZID=America/Chicago:20260423T114500
DTEND;TZID=America/Chicago:20260423T120000
DTSTAMP:20260423T165735
CREATED:20251103T201241Z
LAST-MODIFIED:20260318T153805Z
UID:10032587-1776944700-1776945600@go.lpzoo.org
SUMMARY:Monkey Cognition 
DESCRIPTION:
URL:https://go.lpzoo.org/event/monkey-cognition-2/2026-04-23/
ATTACH;FMTTYPE=image/jpeg:https://go.lpzoo.org/wp-content/uploads/2025/04/Macacque-800x300-1.jpg
END:VEVENT
BEGIN:VEVENT
DTSTART;TZID=America/Chicago:20260423T140000
DTEND;TZID=America/Chicago:20260423T140000
DTSTAMP:20260423T165735
CREATED:20260417T005447Z
LAST-MODIFIED:20260417T005447Z
UID:10040587-1776952800-1776952800@go.lpzoo.org
SUMMARY:Penguin Feeding
DESCRIPTION:
URL:https://go.lpzoo.org/event/penguin-feeding/2026-04-23/
ATTACH;FMTTYPE=image/jpeg:https://go.lpzoo.org/wp-content/uploads/2024/03/african_penguin_m_800x200.jpg
END:VEVENT
BEGIN:VEVENT
DTSTART;TZID=America/Chicago:20260423T143000
DTEND;TZID=America/Chicago:20260423T144000
DTSTAMP:20260423T165735
CREATED:20250305T201420Z
LAST-MODIFIED:20260129T214512Z
UID:10012058-1776954600-1776955200@go.lpzoo.org
SUMMARY:Seal Training and Feeding
DESCRIPTION:
URL:https://go.lpzoo.org/event/seal-training-and-feeding/2026-04-23/
ATTACH;FMTTYPE=image/jpeg:https://go.lpzoo.org/wp-content/uploads/2025/01/grey_seal_s1_800x450.jpg
END:VEVENT
BEGIN:VEVENT
DTSTART;TZID=America/Chicago:20260423T163000
DTEND;TZID=America/Chicago:20260423T163000
DTSTAMP:20260423T165735
CREATED:20251119T223059Z
LAST-MODIFIED:20260105T155201Z
UID:10040365-1776961800-1776961800@go.lpzoo.org
SUMMARY:Buildings and Farm-in-the-Zoo close
DESCRIPTION:Buildings and Farm-in-the-Zoo close.
URL:https://go.lpzoo.org/event/buildings-and-farm-in-the-zoo-close-2/2026-04-23/
CATEGORIES:Notice
END:VEVENT
BEGIN:VEVENT
DTSTART;TZID=America/Chicago:20260423T170000
DTEND;TZID=America/Chicago:20260423T170000
DTSTAMP:20260423T165735
CREATED:20251119T223141Z
LAST-MODIFIED:20260105T155117Z
UID:10038492-1776963600-1776963600@go.lpzoo.org
SUMMARY:Gates close
DESCRIPTION:Gates close
URL:https://go.lpzoo.org/event/gates-close-3/2026-04-23/
CATEGORIES:Notice
END:VEVENT
END:VCALENDAR