BEGIN:VCALENDAR
VERSION:2.0
PRODID:-//Lincoln Park Zoo - ECPv6.15.16.1//NONSGML v1.0//EN
CALSCALE:GREGORIAN
METHOD:PUBLISH
X-ORIGINAL-URL:https://go.lpzoo.org
X-WR-CALDESC:Events for Lincoln Park Zoo
REFRESH-INTERVAL;VALUE=DURATION:PT1H
X-Robots-Tag:noindex
X-PUBLISHED-TTL:PT1H
BEGIN:VTIMEZONE
TZID:America/Chicago
BEGIN:DAYLIGHT
TZOFFSETFROM:-0600
TZOFFSETTO:-0500
TZNAME:CDT
DTSTART:20250309T080000
END:DAYLIGHT
BEGIN:STANDARD
TZOFFSETFROM:-0500
TZOFFSETTO:-0600
TZNAME:CST
DTSTART:20251102T070000
END:STANDARD
BEGIN:DAYLIGHT
TZOFFSETFROM:-0600
TZOFFSETTO:-0500
TZNAME:CDT
DTSTART:20260308T080000
END:DAYLIGHT
BEGIN:STANDARD
TZOFFSETFROM:-0500
TZOFFSETTO:-0600
TZNAME:CST
DTSTART:20261101T070000
END:STANDARD
BEGIN:DAYLIGHT
TZOFFSETFROM:-0600
TZOFFSETTO:-0500
TZNAME:CDT
DTSTART:20270314T080000
END:DAYLIGHT
BEGIN:STANDARD
TZOFFSETFROM:-0500
TZOFFSETTO:-0600
TZNAME:CST
DTSTART:20271107T070000
END:STANDARD
END:VTIMEZONE
BEGIN:VEVENT
DTSTART;TZID=America/Chicago:20260312T100000
DTEND;TZID=America/Chicago:20260312T103000
DTSTAMP:20260420T085918
CREATED:20251105T160455Z
LAST-MODIFIED:20251105T160456Z
UID:10033894-1773309600-1773311400@go.lpzoo.org
SUMMARY:Gates and Farm-in-the-Zoo Open
DESCRIPTION:Gates and Farm-in-the-Zoo Open
URL:https://go.lpzoo.org/event/gates-and-farm-in-the-zoo-open-2/2026-03-12/
CATEGORIES:Notice
END:VEVENT
BEGIN:VEVENT
DTSTART;TZID=America/Chicago:20260312T100000
DTEND;TZID=America/Chicago:20260312T223000
DTSTAMP:20260420T085918
CREATED:20250501T142454Z
LAST-MODIFIED:20250501T142454Z
UID:10000417-1773309600-1773354600@go.lpzoo.org
SUMMARY:Buildings open
DESCRIPTION:Buildings open
URL:https://go.lpzoo.org/event/gates-buildings-and-farm-in-the-zoo-open-2-2/2026-03-12/
CATEGORIES:Notice
END:VEVENT
BEGIN:VEVENT
DTSTART;TZID=America/Chicago:20260312T113000
DTEND;TZID=America/Chicago:20260312T234000
DTSTAMP:20260420T085918
CREATED:20250125T035626Z
LAST-MODIFIED:20260126T152259Z
UID:10008282-1773315000-1773358800@go.lpzoo.org
SUMMARY:Seal Training and Feeding
DESCRIPTION:
URL:https://go.lpzoo.org/event/seal-training-and-feeding-2/2026-03-12/
ATTACH;FMTTYPE=image/jpeg:https://go.lpzoo.org/wp-content/uploads/2025/01/grey_seal_s1_800x450.jpg
END:VEVENT
BEGIN:VEVENT
DTSTART;TZID=America/Chicago:20260312T114500
DTEND;TZID=America/Chicago:20260312T120000
DTSTAMP:20260420T085918
CREATED:20251103T201241Z
LAST-MODIFIED:20260318T153805Z
UID:10032557-1773315900-1773316800@go.lpzoo.org
SUMMARY:Monkey Cognition 
DESCRIPTION:
URL:https://go.lpzoo.org/event/monkey-cognition-2/2026-03-12/
ATTACH;FMTTYPE=image/jpeg:https://go.lpzoo.org/wp-content/uploads/2025/04/Macacque-800x300-1.jpg
END:VEVENT
BEGIN:VEVENT
DTSTART;TZID=America/Chicago:20260312T130000
DTEND;TZID=America/Chicago:20260312T131000
DTSTAMP:20260420T085918
CREATED:20250305T204001Z
LAST-MODIFIED:20260129T214312Z
UID:10013859-1773320400-1773321000@go.lpzoo.org
SUMMARY:Ape Cognition & Care
DESCRIPTION:
URL:https://go.lpzoo.org/event/ape-cognition-care/2026-03-12/
ATTACH;FMTTYPE=image/png:https://go.lpzoo.org/wp-content/uploads/2025/03/Chimp-photo-800x300-1.png
END:VEVENT
BEGIN:VEVENT
DTSTART;TZID=America/Chicago:20260312T143000
DTEND;TZID=America/Chicago:20260312T144000
DTSTAMP:20260420T085918
CREATED:20250305T201420Z
LAST-MODIFIED:20260129T214512Z
UID:10012016-1773325800-1773326400@go.lpzoo.org
SUMMARY:Seal Training and Feeding
DESCRIPTION:
URL:https://go.lpzoo.org/event/seal-training-and-feeding/2026-03-12/
ATTACH;FMTTYPE=image/jpeg:https://go.lpzoo.org/wp-content/uploads/2025/01/grey_seal_s1_800x450.jpg
END:VEVENT
BEGIN:VEVENT
DTSTART;TZID=America/Chicago:20260312T163000
DTEND;TZID=America/Chicago:20260312T163000
DTSTAMP:20260420T085918
CREATED:20251119T223059Z
LAST-MODIFIED:20260105T155201Z
UID:10040323-1773333000-1773333000@go.lpzoo.org
SUMMARY:Buildings and Farm-in-the-Zoo close
DESCRIPTION:Buildings and Farm-in-the-Zoo close.
URL:https://go.lpzoo.org/event/buildings-and-farm-in-the-zoo-close-2/2026-03-12/
CATEGORIES:Notice
END:VEVENT
BEGIN:VEVENT
DTSTART;TZID=America/Chicago:20260312T170000
DTEND;TZID=America/Chicago:20260312T170000
DTSTAMP:20260420T085918
CREATED:20251119T223141Z
LAST-MODIFIED:20260105T155117Z
UID:10038450-1773334800-1773334800@go.lpzoo.org
SUMMARY:Gates close
DESCRIPTION:Gates close
URL:https://go.lpzoo.org/event/gates-close-3/2026-03-12/
CATEGORIES:Notice
END:VEVENT
END:VCALENDAR